BEGIN:VCALENDAR
VERSION:2.0
PRODID:-//Patriot Guard Riders - ECPv5.3.2.1//NONSGML v1.0//EN
CALSCALE:GREGORIAN
METHOD:PUBLISH
X-WR-CALNAME:Patriot Guard Riders
X-ORIGINAL-URL:https://www.patriotguard.org
X-WR-CALDESC:Events for Patriot Guard Riders
BEGIN:VTIMEZONE
TZID:America/New_York
BEGIN:DAYLIGHT
TZOFFSETFROM:-0500
TZOFFSETTO:-0400
TZNAME:EDT
DTSTART:20170312T070000
END:DAYLIGHT
BEGIN:STANDARD
TZOFFSETFROM:-0400
TZOFFSETTO:-0500
TZNAME:EST
DTSTART:20171105T060000
END:STANDARD
END:VTIMEZONE
BEGIN:VEVENT
DTSTART;TZID=America/New_York:20170316T100000
DTEND;TZID=America/New_York:20170316T120000
DTSTAMP:20210403T065654
CREATED:20170316T140000Z
LAST-MODIFIED:20191201T043913Z
UID:370699-1489658400-1489665600@www.patriotguard.org
SUMMARY:State Mission Request for 16 Mar 2017 from Mississippi - James David Summers
DESCRIPTION:Submitted by:\nMember Name:   Don McKibben\nPosition:   State Captain\nCity\, State:   Pontotoc\, Mississippi\nUser Name:   Don McKibben\nEmail:   dmckibben@wildblue.net\n \nEmail Subject Line Setup\n\nPrefix to Use – Honor\nSubject Line – SHORT NOTICE –  James David Summers \, Veteran\, USA – Vietnam\,  Fulton\, Mississippi  – 16 Mar 2017\n\n\nSHORT NOTICE!\nSTATEWIDE REQUIRED!\n\n\n\n\n \n\nMod Instructions:\nPlease post and send statewide in MS (Mississippi)\n\n++++++++ Copy the Information above this line++++++++++\n\n \nHonor Mission\n\n*** DO NOT REPLY *** \nThis is an automated message sent to you because you have subscribed to this State’s Mission thread. For current details on this mission\, please follow the link below. \nJames David Summers\, Veteran \nUSA  – Vietnam\nFulton\, Mississippi – 16 Mar 2017\n \n\n\nABOUT THE MISSION:\nThe State of Mississippi has lost another Vietnam Veteran\, James David “Yellow Bird” Summers has passed away\, his family has requested the PATRIOT GUARD RIDERS help honor and pay respect to him for his service to our country.\nMr. Summers honorably and proudly served in the US Army with service in Germany and Vietnam. His many awards and citations include the NATIONAL DEFENSE SERVICE MEDAL\, 4 OVERSEAS SERVICE BARS\, SHARPSHOOTER BADGE\, M-14\, the VIETNAM SERVICE MEDAL and the VIETNAM CAMPAIGN MEDAL. \nUS Flags will be mounted in honor of Mr. Summers at SENTER FUNERAL HOME; 707 S Adams St.; Fulton\, MS 38843 for visitation on Wednesday 15 March 2017 from 5:00 PM until 8:00 PM.\n\nPRIMARY STAGING DETAILS:  16 Mar 2017\n\nPrimary Staging Time:  10:00 A.M.\nSenter Funeral Home\n707 S Adams St.\nFulton\, Mississippi – 38843\n  \n\nRide Captain:\nMicki Brown\nNE MS Senior Ride Captain\n662.213.7755\n\nSpecial Instructions:\nThursday 16 March 2017 at 10:00 AM at the funeral home\, the PGR will provide a silent US Flag line until the beginning of the funeral service at 11:00 AM. \nESCORT:  Immediately following the funeral service the PGR will escort Mr. Summers to WHITE CHURCH CEMETERY and provide a silent US Flag line for the graveside service. \n\nNOTE:  The escort distance is approximately 3 miles\, large motorcycle mounted US Flags are encouraged.\nPlease join with us as we STAND FOR ONE WHO STOOD FOR US !\n\nFlags & Water:\nFlags Will Be Provided\nIf you have large bike flags\, please bring them.\nWater will be provided. \nSubmitted By:  Don McKibben\nPosition:  State Captain \n\nNote:\nYou do not have to own/ride a motorcycle or be a Veteran to join and membership is Free. The only requirement is RESPECT! To join\, simply go to Patriot Guard website and click on Register. Membership is Free. \nTo subscribe to receive mission notices\, log into the National Site and click on the Mission Tab at the top. Select Upcoming Missions by State. Scroll to the state(s) you would like to receive notices for and click on the green check mark. Detailed instructions are also located in the FAQs on the site by clicking on the Quick Links Tab and selecting FAQs.
URL:https://www.patriotguard.org/mission/state-mission-request-for-16-mar-2017-from-mississippi-james-david-summers/
LOCATION:COL Lloyd R. Cain
CATEGORIES:Archive
END:VEVENT
END:VCALENDAR