BEGIN:VCALENDAR
VERSION:2.0
PRODID:-//Patriot Guard Riders - ECPv5.3.2.1//NONSGML v1.0//EN
CALSCALE:GREGORIAN
METHOD:PUBLISH
X-WR-CALNAME:Patriot Guard Riders
X-ORIGINAL-URL:https://www.patriotguard.org
X-WR-CALDESC:Events for Patriot Guard Riders
BEGIN:VTIMEZONE
TZID:America/New_York
BEGIN:DAYLIGHT
TZOFFSETFROM:-0500
TZOFFSETTO:-0400
TZNAME:EDT
DTSTART:20170312T070000
END:DAYLIGHT
BEGIN:STANDARD
TZOFFSETFROM:-0400
TZOFFSETTO:-0500
TZNAME:EST
DTSTART:20171105T060000
END:STANDARD
END:VTIMEZONE
BEGIN:VEVENT
DTSTART;TZID=America/New_York:20170215T203000
DTEND;TZID=America/New_York:20170215T223000
DTSTAMP:20210404T154231
CREATED:20170216T013000Z
LAST-MODIFIED:20191201T044239Z
UID:372520-1487190600-1487197800@www.patriotguard.org
SUMMARY:State Mission Request for 15 Feb 2017 from Illinois - Ruben Mohr
DESCRIPTION:Submitted by:\nMember Name:   David Gier\nPosition:   Ride Captain\nCity\, State:   Crestwood\, Illinois\nUser Name:   Bike Dave\nEmail:   davidbgier@sbcglobal.net\n \nEmail Subject Line Setup\n\nPrefix to Use – Honor\nSubject Line –   Ruben Mohr \, Veteran\, USMC – WWII\,  Mattoon\, Illinois  – 15 Feb 2017\n\n\n\n\n\n\n\n\n \n\nMod Instructions:\nplease post\n\n++++++++ Copy the Information above this line++++++++++\n\n \nHonor Mission\n\n*** DO NOT REPLY *** \nThis is an automated message sent to you because you have subscribed to this State’s Mission thread. For current details on this mission\, please follow the link below. \nRuben Mohr\, Veteran \nUSMC  – WWII\nMattoon\, Illinois – 15 Feb 2017\n \n\n\nABOUT THE MISSION:\nThe family of Ruben Mohr has invited the Patriot Guard to join them as they honor Ruben’s Life and service to this country.  Private First Class Mohr served in the U.S.M.C. and was dispatched to Pearl Harbor Hawaii five days after the bombing to assist with security during the salvage operations of the ships that were damaged or sunk.  Let’s give this Marine his final salute that he is deserving of.\n\nPRIMARY STAGING DETAILS:  15 Feb 2017\n\nPrimary Staging Time:  8:30 P.M.\nSchilling Funeral Home\,\n1301 Charleston Ave.\nMattoon\, Illinois – 61938\n  \n\nRide Captain:\nR.C. Jon Beck\n(217) 278-0832\nSupport   Bill Jones\n(217) 840-7310\n\nSpecial Instructions:\n\n\nFlags & Water:\nFlags Will Be Provided\nLarge Bike Flags will NOT be needed.\nWater WILL NOT be provided\, please bring your own. \nSubmitted By:  David Gier\nPosition:  Ride Captain \n\nNote:\nYou do not have to own/ride a motorcycle or be a Veteran to join and membership is Free. The only requirement is RESPECT! To join\, simply go to Patriot Guard website and click on Register. Membership is Free. \nTo subscribe to receive mission notices\, log into the National Site and click on the Mission Tab at the top. Select Upcoming Missions by State. Scroll to the state(s) you would like to receive notices for and click on the green check mark. Detailed instructions are also located in the FAQs on the site by clicking on the Quick Links Tab and selecting FAQs.
URL:https://www.patriotguard.org/mission/state-mission-request-for-15-feb-2017-from-illinois-ruben-mohr/
CATEGORIES:Archive
END:VEVENT
END:VCALENDAR