BEGIN:VCALENDAR
VERSION:2.0
PRODID:-//Patriot Guard Riders - ECPv5.3.2.1//NONSGML v1.0//EN
CALSCALE:GREGORIAN
METHOD:PUBLISH
X-WR-CALNAME:Patriot Guard Riders
X-ORIGINAL-URL:https://www.patriotguard.org
X-WR-CALDESC:Events for Patriot Guard Riders
BEGIN:VTIMEZONE
TZID:America/New_York
BEGIN:DAYLIGHT
TZOFFSETFROM:-0500
TZOFFSETTO:-0400
TZNAME:EDT
DTSTART:20170312T070000
END:DAYLIGHT
BEGIN:STANDARD
TZOFFSETFROM:-0400
TZOFFSETTO:-0500
TZNAME:EST
DTSTART:20171105T060000
END:STANDARD
END:VTIMEZONE
BEGIN:VEVENT
DTSTART;TZID=America/New_York:20170815T103000
DTEND;TZID=America/New_York:20170815T123000
DTSTAMP:20210406T022730
CREATED:20170815T143000Z
LAST-MODIFIED:20191201T042006Z
UID:361249-1502793000-1502800200@www.patriotguard.org
SUMMARY:State Mission Request for 15 Aug 2017 from Illinois - AM2 Joseph Karl Menway
DESCRIPTION:Submitted by:\nMember Name:   David Gier\nPosition:   Ride Captain\nCity\, State:   Crestwood\, Illinois\nUser Name:   Bike Dave\nEmail:   davidbgier@sbcglobal.net\n \nEmail Subject Line Setup\n\nPrefix to Use – Honor\nSubject Line –   AM2 Joseph Karl Menway \, Veteran\, USN – WWII\,  Elwood\, Illinois  – 15 Aug 2017\n\n\n\n\n\n\n\n\n \n\nMod Instructions:\nthank\n\n++++++++ Copy the Information above this line++++++++++\n\n \nHonor Mission\n\n*** DO NOT REPLY *** \nThis is an automated message sent to you because you have subscribed to this State’s Mission thread. For current details on this mission\, please follow the link below. \nAM2 Joseph Karl Menway\, Veteran \nUSN  – WWII\nElwood\, Illinois – 15 Aug 2017\n \n\n\nABOUT THE MISSION:\nAviation Machinists Mate Second Class Menway proudly served our country during World War Two in The South Pacific Theater.\nJoseph’s family has requested the presence of The Patriot Guard along with The US Navy to honor him during his burial.\n\nPRIMARY STAGING DETAILS:  15 Aug 2017\n\nPrimary Staging Time:  10:30 A.M.\nALNC\n20953 Hoff Rd\nElwood\, Illinois –\n  \n\nRide Captain:\nSRC: bigDave 312 405-2692\n\nSpecial Instructions:\n\n\nFlags & Water:\nFlags Will Be Provided\nIf you have large bike flags\, please bring them.\nWater WILL NOT be provided\, please bring your own. \nSubmitted By:  David Gier\nPosition:  Ride Captain \n\nNote:\nYou do not have to own/ride a motorcycle or be a Veteran to join and membership is Free. The only requirement is RESPECT! To join\, simply go to www.PatriotGuard.org and click on Register. Membership is Free. \nTo subscribe to receive mission notices\, log into the National Site and click on the Mission Tab at the top. Select Upcoming Missions by State. Scroll to the state(s) you would like to receive notices for and click on the green check mark. Detailed instructions are also located in the FAQs on the site by clicking on the Quick Links Tab and selecting FAQs.
URL:https://www.patriotguard.org/mission/state-mission-request-for-15-aug-2017-from-illinois-am2-joseph-karl-menway/
CATEGORIES:Archive
END:VEVENT
END:VCALENDAR