BEGIN:VCALENDAR
VERSION:2.0
PRODID:-//Patriot Guard Riders - ECPv5.3.2.1//NONSGML v1.0//EN
CALSCALE:GREGORIAN
METHOD:PUBLISH
X-WR-CALNAME:Patriot Guard Riders
X-ORIGINAL-URL:https://www.patriotguard.org
X-WR-CALDESC:Events for Patriot Guard Riders
BEGIN:VTIMEZONE
TZID:America/New_York
BEGIN:DAYLIGHT
TZOFFSETFROM:-0500
TZOFFSETTO:-0400
TZNAME:EDT
DTSTART:20170312T070000
END:DAYLIGHT
BEGIN:STANDARD
TZOFFSETFROM:-0400
TZOFFSETTO:-0500
TZNAME:EST
DTSTART:20171105T060000
END:STANDARD
END:VTIMEZONE
BEGIN:VEVENT
DTSTART;TZID=America/New_York:20171014T053000
DTEND;TZID=America/New_York:20171014T073000
DTSTAMP:20210404T191103
CREATED:20171014T093000Z
LAST-MODIFIED:20191201T041203Z
UID:357074-1507959000-1507966200@www.patriotguard.org
SUMMARY:State Mission Request for 14 Oct 2017 from New York - Patriot Flight Honor Flight
DESCRIPTION:Submitted by: \n\nMember Name: Ray Sestak\nPosition: Ride Captain\nCity\, State: Glenmont\, New York\nUser Name: PGRNYMods\nEmail: pgrnymod@gmail.com\n\nEmail Subject Line Setup\n[HR][/HR]Prefix to Use – HOTH\nSubject Line – SHORT NOTICE –  Patriot Flight Honor Flight  –  Albany\, New York  – 14 Oct 2017\n[HR][/HR] \n\nSHORT NOTICE!\n\nMod Instructions: \n\n\n++++++++ Copy the Information above this line++++++++++ \n\nHOTH Mission\n*** DO NOT REPLY ***  \nPatriot Flight Honor Flight\n\nAlbany\, New York – 14 Oct 2017\n\n\n[HR][/HR]\nABOUT THE MISSION: \n\nPatriot Flight\, a member of the national Honor Flight Network will be conducting its second flight of the year.\n\n\nPRIMARY STAGING DETAILS:  14 Oct 2017\nPrimary Staging Time: 05:30 A.M. \n\nChristian Brothers Academy\n12 Airline Drive\nAlbany\, New York – 12205\nhttps://goo.gl/maps/cpDDiwnf4et\n\n\nRide Captain: \n\nRay Sestak\nrayspgrny@gmail.com\n(518)669-3358\n\n\nSpecial Instructions: \n\nPGR members to form flag line for the arrival of veterans and guardians. Loading of buses to begin at 06:45\, followed by motorized escort to Albany International Airport.\n\n\nFlags & Water: \n\nFlags Will NOT Be Provided\, Please Bring Your Own.\nIf you have large bike flags\, please bring them.\nWater WILL NOT be provided\, please bring your own.\n\n[HR][/HR]STAGING #2 DETAILS: 14 Oct\, 2017\nStaging #2 Time: 06:30 A.M. \n\nAlbany International Airport\nAlbany Shaker Road\nColonie\, New York – 12110\n\n\nRide Captain: \n\nTBD\n\n\nSpecial Instructions: \n\nStaging at airport with flag line for the arrival of the veterans.\n\n\nFlags & Water: \n\nFlags Will NOT Be Provided\, Please Bring Your Own.\nLarge Bike Flags will NOT be needed\nWater WILL NOT be provided\, please bring your own.\n\n[HR][/HR]STAGING #3 DETAILS: 14 Oct\, 2017\nStaging #3 Time: 10:20 P.M. \n\nAlbany International Airport\nAlbany Shaker Road\nColonie\, New York – 12110\n\n\nRide Captain: \n\nRay Sestak\nrayspgrny@gmail.com\n(518)669-3358\n\n\nSpecial Instructions: \n\nStaging on 2nd floor for 10:55 PM arrival of return flight.\n\n\nFlags & Water: \n\nFlags Will NOT Be Provided\, Please Bring Your Own.\nLarge Bike Flags will NOT be needed\nWater WILL NOT be provided\, please bring your own.\n\nSubmitted By: Ray Sestak\nPosition: Ride Captain\n[HR][/HR]Note:\nYou do not have to own/ride a motorcycle or be a Veteran to join and membership is Free. The only requirement is RESPECT! To join\, simply go to www.PatriotGuard.org and click on Register. Membership is Free. \nTo subscribe to receive mission notices\, log into the National Site and click on the Mission Tab at the top. Select the Subscribe to Missions option.
URL:https://www.patriotguard.org/mission/state-mission-request-for-14-oct-2017-from-new-york-patriot-flight-honor-flight/
CATEGORIES:Archive
END:VEVENT
END:VCALENDAR