BEGIN:VCALENDAR
VERSION:2.0
PRODID:-//Patriot Guard Riders - ECPv5.3.2.1//NONSGML v1.0//EN
CALSCALE:GREGORIAN
METHOD:PUBLISH
X-WR-CALNAME:Patriot Guard Riders
X-ORIGINAL-URL:https://www.patriotguard.org
X-WR-CALDESC:Events for Patriot Guard Riders
BEGIN:VTIMEZONE
TZID:America/New_York
BEGIN:DAYLIGHT
TZOFFSETFROM:-0500
TZOFFSETTO:-0400
TZNAME:EDT
DTSTART:20170312T070000
END:DAYLIGHT
BEGIN:STANDARD
TZOFFSETFROM:-0400
TZOFFSETTO:-0500
TZNAME:EST
DTSTART:20171105T060000
END:STANDARD
END:VTIMEZONE
BEGIN:VEVENT
DTSTART;TZID=America/New_York:20171014T093000
DTEND;TZID=America/New_York:20171014T113000
DTSTAMP:20210405T203903
CREATED:20171014T133000Z
LAST-MODIFIED:20191201T041211Z
UID:357151-1507973400-1507980600@www.patriotguard.org
SUMMARY:State Mission Request for 14 Oct 2017 from Mississippi - Audrey "Geneo" Tatum\, Jr
DESCRIPTION:Submitted by: \n\nMember Name: Roger Barrett\nPosition: State Captain\nCity\, State: Byram\, Mississippi\nUser Name: Rogerroadranger\nEmail: rogerdbarrett123@yahoo.com\n\nEmail Subject Line Setup\n[HR][/HR]Prefix to Use – Honor\nSubject Line – SHORT NOTICE –  Audrey “Geneo” Tatum\, Jr \, Veteran\, ANG\, ARNG  –  Gloster\, Mississippi  – 14 Oct 2017\n[HR][/HR] \n\nSHORT NOTICE!\n\nMod Instructions: \n\nPost statewide Mississippi\n\n++++++++ Copy the Information above this line++++++++++ \n\nHonor Mission\n*** DO NOT REPLY ***  \nAudrey “Geneo” Tatum\, Jr\, Veteran\nANG\, ARNG\nGloster\, Mississippi – 14 Oct 2017\n\n\n[HR][/HR]\nABOUT THE MISSION: \n\nHONOR MISSION\nARNGUS/MSARNG PFC Audrey Eugene “Geneo” Tatum\, Jr. — 56\nGloster MS 39638\nSATURDAY 14 OCTOBER 2017 \nWe are sad to report the death of PFC Audrey Eugene “Geneo” Tatum\, Jr.  His family has requested the PATRIOT GUARD RIDERS to participate in his services. \nPFC Tatum proudly served in the ARNGUS/MSARNG six years as a light vehicle mechanic. \nSTAGING FOR FUNERAL/GRAVESIDE SERVICES:  9:30 am 14 October 2017 at Brown Funeral Home\, 901 MS 24 Gloster MS 39638.  The PGR will stand a silent US flag line for visitation at 10:00 a.m. until the beginning of the service at 2:00 p.m. \nImmediately following the service\, the PGR will escort PFC Tatum to the family cemetery near Gloster MS.   The PGR will stand a silent US flag line during the graveside service. \nRC Hervey Littlefield\n601-754-2061 \nRoger Barrett\nMSSC \nPLEASE JOIN US AS WE STAND FOR ONE WHO STOOD FOR US.\n \n\nPRIMARY STAGING DETAILS:  14 Oct 2017\nPrimary Staging Time: 09:30 A.M. \n\nBrown Funeral Home\n901 MS 24\nGloster\, Mississippi – 39638\n\n\nRide Captain: \n\nHervy Littlefield\n601-754-2061\n\n\nSpecial Instructions: \n\nImmediately following service PGR will escort PFC Tatum to family cemetery near Gloster MS\n\n\nFlags & Water: \n\nFlags Will Be Provided\nIf you have large bike flags\, please bring them.\nWater WILL NOT be provided\, please bring your own.\n\nSubmitted By: Roger Barrett\nPosition: State Captain\n[HR][/HR]Note:\nYou do not have to own/ride a motorcycle or be a Veteran to join and membership is Free. The only requirement is RESPECT! To join\, simply go to www.PatriotGuard.org and click on Register. Membership is Free. \nTo subscribe to receive mission notices\, log into the National Site and click on the Mission Tab at the top. Select the Subscribe to Missions option.
URL:https://www.patriotguard.org/mission/state-mission-request-for-14-oct-2017-from-mississippi-audrey-geneo-tatum-jr/
END:VEVENT
END:VCALENDAR