BEGIN:VCALENDAR
VERSION:2.0
PRODID:-//Patriot Guard Riders - ECPv5.3.2.1//NONSGML v1.0//EN
CALSCALE:GREGORIAN
METHOD:PUBLISH
X-WR-CALNAME:Patriot Guard Riders
X-ORIGINAL-URL:https://www.patriotguard.org
X-WR-CALDESC:Events for Patriot Guard Riders
BEGIN:VTIMEZONE
TZID:America/New_York
BEGIN:DAYLIGHT
TZOFFSETFROM:-0500
TZOFFSETTO:-0400
TZNAME:EDT
DTSTART:20170312T070000
END:DAYLIGHT
BEGIN:STANDARD
TZOFFSETFROM:-0400
TZOFFSETTO:-0500
TZNAME:EST
DTSTART:20171105T060000
END:STANDARD
END:VTIMEZONE
BEGIN:VEVENT
DTSTART;TZID=America/New_York:20171014T144500
DTEND;TZID=America/New_York:20171014T164500
DTSTAMP:20210405T204200
CREATED:20171014T184500Z
LAST-MODIFIED:20191201T041216Z
UID:357202-1507992300-1507999500@www.patriotguard.org
SUMMARY:State Mission Request for 14 Oct 2017 from Louisiana - George Gary Garcia
DESCRIPTION:Submitted by: \n\nMember Name: Doug Nobles\nPosition: State Captain\nCity\, State: Ponchatoula\, Louisiana\nUser Name: jdoug\nEmail: noblesdoug@gmail.com\n\nEmail Subject Line Setup\n[HR][/HR]Prefix to Use – Honor\nSubject Line – SHORT NOTICE –  George Gary Garcia \, Veteran\, USN  –  Slidell\, Louisiana  – 14 Oct 2017\n[HR][/HR] \n\nSHORT NOTICE!\n\nMod Instructions: \n\n\n++++++++ Copy the Information above this line++++++++++ \n\nHonor Mission\n*** DO NOT REPLY ***  \nGeorge Gary Garcia\, Veteran\nUSN\nSlidell\, Louisiana – 14 Oct 2017\n\n\n[HR][/HR]\nABOUT THE MISSION: \n\nThe family of George Gary Garcia has requested the Patriot Guard stand in honor of their loved one. Mr. Garcia served in the United States Navy during the Vietnam Era.\n\n\nPRIMARY STAGING DETAILS:  14 Oct 2017\nPrimary Staging Time: 2:45 P.M. \n\nTrue Life Church\n62160 Airport Road\nSlidell\, Louisiana – 70460\n\n\nRide Captain: \n\nBob Walton\nbobjenpoo@yahoo.com\n214-629-4178\n\n\nSpecial Instructions: \n\n2:45 p.m. place flags on rebar\n3:00 p.m. Visitation and flagline\n4:00 p.m. Services \nBurial will be at a later date\n \n\nFlags & Water: \n\nFlags Will Be Provided\nLarge Bike Flags will NOT be needed.\nWater WILL NOT be provided\, please bring your own.\n\nSubmitted By: Doug Nobles\nPosition: State Captain\n[HR][/HR]Note:\nYou do not have to own/ride a motorcycle or be a Veteran to join and membership is Free. The only requirement is RESPECT! To join\, simply go to www.PatriotGuard.org and click on Register. Membership is Free. \nTo subscribe to receive mission notices\, log into the National Site and click on the Mission Tab at the top. Select the Subscribe to Missions option.
URL:https://www.patriotguard.org/mission/state-mission-request-for-14-oct-2017-from-louisiana-george-gary-garcia/
LOCATION:John Samuel Bryson
CATEGORIES:Archive
END:VEVENT
END:VCALENDAR