BEGIN:VCALENDAR
VERSION:2.0
PRODID:-//Patriot Guard Riders - ECPv5.3.2.1//NONSGML v1.0//EN
CALSCALE:GREGORIAN
METHOD:PUBLISH
X-WR-CALNAME:Patriot Guard Riders
X-ORIGINAL-URL:https://www.patriotguard.org
X-WR-CALDESC:Events for Patriot Guard Riders
BEGIN:VTIMEZONE
TZID:America/New_York
BEGIN:DAYLIGHT
TZOFFSETFROM:-0500
TZOFFSETTO:-0400
TZNAME:EDT
DTSTART:20170312T070000
END:DAYLIGHT
BEGIN:STANDARD
TZOFFSETFROM:-0400
TZOFFSETTO:-0500
TZNAME:EST
DTSTART:20171105T060000
END:STANDARD
END:VTIMEZONE
BEGIN:VEVENT
DTSTART;TZID=America/New_York:20171014T151500
DTEND;TZID=America/New_York:20171014T171500
DTSTAMP:20210403T031557
CREATED:20171014T191500Z
LAST-MODIFIED:20191201T041315Z
UID:357739-1507994100-1508001300@www.patriotguard.org
SUMMARY:State Mission Request for 14 Oct 2017 from Illinois - Howard Keskitalo
DESCRIPTION:Submitted by: \n\nMember Name: David Gier\nPosition: Ride Captain\nCity\, State: Crestwood\, Illinois\nUser Name: Bike Dave\nEmail: davidbgier@sbcglobal.net\n\nEmail Subject Line Setup\n[HR][/HR]Prefix to Use – Memorial\nSubject Line –  Howard Keskitalo \, Veteran\, USA\, USAF – WWII\,  Batavia\, Illinois  – 14 Oct 2017\n[HR][/HR] \n\n\nMod Instructions: \n\nthanks\n\n++++++++ Copy the Information above this line++++++++++ \n\nMemorial Mission\n*** DO NOT REPLY ***  \nHoward Keskitalo\, Veteran\nUSA\, USAF  – WWII\nBatavia\, Illinois – 14 Oct 2017\n\n\n[HR][/HR]\nABOUT THE MISSION: \n\nThe family of Howard Keskitalo has invited The Patriot Guard to recognize him\, in person\, for his valorous service to our great nation. \nLieutenant Keskitalo served aboard a B17 with the 388th Bomb Group\, 563rd Bomb Squadron. As the navigator\, he flew 38 missions in four different battles and campaigns including the Air Offensive Europe\, Northern France\, Normandy and Rhineland. \nIn addition to numerous citations\, Lt. Keskitalo was awarded the Distinguished Flying Cross\, The Air Medal and was recognized by France as a Knight of the French Legion of Honor; this is France’s highest honor to a non- French citizen.\n \n\nPRIMARY STAGING DETAILS:  14 Oct 2017\nPrimary Staging Time: 3:15 P.M. \n\nBatavia VFW\n645 River Street\nBatavia\, Illinois –\n\n\nRide Captain: \n\nRC: Recon 708-431-6601\n\n\nSpecial Instructions: \n\nBatavia \n\nFollowing mission brief\, we will ride a short distance to Mr. Keskitalo’s home for a meet and greet\, shake this hero’s hand and extend our gratitude for his distinguished service.\n\n\nFlags & Water: \n\nFlags Will Be Provided\nIf you have large bike flags\, please bring them.\nWater WILL NOT be provided\, please bring your own.\n\nSubmitted By: David Gier\nPosition: Ride Captain\n[HR][/HR]Note:\nYou do not have to own/ride a motorcycle or be a Veteran to join and membership is Free. The only requirement is RESPECT! To join\, simply go to www.PatriotGuard.org and click on Register. Membership is Free. \nTo subscribe to receive mission notices\, log into the National Site and click on the Mission Tab at the top. Select the Subscribe to Missions option.
URL:https://www.patriotguard.org/mission/state-mission-request-for-14-oct-2017-from-illinois-howard-keskitalo/
CATEGORIES:Archive
END:VEVENT
END:VCALENDAR