BEGIN:VCALENDAR
VERSION:2.0
PRODID:-//Patriot Guard Riders - ECPv5.3.2.1//NONSGML v1.0//EN
CALSCALE:GREGORIAN
METHOD:PUBLISH
X-WR-CALNAME:Patriot Guard Riders
X-ORIGINAL-URL:https://www.patriotguard.org
X-WR-CALDESC:Events for Patriot Guard Riders
BEGIN:VTIMEZONE
TZID:America/New_York
BEGIN:DAYLIGHT
TZOFFSETFROM:-0500
TZOFFSETTO:-0400
TZNAME:EDT
DTSTART:20170312T070000
END:DAYLIGHT
BEGIN:STANDARD
TZOFFSETFROM:-0400
TZOFFSETTO:-0500
TZNAME:EST
DTSTART:20171105T060000
END:STANDARD
END:VTIMEZONE
BEGIN:VEVENT
DTSTART;TZID=America/New_York:20171014T150000
DTEND;TZID=America/New_York:20171014T170000
DTSTAMP:20210404T114909
CREATED:20171014T190000Z
LAST-MODIFIED:20191201T041409Z
UID:358173-1507993200-1508000400@www.patriotguard.org
SUMMARY:State Mission Request for 14 Oct 2017 from Georgia - HOTH - PGR Appreciation BBQ
DESCRIPTION:Submitted by: \n\nMember Name: Pam Long\nPosition: State HOTH Coordinator\nCity\, State: Lawrenceville\, Georgia\nUser Name: keeperofpeace\nEmail: peabody10_30043@yahoo.com\n\nEmail Subject Line Setup\n[HR][/HR]Prefix to Use – HOTH\nSubject Line –  HOTH – PGR Appreciation BBQ  –  Powder Springs\, Georgia  – 14 Oct 2017\n[HR][/HR] \n\n\nMod Instructions: \n\n\n++++++++ Copy the Information above this line++++++++++ \n\nHOTH Mission\n*** DO NOT REPLY ***  \nHOTH – PGR Appreciation BBQ\n\nPowder Springs\, Georgia – 14 Oct 2017\n\n\n[HR][/HR]\nABOUT THE MISSION: \n\nHOTH of Georgia Appreciation BBQ is open to anyone and everyone.  So if you’re out and about\, just come on by.  It’s a social get together with our Hosts provided ALL the BBQ\, Brats\, Slaw\, Beans\, Soda and Water.  If you want to bring a side dish\, it will be welcomed. \nEntertainment will be provided by Singer and Songwriter\, Garrett Wheeler. \nTo accommodate a large number\, please RSVP to frank@centrifugeservices.com or \nby 10/10/2017 to frank@centrifugeservices.com or 770.712.7978\, if you plan to attend RSVP to frank@centrifugeservices.com“\nHosted by Friends of Ga. HOTH\n\n\nPRIMARY STAGING DETAILS:  14 Oct 2017\nPrimary Staging Time: 3:00 P.M. \n\nPool House Oakwind Subdivision\nOakwind Drive\nPowder Springs\, Georgia – 30127\n\n\nRide Captain: \n\nPam “KOP” Long\nGa. HOTH Coordinator\nRide Captain\npeabody10_30043@yahoo.com\n770-339-8188 (H)\n404-376-2887 (C)\n\n\nSpecial Instructions: \n\n\n\nFlags & Water: \n\nFlags Will Not Be Needed\nLarge Bike Flags will NOT be needed.\nWater will be provided.\n\nSubmitted By: Pam Long\nPosition: State HOTH Coordinator\n[HR][/HR]Note:\nYou do not have to own/ride a motorcycle or be a Veteran to join and membership is Free. The only requirement is RESPECT! To join\, simply go to www.PatriotGuard.org and click on Register. Membership is Free. \nTo subscribe to receive mission notices\, log into the National Site and click on the Mission Tab at the top. Select the Subscribe to Missions option.
URL:https://www.patriotguard.org/mission/state-mission-request-for-14-oct-2017-from-georgia-hoth-pgr-appreciation-bbq/
LOCATION:Snowball Express 2019 Little Rock
CATEGORIES:Archive
END:VEVENT
END:VCALENDAR