BEGIN:VCALENDAR
VERSION:2.0
PRODID:-//Patriot Guard Riders - ECPv5.3.2.1//NONSGML v1.0//EN
CALSCALE:GREGORIAN
METHOD:PUBLISH
X-WR-CALNAME:Patriot Guard Riders
X-ORIGINAL-URL:https://www.patriotguard.org
X-WR-CALDESC:Events for Patriot Guard Riders
BEGIN:VTIMEZONE
TZID:America/New_York
BEGIN:DAYLIGHT
TZOFFSETFROM:-0500
TZOFFSETTO:-0400
TZNAME:EDT
DTSTART:20170312T070000
END:DAYLIGHT
BEGIN:STANDARD
TZOFFSETFROM:-0400
TZOFFSETTO:-0500
TZNAME:EST
DTSTART:20171105T060000
END:STANDARD
END:VTIMEZONE
BEGIN:VEVENT
DTSTART;TZID=America/New_York:20170714T133000
DTEND;TZID=America/New_York:20170714T153000
DTSTAMP:20210402T013726
CREATED:20170714T173000Z
LAST-MODIFIED:20191201T042353Z
UID:363144-1500039000-1500046200@www.patriotguard.org
SUMMARY:State Mission Request for 14 Jul 2017 from Colorado - John Rockerfeller
DESCRIPTION:Submitted by:\nMember Name:   Jim Herstein\nPosition:   State HOTH Coordinator\nCity\, State:   Louisville\, Colorado\nUser Name:   jwherst\nEmail:   jwherst@aol.com\n \nEmail Subject Line Setup\n\nPrefix to Use – Honor\nSubject Line –   John Rockerfeller \, Veteran\, USAF – Vietnam\,  Denver\, Colorado  – 14 Jul 2017\n\n\n\n\n\n\n\n\n \n\nMod Instructions:\n\n\n++++++++ Copy the Information above this line++++++++++\n\n \nHonor Mission\n\n*** DO NOT REPLY *** \nThis is an automated message sent to you because you have subscribed to this State’s Mission thread. For current details on this mission\, please follow the link below. \nJohn Rockerfeller\, Veteran \nUSAF  – Vietnam\nDenver\, Colorado – 14 Jul 2017\n \n\n\nABOUT THE MISSION:\nThe Patriot Guard Riders have been invited to stand in honor at the Interment Service for John Rockerfeller at Fort Logan National Cemetery\, 3698 South Sheridan Blvd.\, Denver\, on Friday\, July 14\, 2017 at 2:15PM\, Committal Shelter C. \nMr. Rockerfeller was born on December 27\, 1949 and died on December 4\, 2016 at the age of 66. He served in the United States Air Force and was a Vietnam Veteran. He was also a member of the Combat Veterans Motorcycle Association. \n1:30PM – Stage at the Fort Logan Visitors Center\n1:45PM – Mission Briefing\n2:00PM – Depart for Committal Shelter C to from Flag Line \nWill an available Ride Captain please post. \nI will be honored to attend and will bring Flags.\n\nPRIMARY STAGING DETAILS:  14 Jul 2017\n\nPrimary Staging Time:  1:30 P.M.\nFort Logan National Cemetery \nVisitors Center\nDenver\, Colorado – 80236\n  \n\nRide Captain:\nRide Captain to be Determined\n\nSpecial Instructions:\n\n\nFlags & Water:\nFlags Will Be Provided\nLarge Bike Flags will NOT be needed.\nWater will be provided. \nSubmitted By:  Jim Herstein\nPosition:  State HOTH Coordinator \n\nNote:\nYou do not have to own/ride a motorcycle or be a Veteran to join and membership is Free. The only requirement is RESPECT! To join\, simply go to www.PatriotGuard.org and click on Register. Membership is Free. \nTo subscribe to receive mission notices\, log into the National Site and click on the Mission Tab at the top. Select Upcoming Missions by State. Scroll to the state(s) you would like to receive notices for and click on the green check mark. Detailed instructions are also located in the FAQs on the site by clicking on the Quick Links Tab and selecting FAQs.
URL:https://www.patriotguard.org/mission/state-mission-request-for-14-jul-2017-from-colorado-john-rockerfeller/
CATEGORIES:Archive
END:VEVENT
END:VCALENDAR