BEGIN:VCALENDAR
VERSION:2.0
PRODID:-//Patriot Guard Riders - ECPv5.3.2.1//NONSGML v1.0//EN
CALSCALE:GREGORIAN
METHOD:PUBLISH
X-WR-CALNAME:Patriot Guard Riders
X-ORIGINAL-URL:https://www.patriotguard.org
X-WR-CALDESC:Events for Patriot Guard Riders
BEGIN:VTIMEZONE
TZID:America/New_York
BEGIN:DAYLIGHT
TZOFFSETFROM:-0500
TZOFFSETTO:-0400
TZNAME:EDT
DTSTART:20170312T070000
END:DAYLIGHT
BEGIN:STANDARD
TZOFFSETFROM:-0400
TZOFFSETTO:-0500
TZNAME:EST
DTSTART:20171105T060000
END:STANDARD
END:VTIMEZONE
BEGIN:VEVENT
DTSTART;TZID=America/New_York:20170714T130000
DTEND;TZID=America/New_York:20170714T150000
DTSTAMP:20210404T172851
CREATED:20170714T170000Z
LAST-MODIFIED:20191201T042359Z
UID:363192-1500037200-1500044400@www.patriotguard.org
SUMMARY:State Mission Request for 14 Jul 2017 from Alabama - William A. Badoud
DESCRIPTION:Submitted by:\nMember Name:   John Cooper\nPosition:   Ride Captain\nCity\, State:   Huntsville\, Alabama\nUser Name:   John Cooper\nEmail:   pgrcoop@gmail.com\n \nEmail Subject Line Setup\n\nPrefix to Use – Memorial\nSubject Line –   William A. Badoud \, Veteran\, USA – Vietnam\,  Huntsville\, Alabama  – 14 Jul 2017\n\n\n\n\n\n\n\n\n \n\nMod Instructions:\nPlease post statewide for Al.\n\n++++++++ Copy the Information above this line++++++++++\n\n \nMemorial Mission\n\n*** DO NOT REPLY *** \nThis is an automated message sent to you because you have subscribed to this State’s Mission thread. For current details on this mission\, please follow the link below. \nWilliam A. Badoud\, Veteran \nUSA  – Vietnam\nHuntsville\, Alabama – 14 Jul 2017\n \n\n\nABOUT THE MISSION:\nThe Family of William A. Badoud  has asked the Patriot Guard to honor their loved one by standing a flag line at his visitation and Memorial Service. \nWe will be Honored to do so. \nMr. Badoud stood for us…..Now is the time to stand for him. \n\nMr. Badoud  (72) was in the U.S. Army in Vietnam and served with distinction earning 2 Distinguished Flying Crosses and the Bronze Star.\n\nPRIMARY STAGING DETAILS:  14 Jul 2017\n\nPrimary Staging Time:  1:00 P.M.\nLaughlin Services Funeral Home\n2320 Bob Wallace Ave\, SW\nHuntsville\, Alabama – 35805\n  \n\nRide Captain:\nRCIC:  Coop\npgrcoop@gmail.com\n256-653-2896 \nFlag Captain: Gary Moore\nGmoore3009@hotmail.com\n256-425-7002\n\nSpecial Instructions:\nPlace Flags\nSet flagline by 1:30 pm\nVisitation 2:00-3:00\nMemorial Service to\nFollow at 3:00  pm\n\nFlags & Water:\nFlags Will Be Provided\nLarge Bike Flags will NOT be needed.\nWater will be provided. \nSubmitted By:  John Cooper\nPosition:  Ride Captain \n\nNote:\nYou do not have to own/ride a motorcycle or be a Veteran to join and membership is Free. The only requirement is RESPECT! To join\, simply go to www.PatriotGuard.org and click on Register. Membership is Free. \nTo subscribe to receive mission notices\, log into the National Site and click on the Mission Tab at the top. Select Upcoming Missions by State. Scroll to the state(s) you would like to receive notices for and click on the green check mark. Detailed instructions are also located in the FAQs on the site by clicking on the Quick Links Tab and selecting FAQs.
URL:https://www.patriotguard.org/mission/state-mission-request-for-14-jul-2017-from-alabama-william-a-badoud/
LOCATION:Donald Gordon McCann
CATEGORIES:Archive
END:VEVENT
END:VCALENDAR