BEGIN:VCALENDAR
VERSION:2.0
PRODID:-//Patriot Guard Riders - ECPv5.3.2.1//NONSGML v1.0//EN
CALSCALE:GREGORIAN
METHOD:PUBLISH
X-WR-CALNAME:Patriot Guard Riders
X-ORIGINAL-URL:https://www.patriotguard.org
X-WR-CALDESC:Events for Patriot Guard Riders
BEGIN:VTIMEZONE
TZID:America/New_York
BEGIN:DAYLIGHT
TZOFFSETFROM:-0500
TZOFFSETTO:-0400
TZNAME:EDT
DTSTART:20170312T070000
END:DAYLIGHT
BEGIN:STANDARD
TZOFFSETFROM:-0400
TZOFFSETTO:-0500
TZNAME:EST
DTSTART:20171105T060000
END:STANDARD
END:VTIMEZONE
BEGIN:VEVENT
DTSTART;TZID=America/New_York:20170414T141500
DTEND;TZID=America/New_York:20170414T161500
DTSTAMP:20210404T154428
CREATED:20170414T181500Z
LAST-MODIFIED:20191201T043535Z
UID:368907-1492179300-1492186500@www.patriotguard.org
SUMMARY:State Mission Request for 14 Apr 2017 from Missouri - Michael Winston McMillian
DESCRIPTION:Submitted by:\nMember Name:   Philip Fels\nPosition:   Ride Captain\nCity\, State:   Strafford\, Missouri\nUser Name:   chief4fels\nEmail:   chief4fels@gmail.com\n \nEmail Subject Line Setup\n\nPrefix to Use – Honor\nSubject Line – SHORT NOTICE –  Michael Winston McMillian \, Veteran\, USA \, USAR  –  Springfield\, Missouri  – 14 Apr 2017\n\n\nSHORT NOTICE!\nSTATEWIDE REQUIRED!\n\n\n\n\n \n\nMod Instructions:\n\n\n++++++++ Copy the Information above this line++++++++++\n\n \nHonor Mission\n\n*** DO NOT REPLY *** \nThis is an automated message sent to you because you have subscribed to this State’s Mission thread. For current details on this mission\, please follow the link below. \nMichael Winston McMillian\, Veteran \nUSA USAR \nSpringfield\, Missouri – 14 Apr 2017\n \n\n\nABOUT THE MISSION:\nMichael Winston McMillian\, 76\, PVT E2\, USAR\nHero McMillian entered the service in June 1964 and was Honorably discharged in June 1970. His last duty assignment was with CO N\, 4th BN\, 4th Training Regiment\, Ft. Leonard Wood\, MO. He was a Engineer Supply Clerk and was awarded the Rifle Marksmanship Badge. \nThis will be a FLAG LINE ONLY\n\nPRIMARY STAGING DETAILS:  14 Apr 2017\n\nPrimary Staging Time:  2:15 P.M.\nGreenLawn Funeral Home East\n3540 E. Seminole\nSpringfield\, Missouri – 65809\n  \n\nRide Captain:\nRC Phil Fels\n417-207-3325 \nFlag support TBD\n\nSpecial Instructions:\nBriefing: 2:15\nFlag Line ONLY following the briefing\nService: 3:00\n\nFlags & Water:\nFlags Will Be Provided\nLarge Bike Flags will NOT be needed.\nWater will be provided. \nSubmitted By:  Philip Fels\nPosition:  Ride Captain \n\nNote:\nYou do not have to own/ride a motorcycle or be a Veteran to join and membership is Free. The only requirement is RESPECT! To join\, simply go to www.PatriotGuard.org and click on Register. Membership is Free. \nTo subscribe to receive mission notices\, log into the National Site and click on the Mission Tab at the top. Select Upcoming Missions by State. Scroll to the state(s) you would like to receive notices for and click on the green check mark. Detailed instructions are also located in the FAQs on the site by clicking on the Quick Links Tab and selecting FAQs.
URL:https://www.patriotguard.org/mission/state-mission-request-for-14-apr-2017-from-missouri-michael-winston-mcmillian/
CATEGORIES:Archive
END:VEVENT
END:VCALENDAR