BEGIN:VCALENDAR
VERSION:2.0
PRODID:-//Patriot Guard Riders - ECPv5.3.2.1//NONSGML v1.0//EN
CALSCALE:GREGORIAN
METHOD:PUBLISH
X-WR-CALNAME:Patriot Guard Riders
X-ORIGINAL-URL:https://www.patriotguard.org
X-WR-CALDESC:Events for Patriot Guard Riders
BEGIN:VTIMEZONE
TZID:America/New_York
BEGIN:DAYLIGHT
TZOFFSETFROM:-0500
TZOFFSETTO:-0400
TZNAME:EDT
DTSTART:20170312T070000
END:DAYLIGHT
BEGIN:STANDARD
TZOFFSETFROM:-0400
TZOFFSETTO:-0500
TZNAME:EST
DTSTART:20171105T060000
END:STANDARD
END:VTIMEZONE
BEGIN:VEVENT
DTSTART;TZID=America/New_York:20171013T163000
DTEND;TZID=America/New_York:20171013T183000
DTSTAMP:20210403T031903
CREATED:20171013T203000Z
LAST-MODIFIED:20191201T041240Z
UID:357440-1507912200-1507919400@www.patriotguard.org
SUMMARY:State Mission Request for 13 Oct 2017 from Illinois - Jaelyn Anderson
DESCRIPTION:Submitted by: \n\nMember Name: Bridget Krupa\nPosition: Ride Captain\nCity\, State: Oak Lawn\, Illinois\nUser Name: Krupab1\nEmail: Bridget.krupa@gmail.com\n\nEmail Subject Line Setup\n[HR][/HR]Prefix to Use – Welcome Home\nSubject Line –  Jaelyn Anderson \, Active Duty\, USMC  –  MULTI-CITY\, Illinois  – 13 Oct 2017\n[HR][/HR] \n\nMULTI-CITY! See Mod Instructions for Details\n\nMod Instructions: \n\n\n++++++++ Copy the Information above this line++++++++++ \n\nWelcome Home Mission\n*** DO NOT REPLY ***  \nJaelyn Anderson\, Active Duty\nUSMC\nMULTI-CITY\, Illinois – 13 Oct 2017\n\n\n[HR][/HR]\nABOUT THE MISSION: \n\nThe Patriot Guard has been asked by Jaelyn’s family to help her celebrate her returning from deployment. Jaelyn’s boyfriend\, Peter\, came home last week so the family wanted him to be included as well. Both Marines earned the rank of LCpl. Please come out and show these young Marines how much we appreciate them answering the service call to our beloved nation. We will be meeting at Bass Pro Shop for staging and the ride brief. When staging is complete we will ride to the family home and escort them to Dave and Busters so they can celebrate with family and friends. This will be an escorted ride. All mission details will be disclosed at ride brief.\n\n\nPRIMARY STAGING DETAILS:  13 Oct 2017\nPrimary Staging Time: 4:30 P.M. \n\nBass Pro Shop\n709 Janes Ave\nBolingbrook\, Illinois –\nhttps://www.google.com/maps/place/709+Janes+Ave\,+Bolingbrook\,+IL+60440/@41.7181214\,-88.0397607\,17z/d\n\n\nRide Captain: \n\nBridget “Badger” Krupa\n708.368.3907 \nBig Dave\n312.405.2692\n\n\nSpecial Instructions: \n\n\n\nFlags & Water: \n\nFlags Will Be Provided\nIf you have large bike flags\, please bring them.\nWater WILL NOT be provided\, please bring your own.\n\n[HR][/HR]STAGING #2 DETAILS: 13 Oct\, 2017\nStaging #2 Time: 6:00 P.M. \n\nDave and Busters\n1155 N.Swift Rd.\nAddison\, Illinois –\n\n\nRide Captain: \n\nBridget “Badger” Krupa\n708.368.3907 \nBig Dave\n312.405.2692\n\n\nSpecial Instructions: \n\n\n\nFlags & Water: \n\nFlags Will Be Provided\nLarge Bike Flags will be needed\nWater WILL NOT be provided\, please bring your own.\n\n\nSubmitted By: Bridget Krupa\nPosition: Ride Captain\n[HR][/HR]Note:\nYou do not have to own/ride a motorcycle or be a Veteran to join and membership is Free. The only requirement is RESPECT! To join\, simply go to www.PatriotGuard.org and click on Register. Membership is Free. \nTo subscribe to receive mission notices\, log into the National Site and click on the Mission Tab at the top. Select the Subscribe to Missions option.
URL:https://www.patriotguard.org/mission/state-mission-request-for-13-oct-2017-from-illinois-jaelyn-anderson/
CATEGORIES:Archive
END:VEVENT
END:VCALENDAR