BEGIN:VCALENDAR
VERSION:2.0
PRODID:-//Patriot Guard Riders - ECPv5.3.2.1//NONSGML v1.0//EN
CALSCALE:GREGORIAN
METHOD:PUBLISH
X-WR-CALNAME:Patriot Guard Riders
X-ORIGINAL-URL:https://www.patriotguard.org
X-WR-CALDESC:Events for Patriot Guard Riders
BEGIN:VTIMEZONE
TZID:America/New_York
BEGIN:DAYLIGHT
TZOFFSETFROM:-0500
TZOFFSETTO:-0400
TZNAME:EDT
DTSTART:20170312T070000
END:DAYLIGHT
BEGIN:STANDARD
TZOFFSETFROM:-0400
TZOFFSETTO:-0500
TZNAME:EST
DTSTART:20171105T060000
END:STANDARD
END:VTIMEZONE
BEGIN:VEVENT
DTSTART;TZID=America/New_York:20170513T161500
DTEND;TZID=America/New_York:20170513T181500
DTSTAMP:20210401T194134
CREATED:20170513T201500Z
LAST-MODIFIED:20191201T043155Z
UID:367176-1494692100-1494699300@www.patriotguard.org
SUMMARY:State Mission Request for 13 May 2017 from Washington - PFC Teddy J. McGhee\, 66. US ARMY
DESCRIPTION:Submitted by:\nMember Name:   Dan Halverson\nPosition:   Ride Captain\nCity\, State:   Longview\, Washington\nUser Name:   Dan Halverson.\nEmail:   danielhalversonPGR@yahoo.com\n \nEmail Subject Line Setup\n\nPrefix to Use – Honor\nSubject Line –   PFC Teddy J. McGhee\, 66. US ARMY \, USA – Vietnam\,  Vancouver\, Washington  – 13 May 2017\n\n\n\n\n\n\n\n\n \n\nMod Instructions:\n\n\n++++++++ Copy the Information above this line++++++++++\n\n \nHonor Mission\n\n*** DO NOT REPLY *** \nThis is an automated message sent to you because you have subscribed to this State’s Mission thread. For current details on this mission\, please follow the link below. \nPFC Teddy J. McGhee\, 66. US ARMY \nUSA  – Vietnam\nVancouver\, Washington – 13 May 2017\n \n\n\nABOUT THE MISSION:\nThe Family of PFC Teddy J. McGhee has requested the Patriot Guard Riders to ride a RHG and group ride to honor his military service to our country.\nPFC McGhee served as an Army Light Infantry during 2 tours in Vietnam while assigned to the 1st Cavalry. PFC McGhee was an avid Harley rider and family requested Patriot Guard Riders provide PFC McGhee a final Harley ride to the service location leading a group of family and friends to the memorial service location. The US Army Honor Guard will preform military honors. The VFW will preform the riffle Volley. \nPlease join with us as we honor PFC McGhee during his memorial services and full Military Honors. \nMission Date: Saturday / 13 May 2017\n\nPRIMARY STAGING DETAILS:  13 May 2017\n\nPrimary Staging Time:  1315 P.M.\nFruit Valley Community Center\n3201 Fruit Valley Park\nVancouver\, WA 98660\nVancouver\, Washington – 98660\n  \n\nRide Captain:\nPrimary RC: Mark “BIG BORE” Smith \nSecondary RC: TBD \nSupport Vehicle: TBD\n\nSpecial Instructions:\nSCHEDULE: \n1315hrs – Arrive Staging / Sign in\n1345hrs – Mission Briefing\n1415hrs – KSU to Service Location\n1500hrs – Arrive at Service Location\n1515hrs – Service Begins\n1545hrs – Fade Away/Debrief\n\nFlags & Water:\nFlags Will Be Provided\nIf you have large bike flags\, please bring them.\nWater WILL NOT be provided\, please bring your own. \nSubmitted By:  Dan Halverson\nPosition:  Ride Captain \n\nNote:\nYou do not have to own/ride a motorcycle or be a Veteran to join and membership is Free. The only requirement is RESPECT! To join\, simply go to www.PatriotGuard.org and click on Register. Membership is Free. \nTo subscribe to receive mission notices\, log into the National Site and click on the Mission Tab at the top. Select Upcoming Missions by State. Scroll to the state(s) you would like to receive notices for and click on the green check mark. Detailed instructions are also located in the FAQs on the site by clicking on the Quick Links Tab and selecting FAQs.
URL:https://www.patriotguard.org/mission/state-mission-request-for-13-may-2017-from-washington-pfc-teddy-j-mcghee-66-us-army/
CATEGORIES:Archive
END:VEVENT
END:VCALENDAR