BEGIN:VCALENDAR
VERSION:2.0
PRODID:-//Patriot Guard Riders - ECPv5.3.2.1//NONSGML v1.0//EN
CALSCALE:GREGORIAN
METHOD:PUBLISH
X-WR-CALNAME:Patriot Guard Riders
X-ORIGINAL-URL:https://www.patriotguard.org
X-WR-CALDESC:Events for Patriot Guard Riders
BEGIN:VTIMEZONE
TZID:America/New_York
BEGIN:DAYLIGHT
TZOFFSETFROM:-0500
TZOFFSETTO:-0400
TZNAME:EDT
DTSTART:20170312T070000
END:DAYLIGHT
BEGIN:STANDARD
TZOFFSETFROM:-0400
TZOFFSETTO:-0500
TZNAME:EST
DTSTART:20171105T060000
END:STANDARD
END:VTIMEZONE
BEGIN:VEVENT
DTSTART;TZID=America/New_York:20171012T114500
DTEND;TZID=America/New_York:20171012T134500
DTSTAMP:20210401T194442
CREATED:20171012T154500Z
LAST-MODIFIED:20191201T041239Z
UID:357434-1507808700-1507815900@www.patriotguard.org
SUMMARY:State Mission Request for 12 Oct 2017 from Missouri - SFC Lewis H. Trogler IV
DESCRIPTION:Submitted by: \n\nMember Name: Jeff Hirsch\nPosition: Ride Captain\nCity\, State: Villa Ridge\, Missouri\nUser Name: hdu\nEmail: jeff.stlpgr@gmail.com\n\nEmail Subject Line Setup\n[HR][/HR]Prefix to Use – Honor\nSubject Line –  SFC Lewis H. Trogler IV \, Active Duty\, USA – WoT\,  St. Louis\, Missouri  – 12 Oct 2017\n[HR][/HR] \n\n\nMod Instructions: \n\nThanks Mods for all you do.\n\n++++++++ Copy the Information above this line++++++++++ \n\nHonor Mission\n*** DO NOT REPLY ***  \nSFC Lewis H. Trogler IV\, Active Duty\nUSA  – WoT\nSt. Louis\, Missouri – 12 Oct 2017\n\n\n[HR][/HR]\nABOUT THE MISSION: \n\nLadies and Gentlemen of the Patriot Guard Riders\, we have been distinctly privileged by invitation\, to honor a revered member of the United States Military. Please join us in standing a flag line of honor and respect for fallen Veteran\, SFC Lewis Trogler IV \, just as he once stood for every one of us.\nHero Trogler served our Great Nation in the U.S. Army from 1998 to 2017 and earned the rank of Sergeant First Class. Additional military information is not available at the time of this post.\nThank you\, Mr. Trogler\, from a grateful Nation. Your faithful dedication to serve the United States of America is deeply appreciated\, and will never be forgotten.\n\n\nPRIMARY STAGING DETAILS:  12 Oct 2017\nPrimary Staging Time: 11:45 A.M. \n\nHoffmeister South County Chapel\n1515 Lemay Ferry Road\nSt. Louis\, Missouri – 63125\n\n\nRide Captain: \n\nJeff ‘Tattoo’ Hirsch  jeff.stlpgr@gmail.com  314-210-6307 \nFlags / support – Jim ‘1-Gunshy’ Kleszczewski\n \n\nSpecial Instructions: \n\n11:45 – Staging w/ ride meeting to follow\n12:00 – Flag line\n01:00 – Funeral service\n02:15 – Honor escort (3 miles) to Jefferson Barracks National Cemetery where Hero Trogler will receive full military honors.\n02:30 – JBNC committal\n\n\nFlags & Water: \n\nFlags Will Be Provided\nIf you have large bike flags\, please bring them.\nWater will be provided.\n\nSubmitted By: Jeff Hirsch\nPosition: Ride Captain\n[HR][/HR]Note:\nYou do not have to own/ride a motorcycle or be a Veteran to join and membership is Free. The only requirement is RESPECT! To join\, simply go to www.PatriotGuard.org and click on Register. Membership is Free. \nTo subscribe to receive mission notices\, log into the National Site and click on the Mission Tab at the top. Select the Subscribe to Missions option.
URL:https://www.patriotguard.org/mission/state-mission-request-for-12-oct-2017-from-missouri-sfc-lewis-h-trogler-iv/
CATEGORIES:Archive
END:VEVENT
END:VCALENDAR