BEGIN:VCALENDAR
VERSION:2.0
PRODID:-//Patriot Guard Riders - ECPv5.3.2.1//NONSGML v1.0//EN
CALSCALE:GREGORIAN
METHOD:PUBLISH
X-WR-CALNAME:Patriot Guard Riders
X-ORIGINAL-URL:https://www.patriotguard.org
X-WR-CALDESC:Events for Patriot Guard Riders
BEGIN:VTIMEZONE
TZID:America/New_York
BEGIN:DAYLIGHT
TZOFFSETFROM:-0500
TZOFFSETTO:-0400
TZNAME:EDT
DTSTART:20170312T070000
END:DAYLIGHT
BEGIN:STANDARD
TZOFFSETFROM:-0400
TZOFFSETTO:-0500
TZNAME:EST
DTSTART:20171105T060000
END:STANDARD
END:VTIMEZONE
BEGIN:VEVENT
DTSTART;TZID=America/New_York:20171012T131000
DTEND;TZID=America/New_York:20171012T151000
DTSTAMP:20210405T182437
CREATED:20171012T171000Z
LAST-MODIFIED:20191201T041221Z
UID:357245-1507813800-1507821000@www.patriotguard.org
SUMMARY:State Mission Request for 12 Oct 2017 from Michigan - JAMES OLSEN
DESCRIPTION:Submitted by: \n\nMember Name: Terrence Laurencelle\nPosition: Ride Captain\nCity\, State: Sterling Heights\, Michigan\nUser Name: Vito4343\nEmail: shpd146@comcast.net\n\nEmail Subject Line Setup\n[HR][/HR]Prefix to Use – Honor\nSubject Line – SHORT NOTICE –  JAMES OLSEN \, Veteran\, USA – Vietnam\,  Sterling Heights\, Michigan  – 12 Oct 2017\n[HR][/HR] \n\nSHORT NOTICE!\n\nMod Instructions: \n\nSHORT NOTICE\n\n++++++++ Copy the Information above this line++++++++++ \n\nHonor Mission\n*** DO NOT REPLY ***  \nJAMES OLSEN\, Veteran\nUSA  – Vietnam\nSterling Heights\, Michigan – 12 Oct 2017\n\n\n[HR][/HR]\nABOUT THE MISSION: \n\nThe family of James Olsen has invited the Patriot Guard Riders to Stand in Honor of his Service to our country. Mr. Olsen proudly served in the United States Army and served 2 tours in Vietnam and achieved the Rank of SPC 4. Mr. Olsen was an avid golfer and was a proud member of Chapter 154 Vietnam Veterans of America. He is survived by his Wife Dorothea of 55 years. \nOBIT: http://www.bcfhsterlingheights.com/tributes/James-Olsen\n\n\nPRIMARY STAGING DETAILS:  12 Oct 2017\nPrimary Staging Time: 1:10 P.M. \n\nBagnasco Calcaterra Funeral Home\n13650 E. 15 Mile Rd.\nSterling Heights\, Michigan – 48312\nhttps://goo.gl/maps/uqS4kw1BBam :\n\n\nRide Captain: \n\nRC: SKEETER(586-524-8083)\ncarolp412@att.net\n\n\nSpecial Instructions: \n\nSTAGE:             1:10 PM\nBRIEF:              1:30 PM\nFL:                    1:45 PM \nNOTE: Flag Line is from 2:00 PM-8:00 PM. You are not expected to stand the whole time. \nPlease bring your American Flag to Stand in Honor of James Olsen.\n \n\nFlags & Water: \n\nFlags Will NOT Be Provided\, Please Bring Your Own.\nLarge Bike Flags will NOT be needed.\nWater WILL NOT be provided\, please bring your own.\n\nSubmitted By: Terrence Laurencelle\nPosition: Ride Captain\n[HR][/HR]Note:\nYou do not have to own/ride a motorcycle or be a Veteran to join and membership is Free. The only requirement is RESPECT! To join\, simply go to www.PatriotGuard.org and click on Register. Membership is Free. \nTo subscribe to receive mission notices\, log into the National Site and click on the Mission Tab at the top. Select the Subscribe to Missions option.
URL:https://www.patriotguard.org/mission/state-mission-request-for-12-oct-2017-from-michigan-james-olsen/
CATEGORIES:Archive
END:VEVENT
END:VCALENDAR