BEGIN:VCALENDAR
VERSION:2.0
PRODID:-//Patriot Guard Riders - ECPv5.3.2.1//NONSGML v1.0//EN
CALSCALE:GREGORIAN
METHOD:PUBLISH
X-WR-CALNAME:Patriot Guard Riders
X-ORIGINAL-URL:https://www.patriotguard.org
X-WR-CALDESC:Events for Patriot Guard Riders
BEGIN:VTIMEZONE
TZID:America/New_York
BEGIN:DAYLIGHT
TZOFFSETFROM:-0500
TZOFFSETTO:-0400
TZNAME:EDT
DTSTART:20170312T070000
END:DAYLIGHT
BEGIN:STANDARD
TZOFFSETFROM:-0400
TZOFFSETTO:-0500
TZNAME:EST
DTSTART:20171105T060000
END:STANDARD
END:VTIMEZONE
BEGIN:VEVENT
DTSTART;TZID=America/New_York:20170812T090000
DTEND;TZID=America/New_York:20170812T110000
DTSTAMP:20210404T145028
CREATED:20170812T130000Z
LAST-MODIFIED:20191201T042008Z
UID:361271-1502528400-1502535600@www.patriotguard.org
SUMMARY:State Mission Request for 12 Aug 2017 from Virginia - Herbert "Herb" Weston Hamilton\, Jr.
DESCRIPTION:Submitted by:\nMember Name:   Walter Folks\nPosition:   Assistant State Captain\nCity\, State:   Covington\, Virginia\nUser Name:   Yacky\nEmail:   yackyfolks@gmail.com\n \nEmail Subject Line Setup\n\nPrefix to Use – Memorial\nSubject Line – SHORT NOTICE –  Herbert “Herb” Weston Hamilton\, Jr. \, Veteran\, USA  –  Waynesboro\, Virginia  – 12 Aug 2017\n\n\nSHORT NOTICE!\n\n\n\n\n\n \n\nMod Instructions:\nPlease post for Virginia\n\n++++++++ Copy the Information above this line++++++++++\n\n \nMemorial Mission\n\n*** DO NOT REPLY *** \nThis is an automated message sent to you because you have subscribed to this State’s Mission thread. For current details on this mission\, please follow the link below. \nHerbert “Herb” Weston Hamilton\, Jr.\, Veteran \nUSA \nWaynesboro\, Virginia – 12 Aug 2017\n \n\n\nABOUT THE MISSION:\nA man of few words\, Herb was known for his service to others. He served his country for 6 years in the National Guard and U.S. Army. For more than 20 years he was a volunteer and past president of the Berlin\, NJ Ambulance Squad. He lived in Raphine\, Virginia and worked with Habitat for Humanity and Project Next Door through his church. \nA memorial service will be held for Herb at Westwood Baptist Church\, 2124 Davis Road\, Waynesboro\, Virginia. \nA private burial service will follow the memorial service.\n\nPRIMARY STAGING DETAILS:  12 Aug 2017\n\nPrimary Staging Time:  09:00 A.M.\nWestwood Baptist Church 2124 Davis Road\, Waynesboro\, Virginia\nWaynesboro\, Virginia – 22980\n  \n\nRide Captain:\nPaul Clancey\ncell 540-560-9902\n\nSpecial Instructions:\nStage at 0900 with brief followed by establishing flag line.\n\nFlags & Water:\nFlags Will NOT Be Provided\, Please Bring Your Own.\nIf you have large bike flags\, please bring them.\nWater WILL NOT be provided\, please bring your own. \nSubmitted By:  Walter Folks\nPosition:  Assistant State Captain \n\nNote:\nYou do not have to own/ride a motorcycle or be a Veteran to join and membership is Free. The only requirement is RESPECT! To join\, simply go to www.PatriotGuard.org and click on Register. Membership is Free. \nTo subscribe to receive mission notices\, log into the National Site and click on the Mission Tab at the top. Select Upcoming Missions by State. Scroll to the state(s) you would like to receive notices for and click on the green check mark. Detailed instructions are also located in the FAQs on the site by clicking on the Quick Links Tab and selecting FAQs.
URL:https://www.patriotguard.org/mission/state-mission-request-for-12-aug-2017-from-virginia-herbert-herb-weston-hamilton-jr/
CATEGORIES:Archive
END:VEVENT
END:VCALENDAR