BEGIN:VCALENDAR
VERSION:2.0
PRODID:-//Patriot Guard Riders - ECPv5.3.2.1//NONSGML v1.0//EN
CALSCALE:GREGORIAN
METHOD:PUBLISH
X-WR-CALNAME:Patriot Guard Riders
X-ORIGINAL-URL:https://www.patriotguard.org
X-WR-CALDESC:Events for Patriot Guard Riders
BEGIN:VTIMEZONE
TZID:America/New_York
BEGIN:DAYLIGHT
TZOFFSETFROM:-0500
TZOFFSETTO:-0400
TZNAME:EDT
DTSTART:20170312T070000
END:DAYLIGHT
BEGIN:STANDARD
TZOFFSETFROM:-0400
TZOFFSETTO:-0500
TZNAME:EST
DTSTART:20171105T060000
END:STANDARD
END:VTIMEZONE
BEGIN:VEVENT
DTSTART;TZID=America/New_York:20171011T151500
DTEND;TZID=America/New_York:20171011T171500
DTSTAMP:20210405T212448
CREATED:20171011T191500Z
LAST-MODIFIED:20191201T041309Z
UID:357694-1507734900-1507742100@www.patriotguard.org
SUMMARY:State Mission Request for 11 Oct 2017 from Nebraska - Hall County Vietnam Veteran Hero Flight
DESCRIPTION:Submitted by: \n\nMember Name: Scott Knudsen\nPosition: State Captain\nCity\, State: Omaha\, Nebraska\nUser Name: sknudsen\nEmail: jscottknudsen@hotmail.com\n\nEmail Subject Line Setup\n[HR][/HR]Prefix to Use – Welcome Home\nSubject Line –  Hall County Vietnam Veteran Hero Flight \, Veteran\, USA\, USN\, USMC\, USAF – Vietnam\,  Grand Island\, Nebraska  – 11 Oct 2017\n[HR][/HR] \n\n\nMod Instructions: \n\nPLEASE POST and STATEWIDE NEBRASKA\nThank you\, Scott\n\n++++++++ Copy the Information above this line++++++++++ \n\nWelcome Home Mission\n*** DO NOT REPLY ***  \nHall County Vietnam Veteran Hero Flight\, Veteran\nUSA\, USN\, USMC\, USAF  – Vietnam\nGrand Island\, Nebraska – 11 Oct 2017\n\n\n[HR][/HR]\nABOUT THE MISSION: \n\nIt is never too late to welcome home our Vietnam Veteran Heroes……………. \nThe Hall County Hero Flight Committee has invited the Patriot Guard Riders to participate in the WELCOME HOME activities for the Hall County Vietnam War Hero Flight scheduled to return from their excursion to visit the war memorials and other sites in our nation’s capital on WEDNESDAY\, OCTOBER 11th\, 2017 at 5:00pm.  The Charter Flight will be landing with 162 Vietnam Veterans and spouses at the Central Nebraska Regional Airport in Grand Island Nebraska. Hall County Supervisor Gary Quandt has requested the Riders arrive at the Airport at 4:15pm for the scheduled 5:00pm arrival.\n \n\nPRIMARY STAGING DETAILS:  11 Oct 2017\nPrimary Staging Time: 3:15 P.M. \n\nBosselman Travel Center\,\n3335 West Wood River Road\,\nHwy 281 just North of I-80 exit 312\nGrand Island\, Nebraska – 68803\n\n\nRide Captain: \n\nRIDE CAPTAIN:\nChris   Larson          chrislarson1974@gmail.com\n308-339-9266\n.\nFLAG CAPTAIN:\nCody Eastman             smokeeater88@gmail.com\n308-379-0864\n.\nSafety being paramount – ride only if conditions permit. The Nebraska Patriot Guard Riders have been recognized by the National Safety Council and the Nebraska Office of Highway Safety for adhering to and promoting motorcycle safety. Ride Alert – Ride Safe.\n.\nThe PGR proudly acknowledge being created by a small group of visionary American Legion Riders.\n\n\nSpecial Instructions: \n\nMISSION BRIEFING:           3:35PM\n.\nCLUTCHES OUT:                3:45PM\n.\nETA –AIRPORT:      4:15PM      3773 Sky Park Rd\, Grand Island\, NE 68801\n.\nRIDERS MEETING #2     4:30PM\n.\nFLAG LINE:                     4:45PM          (on the tarmac)\n.\nCharter touch-down        5:00PM\n\n\nFlags & Water: \n\nFlags Will Be Provided\nIf you have large bike flags\, please bring them.\nWater WILL NOT be provided\, please bring your own.\n\nSubmitted By: Scott Knudsen\nPosition: State Captain\n[HR][/HR]Note:\nYou do not have to own/ride a motorcycle or be a Veteran to join and membership is Free. The only requirement is RESPECT! To join\, simply go to www.PatriotGuard.org and click on Register. Membership is Free. \nTo subscribe to receive mission notices\, log into the National Site and click on the Mission Tab at the top. Select the Subscribe to Missions option.
URL:https://www.patriotguard.org/mission/state-mission-request-for-11-oct-2017-from-nebraska-hall-county-vietnam-veteran-hero-flight/
CATEGORIES:Archive
END:VEVENT
END:VCALENDAR