BEGIN:VCALENDAR
VERSION:2.0
PRODID:-//Patriot Guard Riders - ECPv5.3.2.1//NONSGML v1.0//EN
CALSCALE:GREGORIAN
METHOD:PUBLISH
X-WR-CALNAME:Patriot Guard Riders
X-ORIGINAL-URL:https://www.patriotguard.org
X-WR-CALDESC:Events for Patriot Guard Riders
BEGIN:VTIMEZONE
TZID:America/New_York
BEGIN:DAYLIGHT
TZOFFSETFROM:-0500
TZOFFSETTO:-0400
TZNAME:EDT
DTSTART:20170312T070000
END:DAYLIGHT
BEGIN:STANDARD
TZOFFSETFROM:-0400
TZOFFSETTO:-0500
TZNAME:EST
DTSTART:20171105T060000
END:STANDARD
END:VTIMEZONE
BEGIN:VEVENT
DTSTART;TZID=America/New_York:20171011T100000
DTEND;TZID=America/New_York:20171011T120000
DTSTAMP:20210403T031837
CREATED:20171011T140000Z
LAST-MODIFIED:20191201T041229Z
UID:357332-1507716000-1507723200@www.patriotguard.org
SUMMARY:State Mission Request for 11 Oct 2017 from Illinois - Gregory Dale White
DESCRIPTION:Submitted by: \n\nMember Name: Bridget Krupa\nPosition: Ride Captain\nCity\, State: Oak Lawn\, Illinois\nUser Name: Krupab1\nEmail: Bridget.krupa@gmail.com\n\nEmail Subject Line Setup\n[HR][/HR]Prefix to Use – Honor\nSubject Line – SHORT NOTICE –  Gregory Dale White \, Veteran\, USA – Vietnam\,  MULTI-CITY\, Illinois  – 11 Oct 2017\n[HR][/HR] \n\nSHORT NOTICE!\nMULTI-CITY! See Mod Instructions for Details\n\nMod Instructions: \n\n\n++++++++ Copy the Information above this line++++++++++ \n\nHonor Mission\n*** DO NOT REPLY ***  \nGregory Dale White\, Veteran\nUSA  – Vietnam\nMULTI-CITY\, Illinois – 11 Oct 2017\n\n\n[HR][/HR]\nABOUT THE MISSION: \n\nThe family of Gregory White have invited the Patriot Guard to join them as they honor Gregs life and service to this country.* Mr. White served in the Army and was a Vietnam Veteran.\n\n\nPRIMARY STAGING DETAILS:  11 Oct 2017\nPrimary Staging Time: 10:00 A.M. \n\nRenner-Wykoff Funeral Home\,\n1900 S. Philo Rd.\nUrbana\, Illinois –\nhttps://www.google.com/maps?q=1900+S.+Philo+Rd.+Urbana\,+Il&entry=gmail&source=g\n\n\nRide Captain: \n\nRide Captain:* Vic Buraglio* (217) 369-0484\nSupport:* Jon Beck* (217) 278-0832\n\n\nSpecial Instructions: \n\nFollowing the memorial service we will escort Mr. White and his family to Grandview Memorial Gardens\, 4112 W. Bloomington Rd. Champaign\, Il. For Military rites provided by Urbana American Legion Post 71.\n\n\nFlags & Water: \n\nFlags Will Be Provided\nIf you have large bike flags\, please bring them.\nWater WILL NOT be provided\, please bring your own.\n\n[HR][/HR]STAGING #2 DETAILS: 11 Oct\, 2017\nStaging #2 Time: 1:30 P.M. \n\nGrandview Memorial Gardens\n4112 W. Bloomington Rd.\nChampaign\, Illinois –\nhttps://www.google.com/maps?q=4112+W.+Bloomington+Rd.+Champaign\,+Il&entry=gmail&source=g\n\n\nRide Captain: \n\nRide Captain:* Vic Buraglio* (217) 369-0484\nSupport:* Jon Beck* (217) 278-0832\n\n\nSpecial Instructions: \n\n\n\nFlags & Water: \n\nFlags Will Be Provided\nLarge Bike Flags will be needed\nWater WILL NOT be provided\, please bring your own.\n\n\nSubmitted By: Bridget Krupa\nPosition: Ride Captain\n[HR][/HR]Note:\nYou do not have to own/ride a motorcycle or be a Veteran to join and membership is Free. The only requirement is RESPECT! To join\, simply go to www.PatriotGuard.org and click on Register. Membership is Free. \nTo subscribe to receive mission notices\, log into the National Site and click on the Mission Tab at the top. Select the Subscribe to Missions option.
URL:https://www.patriotguard.org/mission/state-mission-request-for-11-oct-2017-from-illinois-gregory-dale-white/
CATEGORIES:Archive
END:VEVENT
END:VCALENDAR