BEGIN:VCALENDAR
VERSION:2.0
PRODID:-//Patriot Guard Riders - ECPv5.3.2.1//NONSGML v1.0//EN
CALSCALE:GREGORIAN
METHOD:PUBLISH
X-WR-CALNAME:Patriot Guard Riders
X-ORIGINAL-URL:https://www.patriotguard.org
X-WR-CALDESC:Events for Patriot Guard Riders
BEGIN:VTIMEZONE
TZID:America/New_York
BEGIN:DAYLIGHT
TZOFFSETFROM:-0500
TZOFFSETTO:-0400
TZNAME:EDT
DTSTART:20170312T070000
END:DAYLIGHT
BEGIN:STANDARD
TZOFFSETFROM:-0400
TZOFFSETTO:-0500
TZNAME:EST
DTSTART:20171105T060000
END:STANDARD
END:VTIMEZONE
BEGIN:VEVENT
DTSTART;TZID=America/New_York:20171111T103000
DTEND;TZID=America/New_York:20171111T123000
DTSTAMP:20210402T020836
CREATED:20171111T153000Z
LAST-MODIFIED:20191201T040849Z
UID:355463-1510396200-1510403400@www.patriotguard.org
SUMMARY:State Mission Request for 11 Nov 2017 from New York - Dryden Veteran's Day Ceremony
DESCRIPTION:Submitted by: \n\nMember Name: Ray Sestak\nPosition: Ride Captain\nCity\, State: Glenmont\, New York\nUser Name: PGRNYMods\nEmail: pgrnymod@gmail.com\n\nEmail Subject Line Setup\n[HR][/HR]Prefix to Use – HOTH\nSubject Line –  Dryden Veteran’s Day Ceremony \, Veteran –  Dryden\, New York  – 11 Nov 2017\n[HR][/HR] \n\n\nMod Instructions: \n\n\n++++++++ Copy the Information above this line++++++++++ \n\nHOTH Mission\n*** DO NOT REPLY ***  \nDryden Veteran’s Day Ceremony\, Veteran\n\nDryden\, New York – 11 Nov 2017\n\n\n[HR][/HR]\nABOUT THE MISSION: \n\nWe have been invited by the Dryden VFW and American Legion to stand a Flag line at the Village Square ( four corners of Dryden ) for their Veteran’s Day Ceremony. The community of Dryden has a rich history of past veterans from as far back as WW1\, I should know as quite a few of them were relations of mine. With a few of the past Post Commanders\, many ceremonies and parades have fallen by the wayside\, but the new Post Commander\, Ken Miller\, would like to bring them back. Ken\, as I do\, feels it’s important that the youth of the community understand the heritage of the area\, honoring those veterans serving today as well as those that gave their lives for the freedoms we hold so dearly today. Following the ceremony\, the American Legion Auxiliary will put on a Luncheon at the Veteran’s Memorial Home VFW/American Legion @ 2272 Dryden Road (rt 13) from 1200 till 2pm or till the food is all gone. I know in the past we have always gone to Dewitt Park in Ithaca for their ceremony\, but I thought we’d do something a little different this year and help the Dryden community revive the heritage of their proud little Village.\n\n\nPRIMARY STAGING DETAILS:  11 Nov 2017\nPrimary Staging Time: 10:30 A.M. \n\nDryden Village Square\n4 Corners of rt 13 and rt 38\n(formerly the site of Fellows Fuel Company)\nDryden\, New York –\n\n\nRide Captain: \n\nKent Tryon\nkltryon59@gmail.com\n607-206-7456\n\n\nSpecial Instructions: \n\nActual Start Time for the ceremony is 11am\nExtra parking can be found behind the Methodist Church on the 4 Corners of Dryden\n\n\nFlags & Water: \n\nFlags Will NOT Be Provided\, Please Bring Your Own.\nLarge Bike Flags will NOT be needed.\nWater WILL NOT be provided\, please bring your own.\n\nSubmitted By: Ray Sestak\nPosition: Ride Captain\n[HR][/HR]Note:\nYou do not have to own/ride a motorcycle or be a Veteran to join and membership is Free. The only requirement is RESPECT! To join\, simply go to www.PatriotGuard.org and click on Register. Membership is Free. \nTo subscribe to receive mission notices\, log into the National Site and click on the Mission Tab at the top. Select the Subscribe to Missions option.
URL:https://www.patriotguard.org/mission/state-mission-request-for-11-nov-2017-from-new-york-dryden-veterans-day-ceremony/
CATEGORIES:Archive
END:VEVENT
END:VCALENDAR