BEGIN:VCALENDAR
VERSION:2.0
PRODID:-//Patriot Guard Riders - ECPv5.3.2.1//NONSGML v1.0//EN
CALSCALE:GREGORIAN
METHOD:PUBLISH
X-WR-CALNAME:Patriot Guard Riders
X-ORIGINAL-URL:https://www.patriotguard.org
X-WR-CALDESC:Events for Patriot Guard Riders
BEGIN:VTIMEZONE
TZID:America/New_York
BEGIN:DAYLIGHT
TZOFFSETFROM:-0500
TZOFFSETTO:-0400
TZNAME:EDT
DTSTART:20170312T070000
END:DAYLIGHT
BEGIN:STANDARD
TZOFFSETFROM:-0400
TZOFFSETTO:-0500
TZNAME:EST
DTSTART:20171105T060000
END:STANDARD
END:VTIMEZONE
BEGIN:VEVENT
DTSTART;TZID=America/New_York:20171111T101500
DTEND;TZID=America/New_York:20171111T121500
DTSTAMP:20210402T021021
CREATED:20171111T151500Z
LAST-MODIFIED:20191201T040948Z
UID:355924-1510395300-1510402500@www.patriotguard.org
SUMMARY:State Mission Request for 11 Nov 2017 from New York - 62nd Annual Albany Veterans Day Parade
DESCRIPTION:Submitted by: \n\nMember Name: Ray Sestak\nPosition: Ride Captain\nCity\, State: Glenmont\, New York\nUser Name: PGRNYMods\nEmail: pgrnymod@gmail.com\n\nEmail Subject Line Setup\n[HR][/HR]Prefix to Use – HOTH\nSubject Line –  62nd Annual Albany Veterans Day Parade  –  Albany\, New York  – 11 Nov 2017\n[HR][/HR] \n\n\nMod Instructions: \n\n\n++++++++ Copy the Information above this line++++++++++ \n\nHOTH Mission\n*** DO NOT REPLY ***  \n62nd Annual Albany Veterans Day Parade\n\nAlbany\, New York – 11 Nov 2017\n\n\n[HR][/HR]\nABOUT THE MISSION: \n\nOnce again\, Albany Veterans Day organizers have requested that the Patriot Guard Riders participate in the City of Albany’s Annual Veterans Day Parade. This year’s Parade will be held on Saturday\, November 11\, 2017\, in downtown Albany\, NY. Parade will step off at 11:00am and will proceed down Central Ave to Washington Ave to the reviewing stand on the steps of the NYS Education Building. \nOne word – FLAGS !! – This is a great opportunity to fly the Flag. A motorcycle parade with flags flying is a sight to behold. Now the parade is walk speed so if you can\, attach your flag to your bike that can withstand the rigors of walk speed then please do so – heavy duty zip ties will work wonders in attaching poles to your bikes – so give this some consideration. Any flag size will do – the bigger the better – 3′ x 5′ is the usual flag size we fly. \nWhile in parade formation\, don’t be shy about making “a little noise” – we ride motorcycles – let the people see and HEAR us. As usual\, when we get to the reviewing stand we will salute the Grand Marshall and let the reviewing stand “hear and feel the thunder”. \nThe Co-Grand Marshalls for this year’s parade are Jack Clancy and Jimmy Brown\, the Co-Founders of the Tri-County Council of Vietnam Era Veterans. The organization is celebrating their 35th anniversary this year.\n \n\nPRIMARY STAGING DETAILS:  11 Nov 2017\nPrimary Staging Time: 10:15 A.M. \n\nIntersection of\nCentral and Partridge Ave.\nAlbany\, New York – 12206\n\n\nRide Captain: \n\nRay Sestak\nrayspgrny@gmail.com\n(518)669-3358\n\n\nSpecial Instructions: \n\nStaging area – The rally point for this event is our usual staging area at Central and Partridge Ave’s. \nWhile Central Ave is open until about 10:30am\, early arrivals will park on the North side of Central\, West of Partridge\, near Security Supply\, out of the way of any traffic. Once Central Ave is closed PGR will take up our spot – two abreast on the yellow center line of Central Ave beginning just West of Partridge Ave. \nKSU for parade is 11:00 – we’ll probably start to move 11:30am – 11:45am. \nPatriot Guard Riders will be the last organization in the Parade – saving the best for last.\n \n\nFlags & Water: \n\nFlags Will NOT Be Provided\, Please Bring Your Own.\nIf you have large bike flags\, please bring them.\nWater WILL NOT be provided\, please bring your own.\n\nSubmitted By: Ray Sestak\nPosition: Ride Captain\n[HR][/HR]Note:\nYou do not have to own/ride a motorcycle or be a Veteran to join and membership is Free. The only requirement is RESPECT! To join\, simply go to www.PatriotGuard.org and click on Register. Membership is Free. \nTo subscribe to receive mission notices\, log into the National Site and click on the Mission Tab at the top. Select the Subscribe to Missions option.
URL:https://www.patriotguard.org/mission/state-mission-request-for-11-nov-2017-from-new-york-62nd-annual-albany-veterans-day-parade/
CATEGORIES:Archive
END:VEVENT
END:VCALENDAR