BEGIN:VCALENDAR
VERSION:2.0
PRODID:-//Patriot Guard Riders - ECPv5.3.2.1//NONSGML v1.0//EN
CALSCALE:GREGORIAN
METHOD:PUBLISH
X-WR-CALNAME:Patriot Guard Riders
X-ORIGINAL-URL:https://www.patriotguard.org
X-WR-CALDESC:Events for Patriot Guard Riders
BEGIN:VTIMEZONE
TZID:America/New_York
BEGIN:DAYLIGHT
TZOFFSETFROM:-0500
TZOFFSETTO:-0400
TZNAME:EDT
DTSTART:20170312T070000
END:DAYLIGHT
BEGIN:STANDARD
TZOFFSETFROM:-0400
TZOFFSETTO:-0500
TZNAME:EST
DTSTART:20171105T060000
END:STANDARD
END:VTIMEZONE
BEGIN:VEVENT
DTSTART;TZID=America/New_York:20170211T093000
DTEND;TZID=America/New_York:20170211T113000
DTSTAMP:20210403T050433
CREATED:20170211T143000Z
LAST-MODIFIED:20191201T044314Z
UID:372781-1486805400-1486812600@www.patriotguard.org
SUMMARY:State Mission Request for 11 Feb 2017 from Iowa - Karl Shaen Valderrama\, 49
DESCRIPTION:Submitted by:\nMember Name:   Steve Cox\nPosition:   State Captain\nCity\, State:   Ankeny\, Iowa\nUser Name:   52sdc\nEmail:   sdc4098@yahoo.com\n \nEmail Subject Line Setup\n\nPrefix to Use – Honor\nSubject Line –   Karl Shaen Valderrama\, 49 \, Veteran\, USA  –  West Des Moines\, Iowa  – 11 Feb 2017\n\n\n\n\n\n\n\n\n \n\nMod Instructions:\n\n\n++++++++ Copy the Information above this line++++++++++\n\n \nHonor Mission\n\n*** DO NOT REPLY *** \nThis is an automated message sent to you because you have subscribed to this State’s Mission thread. For current details on this mission\, please follow the link below. \nKarl Shaen Valderrama\, 49\, Veteran \nUSA \nWest Des Moines\, Iowa – 11 Feb 2017\n \n\n\nABOUT THE MISSION:\nThe family of veteran Karl Valderrama has asked the Patriot Guard to stand in honor of his service to our great nation. He served in the US Army and passed away suddenly after a short illness.\n\nPRIMARY STAGING DETAILS:  11 Feb 2017\n\nPrimary Staging Time:  9:30 A.M.\nMcLaren Resthaven Chapel\n801 19th St\nWest Des Moines\, Iowa – 50265\n  \n\nRide Captain:\nBrian Holdeman\nffemt2716@yahoo.com\n515-991-1377\n\nSpecial Instructions:\nVisitation 10:00 – 11:00 AM\nService at 11:00 AM\nNo interment.\n\nFlags & Water:\nFlags Will Be Provided\nLarge Bike Flags will NOT be needed.\nWater WILL NOT be provided\, please bring your own. \nSubmitted By:  Steve Cox\nPosition:  State Captain \n\nNote:\nYou do not have to own/ride a motorcycle or be a Veteran to join and membership is Free. The only requirement is RESPECT! To join\, simply go to Patriot Guard website and click on Register. Membership is Free. \nTo subscribe to receive mission notices\, log into the National Site and click on the Mission Tab at the top. Select Upcoming Missions by State. Scroll to the state(s) you would like to receive notices for and click on the green check mark. Detailed instructions are also located in the FAQs on the site by clicking on the Quick Links Tab and selecting FAQs.
URL:https://www.patriotguard.org/mission/state-mission-request-for-11-feb-2017-from-iowa-karl-shaen-valderrama-49/
CATEGORIES:Archive
END:VEVENT
END:VCALENDAR