BEGIN:VCALENDAR
VERSION:2.0
PRODID:-//Patriot Guard Riders - ECPv5.3.2.1//NONSGML v1.0//EN
CALSCALE:GREGORIAN
METHOD:PUBLISH
X-WR-CALNAME:Patriot Guard Riders
X-ORIGINAL-URL:https://www.patriotguard.org
X-WR-CALDESC:Events for Patriot Guard Riders
BEGIN:VTIMEZONE
TZID:America/New_York
BEGIN:DAYLIGHT
TZOFFSETFROM:-0500
TZOFFSETTO:-0400
TZNAME:EDT
DTSTART:20170312T070000
END:DAYLIGHT
BEGIN:STANDARD
TZOFFSETFROM:-0400
TZOFFSETTO:-0500
TZNAME:EST
DTSTART:20171105T060000
END:STANDARD
END:VTIMEZONE
BEGIN:VEVENT
DTSTART;TZID=America/New_York:20170211T103000
DTEND;TZID=America/New_York:20170211T123000
DTSTAMP:20210405T223945
CREATED:20170211T153000Z
LAST-MODIFIED:20191201T044256Z
UID:372649-1486809000-1486816200@www.patriotguard.org
SUMMARY:State Mission Request for 11 Feb 2017 from Illinois - Bernard M. Talbert
DESCRIPTION:Submitted by:\nMember Name:   David Gier\nPosition:   Ride Captain\nCity\, State:   Crestwood\, Illinois\nUser Name:   Bike Dave\nEmail:   davidbgier@sbcglobal.net\n \nEmail Subject Line Setup\n\nPrefix to Use – Honor\nSubject Line –   Bernard M. Talbert \, Veteran\, USN – WWII\,  Cisne\, Illinois  – 11 Feb 2017\n\n\n\n\n\n\n\n\n \n\nMod Instructions:\nplease post\n\n++++++++ Copy the Information above this line++++++++++\n\n \nHonor Mission\n\n*** DO NOT REPLY *** \nThis is an automated message sent to you because you have subscribed to this State’s Mission thread. For current details on this mission\, please follow the link below. \nBernard M. Talbert\, Veteran \nUSN  – WWII\nCisne\, Illinois – 11 Feb 2017\n \n\n\nABOUT THE MISSION:\nThe family of Bernard M. Talbert\, age 89\, of Johnsonville\, IL has requested the presence of the IL Patriot Guard Riders at his visitation\, funeral and interment services.  Bernard was a WWII veteran who served in the United States Navy.  Bernard and his family were proud of his service to our nation and it will be our privilege to stand in a flag line to honor him.  Bernard will be greatly missed by his family and many friends.  Following the funeral service\, we will escort Bernard to his final resting place in Harrell Cemetery near Zenith\, IL\, a distance of approximately 8 miles.  Large flags are welcome for the escort; long range weather forecast is low 60’s and a chance of a passing shower.\n\nPRIMARY STAGING DETAILS:  11 Feb 2017\n\nPrimary Staging Time:  10:30 A.M.\nHosselton Funeral Home\n305 Park Street\nCisne\, Illinois –\n  \n\nRide Captain:\nGene Kollak\, SRC\, Region 7\, ILPGR\,  Contact # 618-516-2799\nAsst Ride Captain and flag support: Mike Merriman\,  ASRC\, Region 7\, ILPGR  Contact # 618-322-8300\n\nSpecial Instructions:\nsee ride captains for parking instructions\n\nFlags & Water:\nFlags Will Be Provided\nIf you have large bike flags\, please bring them.\nWater WILL NOT be provided\, please bring your own. \nSubmitted By:  David Gier\nPosition:  Ride Captain \n\nNote:\nYou do not have to own/ride a motorcycle or be a Veteran to join and membership is Free. The only requirement is RESPECT! To join\, simply go to Patriot Guard website and click on Register. Membership is Free. \nTo subscribe to receive mission notices\, log into the National Site and click on the Mission Tab at the top. Select Upcoming Missions by State. Scroll to the state(s) you would like to receive notices for and click on the green check mark. Detailed instructions are also located in the FAQs on the site by clicking on the Quick Links Tab and selecting FAQs.
URL:https://www.patriotguard.org/mission/state-mission-request-for-11-feb-2017-from-illinois-bernard-m-talbert/
CATEGORIES:Archive
END:VEVENT
END:VCALENDAR