BEGIN:VCALENDAR
VERSION:2.0
PRODID:-//Patriot Guard Riders - ECPv5.3.2.1//NONSGML v1.0//EN
CALSCALE:GREGORIAN
METHOD:PUBLISH
X-WR-CALNAME:Patriot Guard Riders
X-ORIGINAL-URL:https://www.patriotguard.org
X-WR-CALDESC:Events for Patriot Guard Riders
BEGIN:VTIMEZONE
TZID:America/New_York
BEGIN:DAYLIGHT
TZOFFSETFROM:-0500
TZOFFSETTO:-0400
TZNAME:EDT
DTSTART:20170312T070000
END:DAYLIGHT
BEGIN:STANDARD
TZOFFSETFROM:-0400
TZOFFSETTO:-0500
TZNAME:EST
DTSTART:20171105T060000
END:STANDARD
END:VTIMEZONE
BEGIN:VEVENT
DTSTART;TZID=America/New_York:20170811T081500
DTEND;TZID=America/New_York:20170811T101500
DTSTAMP:20210406T105651
CREATED:20170811T121500Z
LAST-MODIFIED:20191201T042016Z
UID:361347-1502439300-1502446500@www.patriotguard.org
SUMMARY:State Mission Request for 11 Aug 2017 from Missouri - Don R. Johnson
DESCRIPTION:Submitted by:\nMember Name:   Dave Beck\nPosition:   Ride Captain\nCity\, State:   Farmington\, Missouri\nUser Name:   Missouri Rebel\nEmail:   dbeck59110@gmail.com\n \nEmail Subject Line Setup\n\nPrefix to Use – Honor\nSubject Line –   Don R. Johnson \, Veteran\, USAF – Vietnam\,  Festus\, Missouri  – 11 Aug 2017\n\n\n\n\n\n\n\n\n \n\nMod Instructions:\n\n\n++++++++ Copy the Information above this line++++++++++\n\n \nHonor Mission\n\n*** DO NOT REPLY *** \nThis is an automated message sent to you because you have subscribed to this State’s Mission thread. For current details on this mission\, please follow the link below. \nDon R. Johnson\, Veteran \nUSAF  – Vietnam\nFestus\, Missouri – 11 Aug 2017\n \n\n\nABOUT THE MISSION:\nThe Family of USAF Vietnam Veteran Capt. Don R. Johnson (70) has requested the Patriot Guard Riders for the Final Mission of their Loved One. \nDon served his country for 6 years\, he was an AC-130 gunship pilot for 130 combat missions in Vietnam. He received 4 air medals and 2 distinguished flying crosses. \nHe was retired from human resources in the cable television and communications industry. He served as Conservation Commissioner for the Mo. Dept. of Conservation from 2007-2013. \nPGR Will escort from funeral home to First United Methodist Church \,Festus Mo. at 8:30 AM. \nWe will stand Flag line at church from 9:00 AM – 10:00AM \nService time: 10:00AM \nImmediately following service PGR will escort to Jefferson Barracks National Cemetery for interment with Full Military Honors.\nJB committal time is 11:30AM \nWeather : 78°  40% chance of rain  travel/dress accordingly.\n\nPRIMARY STAGING DETAILS:  11 Aug 2017\n\nPrimary Staging Time:  8:15 A.M.\nVineyards Funeral Home\n616 West Main Street\nFestus\, Missouri – 63028\n  \n\nRide Captain:\nTeresa (Smilz) Barnhouse RC / Support\nsmilz4u40@yahoo.com\n\nSpecial Instructions:\n\n\nFlags & Water:\nFlags Will Be Provided\nLarge Bike Flags will NOT be needed.\nWater will be provided. \nSubmitted By:  Dave Beck\nPosition:  Ride Captain \n\nNote:\nYou do not have to own/ride a motorcycle or be a Veteran to join and membership is Free. The only requirement is RESPECT! To join\, simply go to www.PatriotGuard.org and click on Register. Membership is Free. \nTo subscribe to receive mission notices\, log into the National Site and click on the Mission Tab at the top. Select Upcoming Missions by State. Scroll to the state(s) you would like to receive notices for and click on the green check mark. Detailed instructions are also located in the FAQs on the site by clicking on the Quick Links Tab and selecting FAQs.
URL:https://www.patriotguard.org/mission/state-mission-request-for-11-aug-2017-from-missouri-don-r-johnson/
CATEGORIES:Archive
END:VEVENT
END:VCALENDAR