BEGIN:VCALENDAR
VERSION:2.0
PRODID:-//Patriot Guard Riders - ECPv5.3.2.1//NONSGML v1.0//EN
CALSCALE:GREGORIAN
METHOD:PUBLISH
X-WR-CALNAME:Patriot Guard Riders
X-ORIGINAL-URL:https://www.patriotguard.org
X-WR-CALDESC:Events for Patriot Guard Riders
BEGIN:VTIMEZONE
TZID:America/New_York
BEGIN:DAYLIGHT
TZOFFSETFROM:-0500
TZOFFSETTO:-0400
TZNAME:EDT
DTSTART:20170312T070000
END:DAYLIGHT
BEGIN:STANDARD
TZOFFSETFROM:-0400
TZOFFSETTO:-0500
TZNAME:EST
DTSTART:20171105T060000
END:STANDARD
END:VTIMEZONE
BEGIN:VEVENT
DTSTART;TZID=America/New_York:20171110T123000
DTEND;TZID=America/New_York:20171110T143000
DTSTAMP:20210401T191417
CREATED:20171110T173000Z
LAST-MODIFIED:20191201T040836Z
UID:355332-1510317000-1510324200@www.patriotguard.org
SUMMARY:State Mission Request for 10 Nov 2017 from Oklahoma - Pvt. Robert A. Higgins
DESCRIPTION:Submitted by: \n\nMember Name: Ray Gehrig\nPosition: Ride Captain\nCity\, State: Edmond\, Oklahoma\nUser Name: rayneman\nEmail: rayneman@cox.net\n\nEmail Subject Line Setup\n[HR][/HR]Prefix to Use – Honor\nSubject Line –  Pvt. Robert A. Higgins \, Veteran\, USA – Korea\,  MULTI-CITY\, Oklahoma  – 10 Nov 2017\n[HR][/HR] \n\nMULTI-CITY! See Mod Instructions for Details\n\nMod Instructions: \n\nRequest posting to National and Statewide notification of the following mission in Oklahoma:\n\n++++++++ Copy the Information above this line++++++++++ \n\nHonor Mission\n*** DO NOT REPLY ***  \nPvt. Robert A. Higgins\, Veteran\nUSA  – Korea\nMULTI-CITY\, Oklahoma – 10 Nov 2017\n\n\n[HR][/HR]\nABOUT THE MISSION: \n\nThe family of USA Korean War Veteran Robert A. Higgins has asked the PGR to stand a flag line at his services to be held on Nov. 10\, 2017\nServices will be held at the Eisenhour Funeral Home Chapel\, 2500 N. Council\, Blanchard\, OK. at 2p.m. Interment will follow at the Dibble Cemetery in Dibble\, OK.\n\n\nPRIMARY STAGING DETAILS:  10 Nov 2017\nPrimary Staging Time: 12:30 P.M. \n\nEisenhour Funeral Home\n2500 N. Council\nBlanchard\, Oklahoma –\n\n\nRide Captain: \n\nRCIC: Ray “rayneman” Gehrig\n(405) 517-9538\nrayneman@cox.net\n\n\nSpecial Instructions: \n\nMandatory Briefing: 12:45p.m.\nRiders must attend the briefing if riding in the escort. \nFlag Line: 1:30p.m. \nWeather: Partly cloudy with a low of 37 and a high of 61 predicted\, with SE breeze of 10mph. \nPlease hydrate prior to and during this mission.\n \n\nFlags & Water: \n\nFlags Will Be Provided\nIf you have large bike flags\, please bring them.\nWater WILL NOT be provided\, please bring your own.\n\nSubmitted By: Ray Gehrig\nPosition: Ride Captain\n[HR][/HR]Note:\nYou do not have to own/ride a motorcycle or be a Veteran to join and membership is Free. The only requirement is RESPECT! To join\, simply go to www.PatriotGuard.org and click on Register. Membership is Free. \nTo subscribe to receive mission notices\, log into the National Site and click on the Mission Tab at the top. Select the Subscribe to Missions option.
URL:https://www.patriotguard.org/mission/state-mission-request-for-10-nov-2017-from-oklahoma-pvt-robert-a-higgins/
END:VEVENT
END:VCALENDAR