BEGIN:VCALENDAR
VERSION:2.0
PRODID:-//Patriot Guard Riders - ECPv5.3.2.1//NONSGML v1.0//EN
CALSCALE:GREGORIAN
METHOD:PUBLISH
X-WR-CALNAME:Patriot Guard Riders
X-ORIGINAL-URL:https://www.patriotguard.org
X-WR-CALDESC:Events for Patriot Guard Riders
BEGIN:VTIMEZONE
TZID:America/New_York
BEGIN:DAYLIGHT
TZOFFSETFROM:-0500
TZOFFSETTO:-0400
TZNAME:EDT
DTSTART:20170312T070000
END:DAYLIGHT
BEGIN:STANDARD
TZOFFSETFROM:-0400
TZOFFSETTO:-0500
TZNAME:EST
DTSTART:20171105T060000
END:STANDARD
END:VTIMEZONE
BEGIN:VEVENT
DTSTART;TZID=America/New_York:20171110T133000
DTEND;TZID=America/New_York:20171110T153000
DTSTAMP:20210402T020746
CREATED:20171110T183000Z
LAST-MODIFIED:20191201T040858Z
UID:355541-1510320600-1510327800@www.patriotguard.org
SUMMARY:State Mission Request for 10 Nov 2017 from New York - Veterans Day Recognition Ceremony
DESCRIPTION:Submitted by: \n\nMember Name: Ray Sestak\nPosition: Ride Captain\nCity\, State: Glenmont\, New York\nUser Name: PGRNYMods\nEmail: pgrnymod@gmail.com\n\nEmail Subject Line Setup\n[HR][/HR]Prefix to Use – HOTH\nSubject Line –  Veterans Day Recognition Ceremony  –  Clifton Park\, New York  – 10 Nov 2017\n[HR][/HR] \n\n\nMod Instructions: \n\n\n++++++++ Copy the Information above this line++++++++++ \n\nHOTH Mission\n*** DO NOT REPLY ***  \nVeterans Day Recognition Ceremony\n\nClifton Park\, New York – 10 Nov 2017\n\n\n[HR][/HR]\nABOUT THE MISSION: \n\nThe management of Peregrine Senior Living in Clifton Park has requested the participation of the Patriot Guard Riders in their annual Veterans Day Recognition Ceremony. \nThis is our third year for this event.  We have always been well received by the veterans\, their families and staff for our patriotism. We will be there again to honor those who have helped give our great nation the freedom we enjoy everyday.\n \n\nPRIMARY STAGING DETAILS:  10 Nov 2017\nPrimary Staging Time: 1:30 P.M. \n\nPeregrine Senior Living Center\n1 Emma Lane\nClifton Park\, New York – 12065\n\n\nRide Captain: \n\nMike Hogan\nmhogan01@nycap.rr.com\n\n\nSpecial Instructions: \n\nStage at 1:30 pm ceremony starts at 2:00 pm.\n\n\nFlags & Water: \n\nFlags Will NOT Be Provided\, Please Bring Your Own.\nLarge Bike Flags will NOT be needed.\nWater WILL NOT be provided\, please bring your own.\n\nSubmitted By: Ray Sestak\nPosition: Ride Captain\n[HR][/HR]Note:\nYou do not have to own/ride a motorcycle or be a Veteran to join and membership is Free. The only requirement is RESPECT! To join\, simply go to www.PatriotGuard.org and click on Register. Membership is Free. \nTo subscribe to receive mission notices\, log into the National Site and click on the Mission Tab at the top. Select the Subscribe to Missions option.
URL:https://www.patriotguard.org/mission/state-mission-request-for-10-nov-2017-from-new-york-veterans-day-recognition-ceremony/
CATEGORIES:Archive
END:VEVENT
END:VCALENDAR