BEGIN:VCALENDAR
VERSION:2.0
PRODID:-//Patriot Guard Riders - ECPv5.3.2.1//NONSGML v1.0//EN
CALSCALE:GREGORIAN
METHOD:PUBLISH
X-WR-CALNAME:Patriot Guard Riders
X-ORIGINAL-URL:https://www.patriotguard.org
X-WR-CALDESC:Events for Patriot Guard Riders
BEGIN:VTIMEZONE
TZID:America/New_York
BEGIN:DAYLIGHT
TZOFFSETFROM:-0500
TZOFFSETTO:-0400
TZNAME:EDT
DTSTART:20170312T070000
END:DAYLIGHT
BEGIN:STANDARD
TZOFFSETFROM:-0400
TZOFFSETTO:-0500
TZNAME:EST
DTSTART:20171105T060000
END:STANDARD
END:VTIMEZONE
BEGIN:VEVENT
DTSTART;TZID=America/New_York:20171110T100000
DTEND;TZID=America/New_York:20171110T120000
DTSTAMP:20210405T211449
CREATED:20171110T150000Z
LAST-MODIFIED:20191201T040945Z
UID:355900-1510308000-1510315200@www.patriotguard.org
SUMMARY:State Mission Request for 10 Nov 2017 from Kentucky - Veterans Day Annie E. Young Cemetery
DESCRIPTION:Submitted by: \n\nMember Name: Tom Folsom\nPosition: State Captain\nCity\, State: Rineyville\, Kentucky\nUser Name: Ultra Rider13\nEmail: Tfolsom13@gmail.com\n\nEmail Subject Line Setup\n[HR][/HR]Prefix to Use – HOTH\nSubject Line –  Veterans Day Annie E. Young Cemetery  –  Pikeville\, Kentucky  – 10 Nov 2017\n[HR][/HR] \n\n\nMod Instructions: \n\n\n++++++++ Copy the Information above this line++++++++++ \n\nHOTH Mission\n*** DO NOT REPLY ***  \nVeterans Day Annie E. Young Cemetery\n\nPikeville\, Kentucky – 10 Nov 2017\n\n\n[HR][/HR]\nABOUT THE MISSION: \n\nWe have been invited to attend a Veterans Day Event at The Annie E. Young Cemetery. We will be posting flags and standing in honor of our Veterans.\n\n\nPRIMARY STAGING DETAILS:  10 Nov 2017\nPrimary Staging Time: 10:00 A.M. \n\nThe Annie E. Young Cemetery\n4964 Chloe Road\nPikeville\, Kentucky – 41501\n\n\nRide Captain: \n\nMarion Rogers\nstonecoldmario@yahoo.com\n\n\nSpecial Instructions: \n\nIf you would like to arrive at 0800 we will be staking flags in the cemetery\n\n\nFlags & Water: \n\nFlags Will Be Provided\nLarge Bike Flags will NOT be needed.\nWater WILL NOT be provided\, please bring your own.\n\nSubmitted By: Tom Folsom\nPosition: State Captain\n[HR][/HR]Note:\nYou do not have to own/ride a motorcycle or be a Veteran to join and membership is Free. The only requirement is RESPECT! To join\, simply go to www.PatriotGuard.org and click on Register. Membership is Free. \nTo subscribe to receive mission notices\, log into the National Site and click on the Mission Tab at the top. Select the Subscribe to Missions option.
URL:https://www.patriotguard.org/mission/state-mission-request-for-10-nov-2017-from-kentucky-veterans-day-annie-e-young-cemetery/
CATEGORIES:Archive
END:VEVENT
END:VCALENDAR