BEGIN:VCALENDAR
VERSION:2.0
PRODID:-//Patriot Guard Riders - ECPv5.3.2.1//NONSGML v1.0//EN
CALSCALE:GREGORIAN
METHOD:PUBLISH
X-WR-CALNAME:Patriot Guard Riders
X-ORIGINAL-URL:https://www.patriotguard.org
X-WR-CALDESC:Events for Patriot Guard Riders
BEGIN:VTIMEZONE
TZID:America/New_York
BEGIN:DAYLIGHT
TZOFFSETFROM:-0500
TZOFFSETTO:-0400
TZNAME:EDT
DTSTART:20170312T070000
END:DAYLIGHT
BEGIN:STANDARD
TZOFFSETFROM:-0400
TZOFFSETTO:-0500
TZNAME:EST
DTSTART:20171105T060000
END:STANDARD
END:VTIMEZONE
BEGIN:VEVENT
DTSTART;TZID=America/New_York:20170510T103000
DTEND;TZID=America/New_York:20170510T123000
DTSTAMP:20210401T163411
CREATED:20170510T143000Z
LAST-MODIFIED:20191201T043150Z
UID:367131-1494412200-1494419400@www.patriotguard.org
SUMMARY:State Mission Request for 10 May 2017 from Arizona - AMERICAN HEROES - GROUP HONORS
DESCRIPTION:Submitted by:\nMember Name:   John Moffitt\nPosition:   Assistant State Captain\nCity\, State:   Peeples Valley\, Arizona\nUser Name:   jmoffitt\nEmail:   prescottbikers@hotmail.com\n \nEmail Subject Line Setup\n\nPrefix to Use – Honor\nSubject Line – SHORT NOTICE – American Heroes\, Veteran\, USA\, USN\, USAF – WWII\, Korea\, Vietnam\,  Prescott\, Arizona  – 10 May 2017\n\n\nSHORT NOTICE!\n\n\n\n\nAmerican Heroes Group Mission!\n \n\nMod Instructions:\n\n\n++++++++ Copy the Information above this line++++++++++\n\n \nHonor Mission\n\n*** DO NOT REPLY *** \nThis is an automated message sent to you because you have subscribed to this State’s Mission thread. For current details on this mission\, please follow the link below. \nAmerican Heroes\, Veteran \nUSA\, USN\, USAF  – WWII\, Korea\, Vietnam\nPrescott\, Arizona – 10 May 2017\n \n\n\nABOUT THE MISSION:\nThe American Legion Post 6 Honor Guard\, Army National Guard and Prescott National Cemetery hold a ceremony once a month called ‘Group Honors” at Prescott National Cemetery. The PGR is honored to be a part of this ceremony. Group honors are presented once every month. These services are for those deceased veterans who have had a private service or church service where military honors were not rendered but they have been placed at the Prescott National Cemetery. Every veteran interred at Prescott National Cemetery will have military honors\, whether requested or not. The number of veterans being honored at these group services usually number from 3 to 14. Veterans being honored this month are:\nORVAL L. GANNAWAY\, Airman 2nd Class\, USAF – Korean War Veteran\nWILLIAM L. LAND\, Private First Class\, USA\, WW II Veteran\nJOHN D. LAINHART\, Private E-2\, USA\nBRUCE K. SPEELMAN\, Aviation Structural Mechanic 3rd Class\, USN – Vietnam Veteran\nJOHN D. THOMPSON – USA – Korean War Veteran\n\nPRIMARY STAGING DETAILS:  10 May 2017\n\nPrimary Staging Time:  10:30 A.M.\nPrescott National Cemetery\n500 SR  89\nPrescott\, AZ 86301\nPrescott\, Arizona – 86301\nhttp://tinyurl.com/juvcgx7  \n\nRide Captain:\nRide Captain:\nVictor Borelli (Springer)\n928-775-6401\n96springer@cableonet.net \nFLAG GUY: GARY SHELDON\n\nSpecial Instructions:\nBriefing 1040 hrs\nFlag Line goes up 1050 hrs\nFull Military Honors 1100 hrs \nThe PGR will stand down at the conclusion of military honors\n\nFlags & Water:\nFlags Will Be Provided\nLarge Bike Flags will NOT be needed.\nWater will be provided. \nSubmitted By:  John Moffitt\nPosition:  Assistant State Captain \n\nNote:\nYou do not have to own/ride a motorcycle or be a Veteran to join and membership is Free. The only requirement is RESPECT! To join\, simply go to www.PatriotGuard.org and click on Register. Membership is Free. \nTo subscribe to receive mission notices\, log into the National Site and click on the Mission Tab at the top. Select Upcoming Missions by State. Scroll to the state(s) you would like to receive notices for and click on the green check mark. Detailed instructions are also located in the FAQs on the site by clicking on the Quick Links Tab and selecting FAQs.
URL:https://www.patriotguard.org/mission/state-mission-request-for-10-may-2017-from-arizona-american-heroes-group-honors/
CATEGORIES:Archive
END:VEVENT
END:VCALENDAR