BEGIN:VCALENDAR
VERSION:2.0
PRODID:-//Patriot Guard Riders - ECPv5.3.2.1//NONSGML v1.0//EN
CALSCALE:GREGORIAN
METHOD:PUBLISH
X-WR-CALNAME:Patriot Guard Riders
X-ORIGINAL-URL:https://www.patriotguard.org
X-WR-CALDESC:Events for Patriot Guard Riders
BEGIN:VTIMEZONE
TZID:America/New_York
BEGIN:DAYLIGHT
TZOFFSETFROM:-0500
TZOFFSETTO:-0400
TZNAME:EDT
DTSTART:20170312T070000
END:DAYLIGHT
BEGIN:STANDARD
TZOFFSETFROM:-0400
TZOFFSETTO:-0500
TZNAME:EST
DTSTART:20171105T060000
END:STANDARD
END:VTIMEZONE
BEGIN:VEVENT
DTSTART;TZID=America/New_York:20170710T101500
DTEND;TZID=America/New_York:20170710T121500
DTSTAMP:20210405T234401
CREATED:20170710T141500Z
LAST-MODIFIED:20191201T042411Z
UID:363307-1499681700-1499688900@www.patriotguard.org
SUMMARY:State Mission Request for 10 Jul 2017 from New York - Ronald G. Gottschalk Sr.
DESCRIPTION:Submitted by:\nMember Name:   Ray Sestak\nPosition:   Ride Captain\nCity\, State:   Glenmont\, New York\nUser Name:   PGRNYMods\nEmail:   pgrnymod@gmail.com\n \nEmail Subject Line Setup\n\nPrefix to Use – Honor\nSubject Line – SHORT NOTICE –  Ronald G. Gottschalk Sr. \, Veteran\, USAF – Korea\,  Honeoye Falls\, New York  – 10 Jul 2017\n\n\nSHORT NOTICE!\n\n\n\n\n\n \n\nMod Instructions:\n\n\n++++++++ Copy the Information above this line++++++++++\n\n \nHonor Mission\n\n*** DO NOT REPLY *** \nThis is an automated message sent to you because you have subscribed to this State’s Mission thread. For current details on this mission\, please follow the link below. \nRonald G. Gottschalk Sr.\, Veteran \nUSAF  – Korea\nHoneoye Falls\, New York – 10 Jul 2017\n \n\n\nABOUT THE MISSION:\nThe family of Mr. Ronald Gottschalk has asked the PGR to participate in honoring his military service. Mr. Gottschalk is a United States Air Force Veteran and served during the Korean War. \nMr. Gottschalk entered the service in 1951 and was honorably discharged in 1955. During that time\, Mr. Gottschalk was a mechanic in the 436th Fighter Day Squadron based in California.\nObituary: https://tinyurl.com/ycxgdymv\n\nPRIMARY STAGING DETAILS:  10 Jul 2017\n\nPrimary Staging Time:  10:15 A.M.\nMerton H. Kays Funeral Home\n59 Monroe Street\nHoneoye Falls\, New York – 14472\nhttps://tinyurl.com/y9t42j4s  \n\nRide Captain:\nBruce Forsyth\n201.602.0938\nninemacs@aol.com\n\nSpecial Instructions:\nFlag Line at 10:30 for the expected arrival of family.\nFlag line during calling hours\, 11:00 – 14:00\nServices at 14:00 expected to go about an hour at the funeral home.\nUpon conclusion of services\, escort to Pine Hill Cemetery (about 6 miles).\nPine Hill Cemetery: https://tinyurl.com/yart5lmd\nPlease dress for the weather – current forecast is fair and about 80 degrees F.\nPlease ensure your flags are properly attached to your vehicle.\n\nFlags & Water:\nFlags Will NOT Be Provided\, Please Bring Your Own.\nIf you have large bike flags\, please bring them.\nWater WILL NOT be provided\, please bring your own. \nSubmitted By:  Ray Sestak\nPosition:  Ride Captain \n\nNote:\nYou do not have to own/ride a motorcycle or be a Veteran to join and membership is Free. The only requirement is RESPECT! To join\, simply go to www.PatriotGuard.org and click on Register. Membership is Free. \nTo subscribe to receive mission notices\, log into the National Site and click on the Mission Tab at the top. Select Upcoming Missions by State. Scroll to the state(s) you would like to receive notices for and click on the green check mark. Detailed instructions are also located in the FAQs on the site by clicking on the Quick Links Tab and selecting FAQs.
URL:https://www.patriotguard.org/mission/state-mission-request-for-10-jul-2017-from-new-york-ronald-g-gottschalk-sr/
CATEGORIES:Archive
END:VEVENT
END:VCALENDAR