BEGIN:VCALENDAR
VERSION:2.0
PRODID:-//Patriot Guard Riders - ECPv5.3.2.1//NONSGML v1.0//EN
CALSCALE:GREGORIAN
METHOD:PUBLISH
X-WR-CALNAME:Patriot Guard Riders
X-ORIGINAL-URL:https://www.patriotguard.org
X-WR-CALDESC:Events for Patriot Guard Riders
BEGIN:VTIMEZONE
TZID:America/New_York
BEGIN:DAYLIGHT
TZOFFSETFROM:-0500
TZOFFSETTO:-0400
TZNAME:EDT
DTSTART:20170312T070000
END:DAYLIGHT
BEGIN:STANDARD
TZOFFSETFROM:-0400
TZOFFSETTO:-0500
TZNAME:EST
DTSTART:20171105T060000
END:STANDARD
END:VTIMEZONE
BEGIN:VEVENT
DTSTART;TZID=America/New_York:20170210T081500
DTEND;TZID=America/New_York:20170210T101500
DTSTAMP:20210404T132724
CREATED:20170210T131500Z
LAST-MODIFIED:20191201T044322Z
UID:372841-1486714500-1486721700@www.patriotguard.org
SUMMARY:State Mission Request for 10 Feb 2017 from Iowa - James G. "Beefer" Braafhart
DESCRIPTION:Submitted by:\nMember Name:   Eric Swanson\nPosition:   Ride Captain\nCity\, State:   Davenport\, Iowa\nUser Name:   Nailer101\nEmail:   qcapgr@gmail.com\n \nEmail Subject Line Setup\n\nPrefix to Use – Honor\nSubject Line –   James G. “Beefer” Braafhart \, USA – Vietnam\,  MULTI-CITY\, MULTI-STATE  – 10 Feb 2017\n\n\n\nSTATEWIDE REQUIRED!\nMULTI-CITY! See Mod Instructions for Details\nMULTI-STATE! See Mod Instructions for Details\n\n\n \n\nMod Instructions:\nFuneral Service in Iowa\, Interment in Illinois\n\n++++++++ Copy the Information above this line++++++++++\n\n \nHonor Mission\n\n*** DO NOT REPLY *** \nThis is an automated message sent to you because you have subscribed to this State’s Mission thread. For current details on this mission\, please follow the link below. \nJames G. “Beefer” Braafhart \nUSA  – Vietnam\nMULTI-CITY\, MULTI-STATE – 10 Feb 2017\n \n\n\nABOUT THE MISSION:\nThe Patriot Guard Riders have been invited by the family of James G. “Beefer” Braafhart\, US Army Vietnam Veteran\, to participate in honoring his service to this Great Nation at his Visitation/Funeral and Interment Services to be held on Friday\, 10 FEB 17. \nBeefer was involved in numerous activities and organizations dedicated to taking care of our veteran community\, most notably as Deputy Commander of ALR-154 for at least the past 10 years.\n\nPRIMARY STAGING DETAILS:  10 Feb 2017\n\nPrimary Staging Time:  8:15 A.M.\nRunge Mortuary & Crematory\n838 E. Kimberly Rd.\nDavenport\, Iowa – 52806\nhttps://goo.gl/maps/RAZ27b743Vo  \n\nRide Captain:\nEric “Nailer” Swanson\nSRC Iowa/Asst. SRC Illinois\n563-676-7145\nqcapgr@gmail.com\n\nSpecial Instructions:\nRally Time: 0815 hrs.  PRB 0830 hrs.  Immediately establish our flag lines.\nVisitation: 0900-1000 hrs.\nFuneral: 1000 hrs.  On completion of Funeral Services\, we will escort to R.I. National Cemetery for Interment Services.  Military Honors will be provided by Blue Grass American Legion. \nNOTE:  All Safety Gear required (Helmet\, Boots\, Long Sleeves\, Full Finger Gloves)\n\nFlags & Water:\nFlags Will Be Provided\nIf you have large bike flags\, please bring them.\nWater will be provided. \nSubmitted By:  Eric Swanson\nPosition:  Ride Captain \n\nNote:\nYou do not have to own/ride a motorcycle or be a Veteran to join and membership is Free. The only requirement is RESPECT! To join\, simply go to Patriot Guard website and click on Register. Membership is Free. \nTo subscribe to receive mission notices\, log into the National Site and click on the Mission Tab at the top. Select Upcoming Missions by State. Scroll to the state(s) you would like to receive notices for and click on the green check mark. Detailed instructions are also located in the FAQs on the site by clicking on the Quick Links Tab and selecting FAQs.
URL:https://www.patriotguard.org/mission/state-mission-request-for-10-feb-2017-from-iowa-james-g-beefer-braafhart-2/
CATEGORIES:Archive
END:VEVENT
END:VCALENDAR