BEGIN:VCALENDAR
VERSION:2.0
PRODID:-//Patriot Guard Riders - ECPv5.3.2.1//NONSGML v1.0//EN
CALSCALE:GREGORIAN
METHOD:PUBLISH
X-WR-CALNAME:Patriot Guard Riders
X-ORIGINAL-URL:https://www.patriotguard.org
X-WR-CALDESC:Events for Patriot Guard Riders
BEGIN:VTIMEZONE
TZID:America/New_York
BEGIN:DAYLIGHT
TZOFFSETFROM:-0500
TZOFFSETTO:-0400
TZNAME:EDT
DTSTART:20170312T070000
END:DAYLIGHT
BEGIN:STANDARD
TZOFFSETFROM:-0400
TZOFFSETTO:-0500
TZNAME:EST
DTSTART:20171105T060000
END:STANDARD
END:VTIMEZONE
BEGIN:VEVENT
DTSTART;TZID=America/New_York:20170810T163000
DTEND;TZID=America/New_York:20170810T183000
DTSTAMP:20210406T105456
CREATED:20170810T203000Z
LAST-MODIFIED:20191201T042018Z
UID:361367-1502382600-1502389800@www.patriotguard.org
SUMMARY:State Mission Request for 10 Aug 2017 from Missouri - Richard James Underwood
DESCRIPTION:Submitted by:\nMember Name:   Richard Maxwell\nPosition:   Ride Captain\nCity\, State:   Knob Noster\, Missouri\nUser Name:   rmax55\nEmail:   rmax55@att.net\n \nEmail Subject Line Setup\n\nPrefix to Use – Memorial\nSubject Line – SHORT NOTICE –  Richard James Underwood \, Retired\, Veteran\, USAF \, LEO – Vietnam\,  Warrensburg\, Missouri  – 10 Aug 2017\n\n\nSHORT NOTICE!\n\n\n\n\n\n \n\nMod Instructions:\ni tried to submit this mission tuesday morning\,  when i hit submit it exited me out  so if you could please check and make sure this was not posted before posting\ni did not receive any verification that the mission was posted\nsorry for the trouble\n\n++++++++ Copy the Information above this line++++++++++\n\n \nMemorial Mission\n\n*** DO NOT REPLY *** \nThis is an automated message sent to you because you have subscribed to this State’s Mission thread. For current details on this mission\, please follow the link below. \nRichard James Underwood\, Retired\, Veteran \nUSAF LEO  – Vietnam\nWarrensburg\, Missouri – 10 Aug 2017\n \n\n\nABOUT THE MISSION:\nJames was in the United States Air Force where he achieved the rank of Senior Master Sergeant (E-8)\,  He served from 1954 – 1977 where he performed duties  as a Command and Control Supervisor and as a Chief Controller.  After leaving the military James joined the Missouri State Highway Patrol and was a  Driver Examiner.  James retied from from the Highway Patron in 1993\n\nPRIMARY STAGING DETAILS:  10 Aug 2017\n\nPrimary Staging Time:  1330 P.M.\nSweeney-Phillips & Holdren Funeral Home\n617 North Maguire Street\nWarrensburg\, Missouri – 694093\n  \n\nRide Captain:\nRichard Maxwell TSgt Retired\nPatriot Guard Ride Captain\n660-909-4888 rmax55@att.net\n\nSpecial Instructions:\nRide briefing 1330\nVisitation       1400\nEscort          1500\nServices        1515 at Memorial Gardens Cemetery \nWeather High 82 with Thunderstorms through out the day.  Winds out of the southwest gusting to 15 MPH\n\nFlags & Water:\nFlags Will Be Provided\nIf you have large bike flags\, please bring them.\nWater will be provided. \nSubmitted By:  Richard Maxwell\nPosition:  Ride Captain \n\nNote:\nYou do not have to own/ride a motorcycle or be a Veteran to join and membership is Free. The only requirement is RESPECT! To join\, simply go to www.PatriotGuard.org and click on Register. Membership is Free. \nTo subscribe to receive mission notices\, log into the National Site and click on the Mission Tab at the top. Select Upcoming Missions by State. Scroll to the state(s) you would like to receive notices for and click on the green check mark. Detailed instructions are also located in the FAQs on the site by clicking on the Quick Links Tab and selecting FAQs.
URL:https://www.patriotguard.org/mission/state-mission-request-for-10-aug-2017-from-missouri-richard-james-underwood/
CATEGORIES:Archive
END:VEVENT
END:VCALENDAR