BEGIN:VCALENDAR
VERSION:2.0
PRODID:-//Patriot Guard Riders - ECPv5.3.2.1//NONSGML v1.0//EN
CALSCALE:GREGORIAN
METHOD:PUBLISH
X-WR-CALNAME:Patriot Guard Riders
X-ORIGINAL-URL:https://www.patriotguard.org
X-WR-CALDESC:Events for Patriot Guard Riders
BEGIN:VTIMEZONE
TZID:America/New_York
BEGIN:DAYLIGHT
TZOFFSETFROM:-0500
TZOFFSETTO:-0400
TZNAME:EDT
DTSTART:20170312T070000
END:DAYLIGHT
BEGIN:STANDARD
TZOFFSETFROM:-0400
TZOFFSETTO:-0500
TZNAME:EST
DTSTART:20171105T060000
END:STANDARD
END:VTIMEZONE
BEGIN:VEVENT
DTSTART;TZID=America/New_York:20170909T101500
DTEND;TZID=America/New_York:20170909T121500
DTSTAMP:20210405T181041
CREATED:20170909T141500Z
LAST-MODIFIED:20191201T041722Z
UID:359855-1504952100-1504959300@www.patriotguard.org
SUMMARY:State Mission Request for 09 Sep 2017 from Nevada - Conrado Villamin Lazo
DESCRIPTION:Submitted by: \n\nMember Name: Rick Foulon\nPosition: Assistant State Captain\nCity\, State: Las Vegas\, Nevada\nUser Name: marinerick\nEmail: rickfoulon@yahoo.com\n\nEmail Subject Line Setup\n[HR][/HR]Prefix to Use – Honor\nSubject Line –  Conrado Villamin Lazo \, Retired\, USN – Vietnam\,  Las Vegas\, Nevada  – 09 Sep 2017\n[HR][/HR] \n\n\nMod Instructions: \n\n\n++++++++ Copy the Information above this line++++++++++ \n\nHonor Mission\n*** DO NOT REPLY ***  \nConrado Villamin Lazo\, Retired\nUSN  – Vietnam\nLas Vegas\, Nevada – 09 Sep 2017\n\n\n[HR][/HR]\nABOUT THE MISSION: \n\nConrado Villamin Lazo served in the U.S. Navy for 21 years and served in Viet Nam.  His family has requested that the PGR provide flag lines at the church and cemetery\, and a motorcycle escort from the church to the cemetery.\n\n\nPRIMARY STAGING DETAILS:  09 Sep 2017\nPrimary Staging Time: 10:15 A.M. \n\nSt. Anne Catholic Church\nParking lot\n1901 S. Maryland Pkwy.\nLas Vegas\, Nevada – 89104\n\n\nRide Captain: \n\nRick Foulon\nsnvpgr@gmail.com\n702-427-7185\n\n\nSpecial Instructions: \n\n\n\nFlags & Water: \n\nFlags Will NOT Be Provided\, Please Bring Your Own.\nIf you have large bike flags\, please bring them.\nWater WILL NOT be provided\, please bring your own.\n\nSubmitted By: Rick Foulon\nPosition: Assistant State Captain\n[HR][/HR]Note:\nYou do not have to own/ride a motorcycle or be a Veteran to join and membership is Free. The only requirement is RESPECT! To join\, simply go to www.PatriotGuard.org and click on Register. Membership is Free. \nTo subscribe to receive mission notices\, log into the National Site and click on the Mission Tab at the top. Select the Subscribe to Missions option.
URL:https://www.patriotguard.org/mission/state-mission-request-for-09-sep-2017-from-nevada-conrado-villamin-lazo/
CATEGORIES:Archive
END:VEVENT
END:VCALENDAR