BEGIN:VCALENDAR
VERSION:2.0
PRODID:-//Patriot Guard Riders - ECPv5.3.2.1//NONSGML v1.0//EN
CALSCALE:GREGORIAN
METHOD:PUBLISH
X-WR-CALNAME:Patriot Guard Riders
X-ORIGINAL-URL:https://www.patriotguard.org
X-WR-CALDESC:Events for Patriot Guard Riders
BEGIN:VTIMEZONE
TZID:America/New_York
BEGIN:DAYLIGHT
TZOFFSETFROM:-0500
TZOFFSETTO:-0400
TZNAME:EDT
DTSTART:20170312T070000
END:DAYLIGHT
BEGIN:STANDARD
TZOFFSETFROM:-0400
TZOFFSETTO:-0500
TZNAME:EST
DTSTART:20171105T060000
END:STANDARD
END:VTIMEZONE
BEGIN:VEVENT
DTSTART;TZID=America/New_York:20170809T091500
DTEND;TZID=America/New_York:20170809T111500
DTSTAMP:20210404T195402
CREATED:20170809T131500Z
LAST-MODIFIED:20191201T042040Z
UID:361571-1502270100-1502277300@www.patriotguard.org
SUMMARY:State Mission Request for 09 Aug 2017 from Florida - Angeline M. Davoli Nichols
DESCRIPTION:Submitted by:\nMember Name:   Ray Doyle\nPosition:   Ride Captain\nCity\, State:   Crestview\, Florida\nUser Name:   Talon Chief\nEmail:   retonaharley@gmail.com\n \nEmail Subject Line Setup\n\nPrefix to Use – Honor\nSubject Line –   Angeline M. Davoli Nichols \, Veteran\, USA \, ANC – WWII\,  Pensacola\, Florida  – 09 Aug 2017\n\n\n\n\n\n\n\n\n \n\nMod Instructions:\n\n\n++++++++ Copy the Information above this line++++++++++\n\n \nHonor Mission\n\n*** DO NOT REPLY *** \nThis is an automated message sent to you because you have subscribed to this State’s Mission thread. For current details on this mission\, please follow the link below. \nAngeline M. Davoli Nichols\, Veteran \nUSA ANC  – WWII\nPensacola\, Florida – 09 Aug 2017\n \n\n\nABOUT THE MISSION:\nThe family of 1st Lt. Angeline M. Davoli graciously invited the Patriot Guard to escort her from St Paul Catholic Church to Bayview Memorial Park Mausoleum.  The Patriot Guard is honored to escort Lt Davoli and stand for her during entombment and Military Honors. Lt Davoli entered the US Army as a nurse on 1 Feb. 1945. Among other assignments she served aboard the 235th Hospital Ship earning the American Campaign Medal\, the European African\, Middle Eastern Campaign Medal\, and the World War II Victory Medal.\n\nPRIMARY STAGING DETAILS:  09 Aug 2017\n\nPrimary Staging Time:  1015 A.M.\nMcDonald’s\, 815 Cervantes St\,\nPensacola\, Florida –\n  \n\nRide Captain:\nRay Doyle CMSgt (Ret) USAF\nretonaharley@gmail.com\n850 902 0123\n\nSpecial Instructions:\nNote: It is suggested that you wear long sleeve shirts\, long fingered gloves\, long trousers\, DOT approved helmets\, leather footwear covering the ankles\, and appropriate eye wear while operating a motorcycle as part of the PGR. \n1100 – Safety Briefing for all riders\n1115 – KSU to St Paul Catholic Church\, 3131Hyde Park Rd\, Pensacola\, FL\n1130 – Arrive St. Paul Catholic Church\n1200 – Roll Time to for Bayview Memorial Park Mausoleum\, 3351 Scenic Hwy\, Pensacola Fl. w/LEO\nTBD – Entombment and Military Honors\, Bayview Memorial Park Mausoleum\n\nFlags & Water:\nFlags Will Be Provided\nIf you have large bike flags\, please bring them.\nWater will be provided. \nSubmitted By:  Ray Doyle\nPosition:  Ride Captain \n\nNote:\nYou do not have to own/ride a motorcycle or be a Veteran to join and membership is Free. The only requirement is RESPECT! To join\, simply go to www.PatriotGuard.org and click on Register. Membership is Free. \nTo subscribe to receive mission notices\, log into the National Site and click on the Mission Tab at the top. Select Upcoming Missions by State. Scroll to the state(s) you would like to receive notices for and click on the green check mark. Detailed instructions are also located in the FAQs on the site by clicking on the Quick Links Tab and selecting FAQs.
URL:https://www.patriotguard.org/mission/state-mission-request-for-09-aug-2017-from-florida-angeline-m-davoli-nichols/
LOCATION:Alan Rothacker
END:VEVENT
END:VCALENDAR