BEGIN:VCALENDAR
VERSION:2.0
PRODID:-//Patriot Guard Riders - ECPv5.3.2.1//NONSGML v1.0//EN
CALSCALE:GREGORIAN
METHOD:PUBLISH
X-WR-CALNAME:Patriot Guard Riders
X-ORIGINAL-URL:https://www.patriotguard.org
X-WR-CALDESC:Events for Patriot Guard Riders
BEGIN:VTIMEZONE
TZID:America/New_York
BEGIN:DAYLIGHT
TZOFFSETFROM:-0500
TZOFFSETTO:-0400
TZNAME:EDT
DTSTART:20170312T070000
END:DAYLIGHT
BEGIN:STANDARD
TZOFFSETFROM:-0400
TZOFFSETTO:-0500
TZNAME:EST
DTSTART:20171105T060000
END:STANDARD
END:VTIMEZONE
BEGIN:VEVENT
DTSTART;TZID=America/New_York:20170908T140000
DTEND;TZID=America/New_York:20170908T160000
DTSTAMP:20210404T183417
CREATED:20170908T180000Z
LAST-MODIFIED:20191201T041638Z
UID:359477-1504879200-1504886400@www.patriotguard.org
SUMMARY:State Mission Request for 08 Sep 2017 from Missouri - IC2 Logan S. Palmer
DESCRIPTION:Submitted by: \n\nMember Name: Judi Hamilton\nPosition: Ride Captain\nCity\, State: Vergennes\, Illinois\nUser Name: Judi\nEmail: larryjudi89@gmail.com\n\nEmail Subject Line Setup\n[HR][/HR]Prefix to Use – Honor\nSubject Line – SHORT NOTICE –  IC2 Logan S. Palmer \, Active Duty\, USN  –  MULTI-CITY\, MULTI-STATE  – 08 Sep 2017\n[HR][/HR] \n\nSHORT NOTICE!\nMULTI-CITY! See Mod Instructions for Details\nMULTI-STATE! See Mod Instructions for Details\n\nMod Instructions: \n\nThis is Escort from St .Louis\, MO to Decatur\, IL\n\n++++++++ Copy the Information above this line++++++++++ \n\nHonor Mission\n*** DO NOT REPLY ***  \nIC2 Logan S. Palmer\, Active Duty\nUSN\nMULTI-CITY\, MULTI-STATE – 08 Sep 2017\n\n\n[HR][/HR]\nABOUT THE MISSION: \n\nThe family of Logan Palmer has requested the IL Patriot Guard to participate in honoring his service to this Great Nation at his airport escort\, visitation\, funeral and Interment Services. \nLogan was a cub scout\, boy scout and an Eagle Scout with troop #43\, Decatur. Logan loved servicing in the US Navy.\n \n\nPRIMARY STAGING DETAILS:  08 Sep 2017\nPrimary Staging Time: 2:00 P.M. \n\nSt. Louis Lambert Airport\, St. Louis\, MO \nCell phone lot #2 \nDirections… I-70 west to first airport exit\, right turn to terminal #2\, right lane to air cargo rd.  Cell phone lot #2\nSt. Louis\, Missouri –\n\n\nRide Captain: \n\nMO\, RC: Denny Eads – 314-277-2821 \nIL\, RC: James Roady  217-370-9384\n \n\nSpecial Instructions: \n\n\n\nFlags & Water: \n\nFlags Will Be Provided\nLarge Bike Flags will NOT be needed.\nWater will be provided.\n\nSubmitted By: Judi Hamilton\nPosition: Ride Captain\n[HR][/HR]Note:\nYou do not have to own/ride a motorcycle or be a Veteran to join and membership is Free. The only requirement is RESPECT! To join\, simply go to www.PatriotGuard.org and click on Register. Membership is Free. \nTo subscribe to receive mission notices\, log into the National Site and click on the Mission Tab at the top. Select the Subscribe to Missions option.
URL:https://www.patriotguard.org/mission/state-mission-request-for-08-sep-2017-from-missouri-ic2-logan-s-palmer/
END:VEVENT
END:VCALENDAR