BEGIN:VCALENDAR
VERSION:2.0
PRODID:-//Patriot Guard Riders - ECPv5.3.2.1//NONSGML v1.0//EN
CALSCALE:GREGORIAN
METHOD:PUBLISH
X-WR-CALNAME:Patriot Guard Riders
X-ORIGINAL-URL:https://www.patriotguard.org
X-WR-CALDESC:Events for Patriot Guard Riders
BEGIN:VTIMEZONE
TZID:America/New_York
BEGIN:DAYLIGHT
TZOFFSETFROM:-0500
TZOFFSETTO:-0400
TZNAME:EDT
DTSTART:20170312T070000
END:DAYLIGHT
BEGIN:STANDARD
TZOFFSETFROM:-0400
TZOFFSETTO:-0500
TZNAME:EST
DTSTART:20171105T060000
END:STANDARD
END:VTIMEZONE
BEGIN:VEVENT
DTSTART;TZID=America/New_York:20171008T001500
DTEND;TZID=America/New_York:20171008T021500
DTSTAMP:20210406T040748
CREATED:20171008T041500Z
LAST-MODIFIED:20191201T041246Z
UID:357502-1507421700-1507428900@www.patriotguard.org
SUMMARY:State Mission Request for 08 Oct 2017 from North Carolina - Welcome Home Returning Local Troops
DESCRIPTION:Submitted by: \n\nMember Name: Frank Schronce\nPosition: Ride Captain\nCity\, State: Hope Mills\, North Carolina\nUser Name: gc1man\nEmail: gc1man@aol.com\n\nEmail Subject Line Setup\n[HR][/HR]Prefix to Use – Welcome Home\nSubject Line – SHORT NOTICE –  Welcome Home Returning Local Troops \, Active Duty\, USA  –  Pope AAF\, North Carolina  – 08 Oct 2017\n[HR][/HR] \n\nSHORT NOTICE!\n\nMod Instructions: \n\n\n++++++++ Copy the Information above this line++++++++++ \n\nWelcome Home Mission\n*** DO NOT REPLY ***  \nWelcome Home Returning Local Troops\, Active Duty\nUSA\nPope AAF\, North Carolina – 08 Oct 2017\n\n\n[HR][/HR]\nABOUT THE MISSION: \n\nPatriots \nWe have been invited to attend a Homecoming ceremony for troops who will be returning home after successful deployments\, Sunday\, October 8\, 2017. We will stage for the mission NLT 12:15 AM at Pax Shed #3 at Green Ramp\, Pope Army Air Field which is located on New Hurst Drive. \nhttp://tinyurl.com/pjy6pn7 \nPlease be flexible with regards to these missions as aircraft arrival times change frequently. \nSTAGING:	12:15 AM \nWe will establish a flag line and show our support for our returning Heroes and their families. \nAnyone who does not hold a DOD ID card must access post from the All American Freeway Visitor Control Center and obtain a pass. Remember to allow extra time for check in and that vehicle and persons are subject to search. You will be entering a US military installation so anything that could be considered a weapon should be left at home. If you are riding\, please keep in mind the requirements for documentation and proper PPE; license\, insurance\, registration\, and DOT approved helmet\, eye protection\, long sleeves\, full fingered gloves\, long pants\, over the ankle boots. \nI am honored to be the POC and RCIC for this mission. I will have flags available. \nThank you all for everything you do for our Heroes and their families.\n \n\nPRIMARY STAGING DETAILS:  08 Oct 2017\nPrimary Staging Time: 12:15 A.M. \n\nPax Shed #3\nNew Hurst Dr.\nPope AAF\, North Carolina – 28308\nhttps://goo.gl/maps/CqneD7foa1B2\n\n\nRide Captain: \n\nFrank “Tinman” Schronce\nADC Sandhills district\nNC Patriot Guard Riders\n910-273-5464\ngc1man@aol.com\n\n\nSpecial Instructions: \n\nAnyone who does not hold a DOD ID card must access post from the All American Freeway Visitor Control Center and obtain a pass. Remember to allow extra time for check in and that vehicle and persons are subject to search. You will be entering a US military installation so anything that could be considered a weapon should be left at home. If you are riding\, please keep in mind the requirements for documentation and proper PPE; license\, insurance\, registration\, and DOT approved helmet\, eye protection\, long sleeves\, full fingered gloves\, long pants\, over the ankle boots.\n\n\nFlags & Water: \n\nFlags Will Be Provided\nLarge Bike Flags will NOT be needed.\nWater WILL NOT be provided\, please bring your own.\n\nSubmitted By: Frank Schronce\nPosition: Ride Captain\n[HR][/HR]Note:\nYou do not have to own/ride a motorcycle or be a Veteran to join and membership is Free. The only requirement is RESPECT! To join\, simply go to www.PatriotGuard.org and click on Register. Membership is Free. \nTo subscribe to receive mission notices\, log into the National Site and click on the Mission Tab at the top. Select the Subscribe to Missions option.
URL:https://www.patriotguard.org/mission/state-mission-request-for-08-oct-2017-from-north-carolina-welcome-home-returning-local-troops/
CATEGORIES:Archive
END:VEVENT
END:VCALENDAR