BEGIN:VCALENDAR
VERSION:2.0
PRODID:-//Patriot Guard Riders - ECPv5.3.2.1//NONSGML v1.0//EN
CALSCALE:GREGORIAN
METHOD:PUBLISH
X-WR-CALNAME:Patriot Guard Riders
X-ORIGINAL-URL:https://www.patriotguard.org
X-WR-CALDESC:Events for Patriot Guard Riders
BEGIN:VTIMEZONE
TZID:America/New_York
BEGIN:DAYLIGHT
TZOFFSETFROM:-0500
TZOFFSETTO:-0400
TZNAME:EDT
DTSTART:20170312T070000
END:DAYLIGHT
BEGIN:STANDARD
TZOFFSETFROM:-0400
TZOFFSETTO:-0500
TZNAME:EST
DTSTART:20171105T060000
END:STANDARD
END:VTIMEZONE
BEGIN:VEVENT
DTSTART;TZID=America/New_York:20171008T150000
DTEND;TZID=America/New_York:20171008T170000
DTSTAMP:20210404T114110
CREATED:20171008T190000Z
LAST-MODIFIED:20191201T041247Z
UID:357511-1507474800-1507482000@www.patriotguard.org
SUMMARY:State Mission Request for 08 Oct 2017 from Illinois - Ride In Honor
DESCRIPTION:Submitted by: \n\nMember Name: David Gier\nPosition: Ride Captain\nCity\, State: Crestwood\, Illinois\nUser Name: Bike Dave\nEmail: davidbgier@sbcglobal.net\n\nEmail Subject Line Setup\n[HR][/HR]Prefix to Use – Other\nSubject Line –  Ride In Honor  –  MULTI-CITY\, Illinois  – 08 Oct 2017\n[HR][/HR] \n\nMULTI-CITY! See Mod Instructions for Details\n\nMod Instructions: \n\nthanks\n\n++++++++ Copy the Information above this line++++++++++ \n\nOther Mission\n*** DO NOT REPLY ***  \nRide In Honor\n\nMULTI-CITY\, Illinois – 08 Oct 2017\n\n\n[HR][/HR]\nABOUT THE MISSION: \n\nThe Patriot Guard has been invited to participate in the annual ride to veterans memorials in Springfield and the surrounding area. Stops will include Camp Butler National Cemetery\, Spaulding Veterans Memorial\, Oak Ridge Cemetery\, Vietnam Memorial\, WWII Memorial\, Korean War Memorial\, and the Purple Heart Monument\, and the New Berlin Area Veterans Memorial. The ride will end at the Danenberger Family Vineyards in New Berlin\, IL. All bikes\, cars and trucks are welcome to participate. The fees collected to participate; $10 per bike and $5 for Co-rider will benefit the construction of the Gold Star Families Memorial Monument in Oak Ridge Cemetery near the other monuments mentioned above. Other rider groups and individuals will be participating in this ride. It is a ride only. No flag lines will be established etc.\n\n\nPRIMARY STAGING DETAILS:  08 Oct 2017\nPrimary Staging Time: 1200 P.M. \n\nStaab Funeral Home\n2009 S 5th St\nSpringfield\, Illinois – 62703\n\n\nRide Captain: \n\nASRC: Bruce Martin (217) 629-7660\n\n\nSpecial Instructions: \n\nSign Up at Noon with ride to begin at 1 pm\n\n\nFlags & Water: \n\nFlags Will Not Be Needed\nIf you have large bike flags\, please bring them.\nWater WILL NOT be provided\, please bring your own.\n\nSubmitted By: David Gier\nPosition: Ride Captain\n[HR][/HR]Note:\nYou do not have to own/ride a motorcycle or be a Veteran to join and membership is Free. The only requirement is RESPECT! To join\, simply go to www.PatriotGuard.org and click on Register. Membership is Free. \nTo subscribe to receive mission notices\, log into the National Site and click on the Mission Tab at the top. Select the Subscribe to Missions option.
URL:https://www.patriotguard.org/mission/state-mission-request-for-08-oct-2017-from-illinois-ride-in-honor/
CATEGORIES:Archive
END:VEVENT
END:VCALENDAR