BEGIN:VCALENDAR
VERSION:2.0
PRODID:-//Patriot Guard Riders - ECPv5.3.2.1//NONSGML v1.0//EN
CALSCALE:GREGORIAN
METHOD:PUBLISH
X-WR-CALNAME:Patriot Guard Riders
X-ORIGINAL-URL:https://www.patriotguard.org
X-WR-CALDESC:Events for Patriot Guard Riders
BEGIN:VTIMEZONE
TZID:America/New_York
BEGIN:DAYLIGHT
TZOFFSETFROM:-0500
TZOFFSETTO:-0400
TZNAME:EDT
DTSTART:20170312T070000
END:DAYLIGHT
BEGIN:STANDARD
TZOFFSETFROM:-0400
TZOFFSETTO:-0500
TZNAME:EST
DTSTART:20171105T060000
END:STANDARD
END:VTIMEZONE
BEGIN:VEVENT
DTSTART;TZID=America/New_York:20171108T100000
DTEND;TZID=America/New_York:20171108T120000
DTSTAMP:20210406T040544
CREATED:20171108T150000Z
LAST-MODIFIED:20191201T040848Z
UID:355445-1510135200-1510142400@www.patriotguard.org
SUMMARY:State Mission Request for 08 Nov 2017 from Florida - Hero's without Family
DESCRIPTION:Submitted by: \n\nMember Name: Henry Hyde\nPosition: Assistant State Captain\nCity\, State: Ft.Myers\, Florida\nUser Name: Henry Hyde\nEmail: hhydetkd@yahoo.com\n\nEmail Subject Line Setup\n[HR][/HR]Prefix to Use – Honor\nSubject Line – SHORT NOTICE – American Heroes\, Veteran\, USA – Vietnam\,  Sarasota\, Florida  – 08 Nov 2017\n[HR][/HR] \n\nSHORT NOTICE!\nAmerican Heroes Group Mission!\n\nMod Instructions: \n\nThank for all you do.\n\n++++++++ Copy the Information above this line++++++++++ \n\nHonor Mission\n*** DO NOT REPLY ***  \nAmerican Heroes\, Veteran\nUSA  – Vietnam\nSarasota\, Florida – 08 Nov 2017\n\n\n[HR][/HR]\nABOUT THE MISSION: \n\nSarasota National Cemetery will have a service for two Hero’s without Family.  The First Hero is PFC US Army served 4/27/64 to 1/30/67 Vietnam. Passed 10/18/17\, Our second Hero is SP/4 US Army 11/20/79 to 11/18/83\, Passed 10/23/17. These hero’s served our Great Nation and Us. This is our turn to Stand for these Hero’s\, as they receive Military Honors. Please bring your 3×5 American Flags and Stand in Silent respect for these Hero’s.\n\n\nPRIMARY STAGING DETAILS:  08 Nov 2017\nPrimary Staging Time: 1100 A.M. \n\nSarasota National Cemetery\n9810 SR 72\nSarasota Fl. 34241\nSarasota\, Florida – 34241\n\n\nRide Captain: \n\nBlair McFarlane\nFlockeydad@hotmail.com\n518-527-0588\n\n\nSpecial Instructions: \n\nStage: 1100\nBrief: 1115\nService: 1130\nFlag Line as Determined by R/C\n\n\nFlags & Water: \n\nFlags Will NOT Be Provided\, Please Bring Your Own.\nIf you have large bike flags\, please bring them.\nWater WILL NOT be provided\, please bring your own.\n\nSubmitted By: Henry Hyde\nPosition: Assistant State Captain\n[HR][/HR]Note:\nYou do not have to own/ride a motorcycle or be a Veteran to join and membership is Free. The only requirement is RESPECT! To join\, simply go to www.PatriotGuard.org and click on Register. Membership is Free. \nTo subscribe to receive mission notices\, log into the National Site and click on the Mission Tab at the top. Select the Subscribe to Missions option.
URL:https://www.patriotguard.org/mission/state-mission-request-for-08-nov-2017-from-florida-heros-without-family/
CATEGORIES:Archive
END:VEVENT
END:VCALENDAR