BEGIN:VCALENDAR
VERSION:2.0
PRODID:-//Patriot Guard Riders - ECPv5.3.2.1//NONSGML v1.0//EN
CALSCALE:GREGORIAN
METHOD:PUBLISH
X-WR-CALNAME:Patriot Guard Riders
X-ORIGINAL-URL:https://www.patriotguard.org
X-WR-CALDESC:Events for Patriot Guard Riders
BEGIN:VTIMEZONE
TZID:America/New_York
BEGIN:DAYLIGHT
TZOFFSETFROM:-0500
TZOFFSETTO:-0400
TZNAME:EDT
DTSTART:20170312T070000
END:DAYLIGHT
BEGIN:STANDARD
TZOFFSETFROM:-0400
TZOFFSETTO:-0500
TZNAME:EST
DTSTART:20171105T060000
END:STANDARD
END:VTIMEZONE
BEGIN:VEVENT
DTSTART;TZID=America/New_York:20170308T073000
DTEND;TZID=America/New_York:20170308T093000
DTSTAMP:20210406T003423
CREATED:20170308T123000Z
LAST-MODIFIED:20191201T044053Z
UID:371557-1488958200-1488965400@www.patriotguard.org
SUMMARY:State Mission Request for 08 Mar 2017 from Florida - Hero's without Family
DESCRIPTION:Submitted by:\nMember Name:   Henry Hyde\nPosition:   Assistant State Captain\nCity\, State:   Ft.Myers\, Florida\nUser Name:   Henry Hyde\nEmail:   hhydetkd@yahoo.com\n \nEmail Subject Line Setup\n\nPrefix to Use – Honor\nSubject Line –  American Heroes\, Veteran\, USA\, USN\, USMC\, USCG\, USAF – WWII\, Korea\, Vietnam\,  Sarasota\, Florida  – 08 Mar 2017\n\n\n\n\n\n\n\nAmerican Heroes Group Mission!\n \n\nMod Instructions:\nThank you for all you do Henry\n\n++++++++ Copy the Information above this line++++++++++\n\n \nHonor Mission\n\n*** DO NOT REPLY *** \nThis is an automated message sent to you because you have subscribed to this State’s Mission thread. For current details on this mission\, please follow the link below. \nAmerican Heroes\, Veteran \nUSA\, USN\, USMC\, USCG\, USAF  – WWII\, Korea\, Vietnam\nSarasota\, Florida – 08 Mar 2017\n \n\n\nABOUT THE MISSION:\nOn the second Wednesday of every month\, Sarasota National Cemetery\, honors all those veterans who were buried the month before\, and for some reason didn’t receive Military Honors. This is our time to stand for these hero’s in silent respect as they receive their Military honors\, as they stood for our Great Nation and us.\nPlease bring your 3×5 American Flags and stand for these hero’s.\n\nPRIMARY STAGING DETAILS:  08 Mar 2017\n\nPrimary Staging Time:  0830 A.M.\nSarasota National Cemetery\n9810 SR 72\nSarasota Fl. 34241\nSarasota\, Florida – 34241\n  \n\nRide Captain:\nKim Mc Farlane\nkimbo22762@hotmail.com\n518-527-1564\n\nSpecial Instructions:\nStage: 0830\nBrief: 0845\nService: 0900\nFlag Line as determined by R/C\n\nFlags & Water:\nFlags Will NOT Be Provided\, Please Bring Your Own.\nIf you have large bike flags\, please bring them.\nWater WILL NOT be provided\, please bring your own. \nSubmitted By:  Henry Hyde\nPosition:  Assistant State Captain \n\nNote:\nYou do not have to own/ride a motorcycle or be a Veteran to join and membership is Free. The only requirement is RESPECT! To join\, simply go to Patriot Guard website and click on Register. Membership is Free. \nTo subscribe to receive mission notices\, log into the National Site and click on the Mission Tab at the top. Select Upcoming Missions by State. Scroll to the state(s) you would like to receive notices for and click on the green check mark. Detailed instructions are also located in the FAQs on the site by clicking on the Quick Links Tab and selecting FAQs.
URL:https://www.patriotguard.org/mission/state-mission-request-for-08-mar-2017-from-florida-heros-without-family/
CATEGORIES:Archive
END:VEVENT
END:VCALENDAR