BEGIN:VCALENDAR
VERSION:2.0
PRODID:-//Patriot Guard Riders - ECPv5.3.2.1//NONSGML v1.0//EN
CALSCALE:GREGORIAN
METHOD:PUBLISH
X-WR-CALNAME:Patriot Guard Riders
X-ORIGINAL-URL:https://www.patriotguard.org
X-WR-CALDESC:Events for Patriot Guard Riders
BEGIN:VTIMEZONE
TZID:America/New_York
BEGIN:DAYLIGHT
TZOFFSETFROM:-0500
TZOFFSETTO:-0400
TZNAME:EDT
DTSTART:20170312T070000
END:DAYLIGHT
BEGIN:STANDARD
TZOFFSETFROM:-0400
TZOFFSETTO:-0500
TZNAME:EST
DTSTART:20171105T060000
END:STANDARD
END:VTIMEZONE
BEGIN:VEVENT
DTSTART;TZID=America/New_York:20170308T103000
DTEND;TZID=America/New_York:20170308T123000
DTSTAMP:20210405T231155
CREATED:20170308T153000Z
LAST-MODIFIED:20191201T044001Z
UID:371103-1488969000-1488976200@www.patriotguard.org
SUMMARY:State Mission Request for 08 Mar 2017 from Florida - Frank Vanis
DESCRIPTION:Submitted by:\nMember Name:   David Shelton\nPosition:   Assistant State Captain\nCity\, State:   Saint Cloud\, Florida\nUser Name:   David Shelton\nEmail:   pgrfldavid@gmail.com\n \nEmail Subject Line Setup\n\nPrefix to Use – Honor\nSubject Line – SHORT NOTICE –  Frank Vanis \, Veteran\, USA – Vietnam\,  Bushnell\, Florida  – 08 Mar 2017\n\n\nSHORT NOTICE!\nSTATEWIDE REQUIRED!\n\n\n\n\n \n\nMod Instructions:\n\n\n++++++++ Copy the Information above this line++++++++++\n\n \nHonor Mission\n\n*** DO NOT REPLY *** \nThis is an automated message sent to you because you have subscribed to this State’s Mission thread. For current details on this mission\, please follow the link below. \nFrank Vanis\, Veteran \nUSA  – Vietnam\nBushnell\, Florida – 08 Mar 2017\n \n\n\nABOUT THE MISSION:\nThe family of Frank Vanis has graciously requested the Patriot Guard Rider’s presence as they show their final respects and lay their loved one to rest. \nMr. Vanis faithfully served his Country and served in Vietnam.  Upon completion of his service\, Mr. Vanis received an Honorable Discharge.  No other military related information is available at this time. \nPlease bring your 3 X 5 American Flags and join us as we stand in silent Honor and Respect for our Vietnam Hero and his family.\n\nPRIMARY STAGING DETAILS:  08 Mar 2017\n\nPrimary Staging Time:  1130 A.M.\nFlorida National Cemetery\n6502 SW 102nd Ave.\nBushnell\, Florida – 33513\nhttps://goo.gl/NCulJL  \n\nRide Captain:\nDoug “Easy D” Stone\nDstone34@ymail.com\n352-603-0212\n\nSpecial Instructions:\n1130 hrs – Stage\n1145 hrs – Brief\n1230 hrs – Service\nFlag Line – As determined by Ride Captain\n\nFlags & Water:\nFlags Will NOT Be Provided\, Please Bring Your Own.\nLarge Bike Flags will NOT be needed.\nWater WILL NOT be provided\, please bring your own. \nSubmitted By:  David Shelton\nPosition:  Assistant State Captain \n\nNote:\nYou do not have to own/ride a motorcycle or be a Veteran to join and membership is Free. The only requirement is RESPECT! To join\, simply go to Patriot Guard website and click on Register. Membership is Free. \nTo subscribe to receive mission notices\, log into the National Site and click on the Mission Tab at the top. Select Upcoming Missions by State. Scroll to the state(s) you would like to receive notices for and click on the green check mark. Detailed instructions are also located in the FAQs on the site by clicking on the Quick Links Tab and selecting FAQs.
URL:https://www.patriotguard.org/mission/state-mission-request-for-08-mar-2017-from-florida-frank-vanis/
CATEGORIES:Archive
END:VEVENT
END:VCALENDAR