BEGIN:VCALENDAR
VERSION:2.0
PRODID:-//Patriot Guard Riders - ECPv5.3.2.1//NONSGML v1.0//EN
CALSCALE:GREGORIAN
METHOD:PUBLISH
X-WR-CALNAME:Patriot Guard Riders
X-ORIGINAL-URL:https://www.patriotguard.org
X-WR-CALDESC:Events for Patriot Guard Riders
BEGIN:VTIMEZONE
TZID:America/New_York
BEGIN:DAYLIGHT
TZOFFSETFROM:-0500
TZOFFSETTO:-0400
TZNAME:EDT
DTSTART:20170312T070000
END:DAYLIGHT
BEGIN:STANDARD
TZOFFSETFROM:-0400
TZOFFSETTO:-0500
TZNAME:EST
DTSTART:20171105T060000
END:STANDARD
END:VTIMEZONE
BEGIN:VEVENT
DTSTART;TZID=America/New_York:20170808T121500
DTEND;TZID=America/New_York:20170808T141500
DTSTAMP:20210402T014018
CREATED:20170808T161500Z
LAST-MODIFIED:20191201T041916Z
UID:360866-1502194500-1502201700@www.patriotguard.org
SUMMARY:State Mission Request for 08 Aug 2017 from Georgia - Bonnie E Swancy
DESCRIPTION:Submitted by: \n\nMember Name: Doug Smith\nPosition: Assistant State Captain\nCity\, State: Peachtree Corners\, Georgia\nUser Name: hubey10\nEmail: pgr.dougga@gmail.com\n\nEmail Subject Line Setup\n[HR][/HR]Prefix to Use – Honor\nSubject Line – SHORT NOTICE –  Bonnie E Swancy \, USA – Korea\,  Sandy Springs\, Georgia  – 08 Aug 2017\n[HR][/HR] \n\nSHORT NOTICE!\n\nMod Instructions: \n\n\n++++++++ Copy the Information above this line++++++++++ \n\nHonor Mission\n*** DO NOT REPLY *** \nThis is an automated message sent to you because you have subscribed to this State’s Mission thread. For current details on this mission\, please follow the link below. \nBonnie E Swancy\nUSA  – Korea\nSandy Springs\, Georgia – 08 Aug 2017\n\n\n[HR][/HR]\nABOUT THE MISSION: \n\nThe family of Mr. Bonnie E\, Swancy has asked the Patriot Guard to stand for him. It will be our honor to do so. \nMr. Bonnie E. Swancy\, 86\, a native of Dunwoody died on Monday\, the 14th of August 2017. A member of one of the founding families of Dunwoody\, he served in the U. S. Army during the Korean Conflict. \nWe will stand a flagline from 1:00-2:00\, when the service starts.\nAfter the service\, we will provide a short escort to Arlington Memorial Cemetery\, where we will stand for the graveside service.\n\n\nPRIMARY STAGING DETAILS:  08 Aug 2017\nPrimary Staging Time: 12:15 P.M. \n\nH.M. Patterson & Son-Arlington Chapel\n173 Allen Road NE\nSandy Springs\, Georgia – 30328\nhttps://www.google.com/maps/place/173+Allen+Rd+NE\,+Atlanta\,+GA+30328/@33.9130479\,-84.3843789\,17z/dat\n\n\nRide Captain: \n\nDoug Smith\npgr.dougga@gmail.com\n678-644-4491\nNE GA Asst. State Captain\n\n\nSpecial Instructions: \n\n\n\nFlags & Water: \n\nFlags Will Be Provided\nIf you have large bike flags\, please bring them.\nWater WILL NOT be provided\, please bring your own.\n\nSubmitted By: Doug Smith\nPosition: Assistant State Captain\n[HR][/HR]Note:\nYou do not have to own/ride a motorcycle or be a Veteran to join and membership is Free. The only requirement is RESPECT! To join\, simply go to www.PatriotGuard.org and click on Register. Membership is Free. \nTo subscribe to receive mission notices\, log into the National Site and click on the Mission Tab at the top. Select Upcoming Missions by State. Scroll to the state(s) you would like to receive notices for and click on the green check mark. Detailed instructions are also located in the FAQs on the site by clicking on the Quick Links Tab and selecting FAQs.
URL:https://www.patriotguard.org/mission/state-mission-request-for-08-aug-2017-from-georgia-bonnie-e-swancy/
CATEGORIES:Archive
END:VEVENT
END:VCALENDAR