BEGIN:VCALENDAR
VERSION:2.0
PRODID:-//Patriot Guard Riders - ECPv5.3.2.1//NONSGML v1.0//EN
CALSCALE:GREGORIAN
METHOD:PUBLISH
X-WR-CALNAME:Patriot Guard Riders
X-ORIGINAL-URL:https://www.patriotguard.org
X-WR-CALDESC:Events for Patriot Guard Riders
BEGIN:VTIMEZONE
TZID:America/New_York
BEGIN:DAYLIGHT
TZOFFSETFROM:-0500
TZOFFSETTO:-0400
TZNAME:EDT
DTSTART:20170312T070000
END:DAYLIGHT
BEGIN:STANDARD
TZOFFSETFROM:-0400
TZOFFSETTO:-0500
TZNAME:EST
DTSTART:20171105T060000
END:STANDARD
END:VTIMEZONE
BEGIN:VEVENT
DTSTART;TZID=America/New_York:20170808T151500
DTEND;TZID=America/New_York:20170808T171500
DTSTAMP:20210406T022410
CREATED:20170808T191500Z
LAST-MODIFIED:20191201T042100Z
UID:361741-1502205300-1502212500@www.patriotguard.org
SUMMARY:State Mission Request for 08 Aug 2017 from Florida - LLoyd Franklin King
DESCRIPTION:Submitted by:\nMember Name:   Henry Hyde\nPosition:   Assistant State Captain\nCity\, State:   Ft.Myers\, Florida\nUser Name:   Henry Hyde\nEmail:   hhydetkd@yahoo.com\n \nEmail Subject Line Setup\n\nPrefix to Use – Honor\nSubject Line –   LLoyd Franklin King \, Veteran\, USMC \, USMCR – Vietnam\,  St.Petersburg\, MULTI-STATE  – 08 Aug 2017\n\n\n\n\n\nMULTI-STATE! See Mod Instructions for Details\n\n\n \n\nMod Instructions:\nThanks for all you do.\n\n++++++++ Copy the Information above this line++++++++++\n\n \nHonor Mission\n\n*** DO NOT REPLY *** \nThis is an automated message sent to you because you have subscribed to this State’s Mission thread. For current details on this mission\, please follow the link below. \nLLoyd Franklin King\, Veteran \nUSMC USMCR  – Vietnam\nSt.Petersburg\, MULTI-STATE – 08 Aug 2017\n \n\n\nABOUT THE MISSION:\nThe Family of LCPL Lloyd Franklin King 63\, Has graciously invited the Patriot Guard Riders to attend a service\, as they lay their loved one to rest. LCPL King served in the USMC and Marine Corps Reserve from 9/9/68 to 9/3/74. Upon compleion of service received an Honorable Discharge. LCPL King also served in Vietnam\, as a Machine Gunner. Awars and Decorations National Defense Service Medal\, Vietnam Service Medal and Republic of Vietnam Campaign Ribbon. LCPL King is survived by his wife Natalie. This hero served our Great Nation and Us. Please bring your 3×5 American Flags and Stand in Honor of this hero.\n\nPRIMARY STAGING DETAILS:  08 Aug 2017\n\nPrimary Staging Time:  1215 P.M.\nBay Pines National Cemetery\n10000 Bay Pines Blvd.\nSt.Petersburg Fl. 33708\nSt.Petersburg\, Florida – 33708\n  \n\nRide Captain:\nWilliam Franklin\nGulfrader@comcast.net\n941-350-2547\n\nSpecial Instructions:\nStage: 1215\nBrief: 1230\nService: 1245\nFlag Line as Determined By R/C\n\nFlags & Water:\nFlags Will NOT Be Provided\, Please Bring Your Own.\nIf you have large bike flags\, please bring them.\nWater WILL NOT be provided\, please bring your own. \nSubmitted By:  Henry Hyde\nPosition:  Assistant State Captain \n\nNote:\nYou do not have to own/ride a motorcycle or be a Veteran to join and membership is Free. The only requirement is RESPECT! To join\, simply go to www.PatriotGuard.org and click on Register. Membership is Free. \nTo subscribe to receive mission notices\, log into the National Site and click on the Mission Tab at the top. Select Upcoming Missions by State. Scroll to the state(s) you would like to receive notices for and click on the green check mark. Detailed instructions are also located in the FAQs on the site by clicking on the Quick Links Tab and selecting FAQs.
URL:https://www.patriotguard.org/mission/state-mission-request-for-08-aug-2017-from-florida-lloyd-franklin-king/
LOCATION:Joseph G. Slocum
CATEGORIES:Archive
END:VEVENT
END:VCALENDAR