BEGIN:VCALENDAR
VERSION:2.0
PRODID:-//Patriot Guard Riders - ECPv5.3.2.1//NONSGML v1.0//EN
CALSCALE:GREGORIAN
METHOD:PUBLISH
X-WR-CALNAME:Patriot Guard Riders
X-ORIGINAL-URL:https://www.patriotguard.org
X-WR-CALDESC:Events for Patriot Guard Riders
BEGIN:VTIMEZONE
TZID:America/New_York
BEGIN:DAYLIGHT
TZOFFSETFROM:-0500
TZOFFSETTO:-0400
TZNAME:EDT
DTSTART:20170312T070000
END:DAYLIGHT
BEGIN:STANDARD
TZOFFSETFROM:-0400
TZOFFSETTO:-0500
TZNAME:EST
DTSTART:20171105T060000
END:STANDARD
END:VTIMEZONE
BEGIN:VEVENT
DTSTART;TZID=America/New_York:20170907T204500
DTEND;TZID=America/New_York:20170907T224500
DTSTAMP:20210406T033052
CREATED:20170908T004500Z
LAST-MODIFIED:20191201T041713Z
UID:359788-1504817100-1504824300@www.patriotguard.org
SUMMARY:State Mission Request for 07 Sep 2017 from Texas - Paul Moreno
DESCRIPTION:Submitted by: \n\nMember Name: Vaughn Nelson\nPosition: Ride Captain\nCity\, State: El Paso\, Texas\nUser Name: Nelsonv7769\nEmail: Nelsonv7769@yahoo.com\n\nEmail Subject Line Setup\n[HR][/HR]Prefix to Use – Honor\nSubject Line –  Paul Moreno \, Veteran\, USMC – Korea\,  El Paso\, Texas  – 07 Sep 2017\n[HR][/HR] \n\n\nMod Instructions: \n\n\n++++++++ Copy the Information above this line++++++++++ \n\nHonor Mission\n*** DO NOT REPLY ***  \nPaul Moreno\, Veteran\nUSMC  – Korea\nEl Paso\, Texas – 07 Sep 2017\n\n\n[HR][/HR]\nABOUT THE MISSION: \n\nThe family of Paul Moreno has requested the Far West Texas Patriot Guard Riders to render honors for his interment. \nPaul served six years in the USMC and was a veteran of the Korean War\, earning a Silver Star and numerous Bronze Stars.  In 1953\, Moreno\, who was a Marine recruiter at the time\, was paralyzed after breaking his neck while diving into the Rio Grande. He was left a quadriplegic and had to use a wheelchair.  Elected by Central El Paso voters in 1966\, state Rep. Moreno spent four decades fighting for the underdog\, people with disabilities\, farmworkers\, the sick and poor\, working people – those least likely to have a voice in Austin. \nServices for Paul Moreno are entrusted to Hillcrest Funeral Home – East 1060 N. Carolina\, El Paso\, TX 79915.\n \n\nPRIMARY STAGING DETAILS:  07 Sep 2017\nPrimary Staging Time: 1745 P.M. \n\nSacred Heart Catholic Church\n602 S. Oregon St.\nEl Paso\, Texas – 79901\n\n\nRide Captain: \n\nVaughn Nelson\n(915) 667-9992\nnelsonv7769@yahoo.com \nMission Scheduling:\nPaul Lewey\n(915)433-7000 Cell\n\n\nSpecial Instructions: \n\nIt has been requested by the family that the PGR provide an honors flag line for family and friends attending a visitation and Rosary service at Sacred Heart Catholic Church\, 602 S. Oregon St. El Paso\, TX 79901. \nStaging: 1745hrs.\nBriefing: 1800 hrs.\nFlag Line: 1815 to 1900 hrs.\n\n\nFlags & Water: \n\nFlags Will Be Provided\nIf you have large bike flags\, please bring them.\nWater will be provided.\n\n[HR][/HR]STAGING #2 DETAILS: 08 Sep\, 2017\nStaging #2 Time: 0800 A.M. \n\nHillcrest Funeral Home – East\n1060 N. Carolina\nEl Paso\, Texas – 79915\n\n\nRide Captain: \n\nVaughn Nelson\n(915) 667-9992\nnelsonv7769@yahoo.com \nMission Scheduling:\nPaul Lewey\n(915)433-7000 Cell\n\n\nSpecial Instructions: \n\nRED SHIRT FRIDAY Remember Everyone Deployed \nIt has been requested by the family that the PGR provide an escort from Hillcrest Funeral Home – East 1060 N. Carolina\, El Paso\, TX 79915 to Sacred Heart Catholic Church\, 602 S. Oregon St. El Paso\, TX 79901. \nStaging: 0800 hrs.\nBriefing: 0815 hrs.\nKSU:       0830 hrs.  (approx.) w/EPPD \nAfter the service\, the PGR will provide an escort from Sacred Heart Catholic Church\, 602 S. Oregon St. El Paso\, TX 79901 to Ft. Bliss National Cemetery 5200 Fred Wilson Dr. El Paso\, TX 79906. \nStaging:  0945 hrs.\nBriefing: 1000 hrs.\nKSU:       1015 hrs. (approx.) w/EPPD \nInternment: 1030 hrs East Shelter\nUpon arrival at Ft. Bliss National Cemetery the FWTPGR will establish an Honors Flag line for the family and friends attending the service.\n\n\nFlags & Water: \n\nFlags Will Be Provided\nLarge Bike Flags will be needed\nWater will be provided.\n\n\nSubmitted By: Vaughn Nelson\nPosition: Ride Captain\n[HR][/HR]Note:\nYou do not have to own/ride a motorcycle or be a Veteran to join and membership is Free. The only requirement is RESPECT! To join\, simply go to www.PatriotGuard.org and click on Register. Membership is Free. \nTo subscribe to receive mission notices\, log into the National Site and click on the Mission Tab at the top. Select the Subscribe to Missions option.
URL:https://www.patriotguard.org/mission/state-mission-request-for-07-sep-2017-from-texas-paul-moreno/
CATEGORIES:Archive
END:VEVENT
END:VCALENDAR