BEGIN:VCALENDAR
VERSION:2.0
PRODID:-//Patriot Guard Riders - ECPv5.3.2.1//NONSGML v1.0//EN
CALSCALE:GREGORIAN
METHOD:PUBLISH
X-WR-CALNAME:Patriot Guard Riders
X-ORIGINAL-URL:https://www.patriotguard.org
X-WR-CALDESC:Events for Patriot Guard Riders
BEGIN:VTIMEZONE
TZID:America/New_York
BEGIN:DAYLIGHT
TZOFFSETFROM:-0500
TZOFFSETTO:-0400
TZNAME:EDT
DTSTART:20170312T070000
END:DAYLIGHT
BEGIN:STANDARD
TZOFFSETFROM:-0400
TZOFFSETTO:-0500
TZNAME:EST
DTSTART:20171105T060000
END:STANDARD
END:VTIMEZONE
BEGIN:VEVENT
DTSTART;TZID=America/New_York:20171008T000000
DTEND;TZID=America/New_York:20171008T020000
DTSTAMP:20210404T192601
CREATED:20171008T040000Z
LAST-MODIFIED:20191201T041339Z
UID:357917-1507420800-1507428000@www.patriotguard.org
SUMMARY:State Mission Request for 07 Oct 2017 from Florida - Honor Flight Welcome Home
DESCRIPTION:Submitted by: \n\nMember Name: Bernie Conner\nPosition: Assistant State Captain\nCity\, State: Oviedo\, Florida\nUser Name: Pa Dutchman\nEmail: bc17004@gmail.com\n\nEmail Subject Line Setup\n[HR][/HR]Prefix to Use – HOTH\nSubject Line –  Honor Flight Welcome Home  –  Orlando\, Florida  – 07 Oct 2017\n[HR][/HR] \n\n\nMod Instructions: \n\n\n++++++++ Copy the Information above this line++++++++++ \n\nHOTH Mission\n*** DO NOT REPLY ***  \nHonor Flight Welcome Home\n\nOrlando\, Florida – 07 Oct 2017\n\n\n[HR][/HR]\nABOUT THE MISSION: \n\nPatriot Guard Riders have the honor of standing a Flag Line and welcome home our Heroes of the Greatest Generation from their trip back from Washington D.C.\, after visiting the WWII\, Korean\,& Vietnam Memorials\, Marine Corps Iwo Jima\, Air Force Monuments and Vietnam Wall and witnessing changing of the guard at the Tomb of the Unknowns at Arlington National Cemetery. \nThis flight will have several WWII\, Korean & Vietnam War Veterans with their escorts and medical staff.  Many of us have personally had the honor to be there on several occasions and I can tell you it is a heartwarming experience.  I encourage everyone to come out to the Orlando International Airport to welcome these former warriors home. \nFast Park and Relax is offering free parking and free shuttle service for those who greet the Honor Flights at the Orlando Int’l Airport. \nBriefing will take place at staging area in the building next to the ticket booths as you enter.  After the briefing\, we will ride a shuttle bus to Terminal A and greet these Great Warriors. \nBring your flags\, banners and signs to help welcome our humble WWII\, Korean & Vietnam War Heroes as they return from Washington DC.\n \n\nPRIMARY STAGING DETAILS:  07 Oct 2017\nPrimary Staging Time: 2100 P.M. \n\nFast Park & Relax\n7870 North Frontage Road\nOrlando\, Florida – 32812\nhttps://goo.gl/wPhz5r\n\n\nRide Captain: \n\nRobert “Garfield” Warren\nbusdrvrrlw70@aol.com\n321-945-2589\n\n\nSpecial Instructions: \n\n2100 Stage\n2115 Brief\n2130 Shuttle\n2155 Scheduled Arrival\n\n\nFlags & Water: \n\nFlags Will NOT Be Provided\, Please Bring Your Own.\nLarge Bike Flags will NOT be needed.\nWater WILL NOT be provided\, please bring your own.\n\nSubmitted By: Bernie Conner\nPosition: Assistant State Captain\n[HR][/HR]Note:\nYou do not have to own/ride a motorcycle or be a Veteran to join and membership is Free. The only requirement is RESPECT! To join\, simply go to www.PatriotGuard.org and click on Register. Membership is Free. \nTo subscribe to receive mission notices\, log into the National Site and click on the Mission Tab at the top. Select the Subscribe to Missions option.
URL:https://www.patriotguard.org/mission/state-mission-request-for-07-oct-2017-from-florida-honor-flight-welcome-home/
CATEGORIES:Archive
END:VEVENT
END:VCALENDAR