BEGIN:VCALENDAR
VERSION:2.0
PRODID:-//Patriot Guard Riders - ECPv5.3.2.1//NONSGML v1.0//EN
CALSCALE:GREGORIAN
METHOD:PUBLISH
X-WR-CALNAME:Patriot Guard Riders
X-ORIGINAL-URL:https://www.patriotguard.org
X-WR-CALDESC:Events for Patriot Guard Riders
BEGIN:VTIMEZONE
TZID:America/New_York
BEGIN:DAYLIGHT
TZOFFSETFROM:-0500
TZOFFSETTO:-0400
TZNAME:EDT
DTSTART:20170312T070000
END:DAYLIGHT
BEGIN:STANDARD
TZOFFSETFROM:-0400
TZOFFSETTO:-0500
TZNAME:EST
DTSTART:20171105T060000
END:STANDARD
END:VTIMEZONE
BEGIN:VEVENT
DTSTART;TZID=America/New_York:20171107T083000
DTEND;TZID=America/New_York:20171107T103000
DTSTAMP:20210404T122147
CREATED:20171107T133000Z
LAST-MODIFIED:20191201T040903Z
UID:355587-1510043400-1510050600@www.patriotguard.org
SUMMARY:State Mission Request for 07 Nov 2017 from Georgia - David L. Mourdock
DESCRIPTION:Submitted by: \n\nMember Name: Byron L Hall\nPosition: Ride Captain\nCity\, State: Woodstock\, Georgia\nUser Name: bplayer46\nEmail: bplayer46@gmail.com\n\nEmail Subject Line Setup\n[HR][/HR]Prefix to Use – Honor\nSubject Line –  David L. Mourdock \, Veteran\, USN – WWII\,  MULTI-CITY\, Georgia  – 07 Nov 2017\n[HR][/HR] \n\nMULTI-CITY! See Mod Instructions for Details\n\nMod Instructions: \n\nPlease edit as necessary\n\n++++++++ Copy the Information above this line++++++++++ \n\nHonor Mission\n*** DO NOT REPLY ***  \nDavid L. Mourdock\, Veteran\nUSN  – WWII\nMULTI-CITY\, Georgia – 07 Nov 2017\n\n\n[HR][/HR]\nABOUT THE MISSION: \n\nAmerica has lost another HERO from the Greatest Generation.  David Lee Mourdock was born in Waterville\, Ohio November 19\, 1924.  Inducted into the U.S. Navy January 29\, 1943\, he served in the Amphibious Navy on several Tank Landing Ships (LST’s)\, until his honorable discharge in January\, 1946 after attaining the rank of Boatswain’s Mate First Class (E-6).  He was awarded the Asiatic-Pacific Theatre Campaign Medal (5 stars)\, American Theatre Campaign Medal\, Philippine Liberation Medal\, and Victory Medal. \nThe family of David Mourdock has requested the presence of the Patriot Guard Riders to stand for their loved one and to escort him from the Woodstock Funeral Home to his final place of rest at Georgia National Cemetery\, Canton\, Georgia.  His wife of sixty-nine years\, a high school sweetheart and also a WWII Navy Veteran\, was laid to rest at GNC a few years ago.  They will now be together once again and share all eternity.  I felt honored to accept their request and informed them we are honored to do so.\n \n\nPRIMARY STAGING DETAILS:  07 Nov 2017\nPrimary Staging Time: 8:30 A.M. \n\nWoodstock Funeral Home\n8855 Main Street\nWoodstock\, Georgia – 30188\n\n\nRide Captain: \n\nByron “Gimpy” Hall\nbplayer46@gmail.com\n(770) 883-8175\n\n\nSpecial Instructions: \n\nWe will stand a flag line during visitation from 9 am until the beginning of the service at 9:30 am.  KSU at 10:30 am for LEO assisted escort to GNC.  Service at GNC is scheduled for 11:30 am\n\n\nFlags & Water: \n\nFlags Will Be Provided\nIf you have large bike flags\, please bring them.\nWater WILL NOT be provided\, please bring your own.\n\n[HR][/HR]STAGING #2 DETAILS: 07 Nov\, 2017\nStaging #2 Time: 10:45 A.M. \n\nGeorgia National Cemetery\n1080 Scott Hudgens Drive\nCanton\, Georgia – 30114\n\n\nRide Captain: \n\nByron “Gimpy” Hall\nbplayer46@gmail.com\n(770) 883-8175\n\n\nSpecial Instructions: \n\nIf going direct to GNC\, please stage at the PIC building and await arrival of the escort.  We will move to the assigned shelter at the appropriate time.  Service at GNC is scheduled for 11:30 am\n\n\nFlags & Water: \n\nFlags Will Be Provided\nLarge Bike Flags will NOT be needed\nWater WILL NOT be provided\, please bring your own.\n\n\nSubmitted By: Byron L Hall\nPosition: Ride Captain\n[HR][/HR]Note:\nYou do not have to own/ride a motorcycle or be a Veteran to join and membership is Free. The only requirement is RESPECT! To join\, simply go to www.PatriotGuard.org and click on Register. Membership is Free. \nTo subscribe to receive mission notices\, log into the National Site and click on the Mission Tab at the top. Select the Subscribe to Missions option.
URL:https://www.patriotguard.org/mission/state-mission-request-for-07-nov-2017-from-georgia-david-l-mourdock/
CATEGORIES:Archive
END:VEVENT
END:VCALENDAR