BEGIN:VCALENDAR
VERSION:2.0
PRODID:-//Patriot Guard Riders - ECPv5.3.2.1//NONSGML v1.0//EN
CALSCALE:GREGORIAN
METHOD:PUBLISH
X-WR-CALNAME:Patriot Guard Riders
X-ORIGINAL-URL:https://www.patriotguard.org
X-WR-CALDESC:Events for Patriot Guard Riders
BEGIN:VTIMEZONE
TZID:America/New_York
BEGIN:DAYLIGHT
TZOFFSETFROM:-0500
TZOFFSETTO:-0400
TZNAME:EDT
DTSTART:20170312T070000
END:DAYLIGHT
BEGIN:STANDARD
TZOFFSETFROM:-0400
TZOFFSETTO:-0500
TZNAME:EST
DTSTART:20171105T060000
END:STANDARD
END:VTIMEZONE
BEGIN:VEVENT
DTSTART;TZID=America/New_York:20170307T153000
DTEND;TZID=America/New_York:20170307T173000
DTSTAMP:20210404T153819
CREATED:20170307T203000Z
LAST-MODIFIED:20191201T044014Z
UID:371217-1488900600-1488907800@www.patriotguard.org
SUMMARY:State Mission Request for 07 Mar 2017 from Oklahoma - PO3 Herb Jones
DESCRIPTION:Submitted by:\nMember Name:   David Priest\nPosition:   Ride Captain\nCity\, State:   Tulsa\, Oklahoma\nUser Name:   poppy74107\nEmail:   DWPRACE@COX.NET\n \nEmail Subject Line Setup\n\nPrefix to Use – Memorial\nSubject Line – SHORT NOTICE –  PO3 Herb Jones \, USN – Korea\,  Tulsa\, Oklahoma  – 07 Mar 2017\n\n\nSHORT NOTICE!\nSTATEWIDE REQUIRED!\n\n\n\n\n \n\nMod Instructions:\n\n\n++++++++ Copy the Information above this line++++++++++\n\n \nMemorial Mission\n\n*** DO NOT REPLY *** \nThis is an automated message sent to you because you have subscribed to this State’s Mission thread. For current details on this mission\, please follow the link below. \nPO3 Herb Jones \nUSN  – Korea\nTulsa\, Oklahoma – 07 Mar 2017\n \n\n\nABOUT THE MISSION:\nThe family of PO3 Herb Jones US Navy Korean War Veteran\, have invited the Patriot Guard Riders to stand a Flag Line at his services\nto be held at 1400 hrs Tuesday\, 3 Mar 17 at Woodlake Assembly of God 7100 E 31st St Tulsa\, OK. Upon completion of service\, the family has requested an escort to Floral Haven Cemetery 6500 S 129th E Ave Broken Arrow\, OK for interment. US Navy Honor Guard will conduct military honors.\n\nPRIMARY STAGING DETAILS:  07 Mar 2017\n\nPrimary Staging Time:  1230 P.M.\nQuick Trip\n3050 S. Sheridan Rd.\nNW corner of 31st and Sheridan Rd.\nTulsa\, Oklahoma –\n  \n\nRide Captain:\nRCIC\nJJ ‘Devil Dog’ Moss\njjmoss@cox.net\n918-637-2249\n\nSpecial Instructions:\nMandatory Briefing: 1245\nYOU MUST ATTEND BRIEFING TO RIDE IN ESCORT. \nKSU: 1315\nFlag line Immeediately upon arrival \nWeather: clear low 43 high 65\nDress accordingly and ride within your abilities.\n\nFlags & Water:\nFlags Will Be Provided\nIf you have large bike flags\, please bring them.\nWater WILL NOT be provided\, please bring your own. \nSubmitted By:  David Priest\nPosition:  Ride Captain \n\nNote:\nYou do not have to own/ride a motorcycle or be a Veteran to join and membership is Free. The only requirement is RESPECT! To join\, simply go to Patriot Guard website and click on Register. Membership is Free. \nTo subscribe to receive mission notices\, log into the National Site and click on the Mission Tab at the top. Select Upcoming Missions by State. Scroll to the state(s) you would like to receive notices for and click on the green check mark. Detailed instructions are also located in the FAQs on the site by clicking on the Quick Links Tab and selecting FAQs.
URL:https://www.patriotguard.org/mission/state-mission-request-for-07-mar-2017-from-oklahoma-po3-herb-jones/
CATEGORIES:Archive
END:VEVENT
END:VCALENDAR