BEGIN:VCALENDAR
VERSION:2.0
PRODID:-//Patriot Guard Riders - ECPv5.3.2.1//NONSGML v1.0//EN
CALSCALE:GREGORIAN
METHOD:PUBLISH
X-WR-CALNAME:Patriot Guard Riders
X-ORIGINAL-URL:https://www.patriotguard.org
X-WR-CALDESC:Events for Patriot Guard Riders
BEGIN:VTIMEZONE
TZID:America/New_York
BEGIN:DAYLIGHT
TZOFFSETFROM:-0500
TZOFFSETTO:-0400
TZNAME:EDT
DTSTART:20170312T070000
END:DAYLIGHT
BEGIN:STANDARD
TZOFFSETFROM:-0400
TZOFFSETTO:-0500
TZNAME:EST
DTSTART:20171105T060000
END:STANDARD
END:VTIMEZONE
BEGIN:VEVENT
DTSTART;TZID=America/New_York:20170307T173000
DTEND;TZID=America/New_York:20170307T193000
DTSTAMP:20210401T230151
CREATED:20170307T223000Z
LAST-MODIFIED:20191201T044001Z
UID:371098-1488907800-1488915000@www.patriotguard.org
SUMMARY:State Mission Request for 07 Mar 2017 from Ohio
DESCRIPTION:Submitted by:\nMember Name:   Robert Woods\nPosition:   State Captain\nCity\, State:   West Chester\, Ohio\nUser Name:   RAW\nEmail:   pigpen@cinci.rr.com\n \nEmail Subject Line Setup\n\nPrefix to Use – Honor\nSubject Line – SHORT NOTICE –  WT3c John Robert “Jack Glennon\, Jr.\, 91 \, Veteran\, USN – WWII\,  Parma\, Ohio  – 07 Mar 2017\n\n\nSHORT NOTICE!\nSTATEWIDE REQUIRED!\n\n\n\n\n \n\nMod Instructions:\nEXTREMELY SHORT NOTICE\, Please post as soon as you can\,\nThank you\,\nBob\n\n++++++++ Copy the Information above this line++++++++++\n\n \nHonor Mission\n\n*** DO NOT REPLY *** \nThis is an automated message sent to you because you have subscribed to this State’s Mission thread. For current details on this mission\, please follow the link below. \nWT3c John Robert “Jack Glennon\, Jr.\, 91\, Veteran \nUSN  – WWII\nParma\, Ohio – 07 Mar 2017\n \n\n\nABOUT THE MISSION:\nObituary:  http://tinyurl.com/hg67c3z\n\nPRIMARY STAGING DETAILS:  07 Mar 2017\n\nPrimary Staging Time:  5:30 P.M.\nVisitation:\nMallchok Funeral Home\n5660 Ridge Road\nParma\, Ohio – 44129\nMap Funeral Home to Cemetery:  https://goo.gl/maps/i8q71az2NgD2  \n\nRide Captain:\nDistrict #3 Ride Captain Mike Schrull will be assigned this mission of Honor and Respect.  Please follow his instructions. Remember your 3’x5′ American flags. Please commit to making this mission Ralph needs help. Dress for the weather and stand with your knees at a slight bend.  If you need to contact Ralph\, you can email him at mike@mikeschrull.com\n\nSpecial Instructions:\n** Hypothermia is very serious\, Please\, layer your clothing. Some parts of the mission could be inside ** \nMembers and non-members\, please feel free to attend any portion of this mission you can\, even if it is only for one or two hours. There are no requirements to be a member of the Patriot Guard other than you bring your heart with you to show Honor\, Dignity\, and Respect to those that have defended our freedom past and present. Please make sure you dress per the weather conditions and use your own judgment on how you get safely to and from the mission. \nBob Woods\, State Captain OHPG\n\nFlags & Water:\nFlags Will NOT Be Provided\, Please Bring Your Own.\nLarge Bike Flags will NOT be needed.\nWater WILL NOT be provided\, please bring your own. \n\nSTAGING #2 DETAILS:  08 Mar\, 2017\n\n Staging #2 Time:  10 A.M.\nService:\nMallchok Funeral Home- Parma\, Ohio\nWednesday: 08 March 2017@1100hrs-(11 AM)\nStaging Wednesday:  08 March 2017@1000hrs-(10 AM)\nParma\, Ohio – 44129\nMap Funeral Home to Cemetery:  https://goo.gl/maps/i8q71az2NgD2  \n\nRide Captain:\nDistrict #3 Ride Captain Mike Schrull will be assigned this mission of Honor and Respect.  Please follow his instructions. Remember your 3’x5′ American flags. Please commit to making this mission Ralph needs help. Dress for the weather and stand with your knees at a slight bend.  If you need to contact Ralph\, you can email him at mike@mikeschrull.com\n\nSpecial Instructions:\n** Hypothermia is very serious\, Please\, layer your clothing. Some parts of the mission could be inside ** \nMembers and non-members\, please feel free to attend any portion of this mission you can\, even if it is only for one or two hours. There are no requirements to be a member of the Patriot Guard other than you bring your heart with you to show Honor\, Dignity\, and Respect to those that have defended our freedom past and present. Please make sure you dress per the weather conditions and use your own judgment on how you get safely to and from the mission. \nBob Woods\, State Captain OHPG\n\nFlags & Water:\nFlags Will NOT Be Provided\, Please Bring Your Own.\nLarge Bike Flags will be needed\nWater WILL NOT be provided\, please bring your own. \nSubmitted By:  Robert Woods\nPosition:  State Captain \n\nNote:\nYou do not have to own/ride a motorcycle or be a Veteran to join and membership is Free. The only requirement is RESPECT! To join\, simply go to Patriot Guard website and click on Register. Membership is Free. \nTo subscribe to receive mission notices\, log into the National Site and click on the Mission Tab at the top. Select Upcoming Missions by State. Scroll to the state(s) you would like to receive notices for and click on the green check mark. Detailed instructions are also located in the FAQs on the site by clicking on the Quick Links Tab and selecting FAQs.
URL:https://www.patriotguard.org/mission/state-mission-request-for-07-mar-2017-from-ohio/
CATEGORIES:Archive
END:VEVENT
END:VCALENDAR