BEGIN:VCALENDAR
VERSION:2.0
PRODID:-//Patriot Guard Riders - ECPv5.3.2.1//NONSGML v1.0//EN
CALSCALE:GREGORIAN
METHOD:PUBLISH
X-WR-CALNAME:Patriot Guard Riders
X-ORIGINAL-URL:https://www.patriotguard.org
X-WR-CALDESC:Events for Patriot Guard Riders
BEGIN:VTIMEZONE
TZID:America/New_York
BEGIN:DAYLIGHT
TZOFFSETFROM:-0500
TZOFFSETTO:-0400
TZNAME:EDT
DTSTART:20170312T070000
END:DAYLIGHT
BEGIN:STANDARD
TZOFFSETFROM:-0400
TZOFFSETTO:-0500
TZNAME:EST
DTSTART:20171105T060000
END:STANDARD
END:VTIMEZONE
BEGIN:VEVENT
DTSTART;TZID=America/New_York:20170607T173000
DTEND;TZID=America/New_York:20170607T193000
DTSTAMP:20210404T172518
CREATED:20170607T213000Z
LAST-MODIFIED:20191201T042756Z
UID:365197-1496856600-1496863800@www.patriotguard.org
SUMMARY:State Mission Request for 07 Jun 2017 from Oklahoma - SP4 Michael Jack
DESCRIPTION:Submitted by:\nMember Name:   David Priest\nPosition:   Ride Captain\nCity\, State:   Tulsa\, Oklahoma\nUser Name:   poppy74107\nEmail:   DWPRACE@COX.NET\n \nEmail Subject Line Setup\n\nPrefix to Use – Memorial\nSubject Line – SHORT NOTICE –  SP4 Michael Jack \, Active Duty\, USA  –  MULTI-CITY\, Oklahoma  – 07 Jun 2017\n\n\nSHORT NOTICE!\n\nMULTI-CITY! See Mod Instructions for Details\n\n\n\n \n\nMod Instructions:\n\n\n++++++++ Copy the Information above this line++++++++++\n\n \nMemorial Mission\n\n*** DO NOT REPLY *** \nThis is an automated message sent to you because you have subscribed to this State’s Mission thread. For current details on this mission\, please follow the link below. \nSP4 Michael Jack\, Active Duty \nUSA \nMULTI-CITY\, Oklahoma – 07 Jun 2017\n \n\n\nABOUT THE MISSION:\nTHIS WILL BE A TWO PART MISSION \nPART ONE  07 June 17 \nDIGNATIFIED TRANSFER \nThe family of SP4 Michael Jack US AARMY active duty\, has requested the Pgr to escort the family from Reynolds Funeral Home at 1501 W. Main\, Collinsville\, Ok to Tulsa International Airport\, Tulsa\, Ok. Then after arrival\, escort the family and coach back to Reynolds Funeral Home\, in Collinsville\, Okla. \n\nPART TWO  09 June 17 \nSERVICES \nThe family of SP4 Michael Jack US ARMY active duty has invited the PGR to stand a flag line at his services to be held at Reynolds Funeral Home\, at 1501 nW. Main st. Collinsville\, Ok. at 1100 hours\, Interment  after the service escort to FGNC\, Ft Gibson\, Okla. \nSee staging 2 for information about 09 June 17 staging . \n:\n\nPRIMARY STAGING DETAILS:  07 Jun 2017\n\nPrimary Staging Time:  1430 P.M.\nReynolds Funeral Home\n1501 W Main\nCollinsville\,\, Oklahoma –\n  \n\nRide Captain:\nRCIC\nDavid ‘poppy’ Priest\ndwprace@cox.net\n918-691-0316\n\nSpecial Instructions:\nMANDATORY BRIEFING: 1500 ( 3:00 pm)  YOU MUST ATTEND BRIEFING TO RIDE IN THE ESCORT. \nWeather:  high 82 mostly clear.  Remember to hydrate and dress accordingly and ride to your abilities. \nSPECIAL INSTRUCTIONS IF YOU WANT TO MEET AT THE AIRPORT\, AMERICAN CARGO AREA AT 1600 ANOTHER BRIEFING WILL BE HELD.THE FAMILY AND COACH WILL BE ARRIVING BY 1630\n\nFlags & Water:\nFlags Will Be Provided\nIf you have large bike flags\, please bring them.\nWater will be provided. \n\nSTAGING #2 DETAILS:  09 Jun\, 2017\n\n Staging #2 Time:  0930 A.M.\nPART TWO STAGING\nQuick Trip\nHwy 116 and hwy 169\nOwasso\, Oklahoma –\n  \n\nRide Captain:\nRCIC\nDavid ‘poppy’ Priest\ndwprace@cox.net\n918-691-0316\n\nSpecial Instructions:\nMANDATORY BRIEFING 1000 (10:00 AM)  YOU MUST ATTEND BRIEFING TO RIDE IN THE ESCORT. \nKSU: 1015 \nWeather:  high 85 and partly cloudy\, Remember to hydrate and dress accordingly and ride to your abilities. \nFlag line upon arrival to Reynolds Funeral Home\n\nFlags & Water:\nFlags Will Be Provided\nLarge Bike Flags will be needed\nWater will be provided. \nSubmitted By:  David Priest\nPosition:  Ride Captain \n\nNote:\nYou do not have to own/ride a motorcycle or be a Veteran to join and membership is Free. The only requirement is RESPECT! To join\, simply go to www.PatriotGuard.org and click on Register. Membership is Free. \nTo subscribe to receive mission notices\, log into the National Site and click on the Mission Tab at the top. Select Upcoming Missions by State. Scroll to the state(s) you would like to receive notices for and click on the green check mark. Detailed instructions are also located in the FAQs on the site by clicking on the Quick Links Tab and selecting FAQs.
URL:https://www.patriotguard.org/mission/state-mission-request-for-07-jun-2017-from-oklahoma-sp4-michael-jack/
CATEGORIES:Archive
END:VEVENT
END:VCALENDAR