BEGIN:VCALENDAR
VERSION:2.0
PRODID:-//Patriot Guard Riders - ECPv5.3.2.1//NONSGML v1.0//EN
CALSCALE:GREGORIAN
METHOD:PUBLISH
X-WR-CALNAME:Patriot Guard Riders
X-ORIGINAL-URL:https://www.patriotguard.org
X-WR-CALDESC:Events for Patriot Guard Riders
BEGIN:VTIMEZONE
TZID:America/New_York
BEGIN:DAYLIGHT
TZOFFSETFROM:-0500
TZOFFSETTO:-0400
TZNAME:EDT
DTSTART:20170312T070000
END:DAYLIGHT
BEGIN:STANDARD
TZOFFSETFROM:-0400
TZOFFSETTO:-0500
TZNAME:EST
DTSTART:20171105T060000
END:STANDARD
END:VTIMEZONE
BEGIN:VEVENT
DTSTART;TZID=America/New_York:20170807T111500
DTEND;TZID=America/New_York:20170807T131500
DTSTAMP:20210403T042510
CREATED:20170807T151500Z
LAST-MODIFIED:20191201T041702Z
UID:359700-1502104500-1502111700@www.patriotguard.org
SUMMARY:State Mission Request for 07 Aug 2017 from Colorado - Frank Ralph Rivera
DESCRIPTION:Submitted by: \n\nMember Name: Lisa Menard\nPosition: State Captain\nCity\, State: Thornton\, Colorado\nUser Name: lkwood\nEmail: lkmenard1005@comcast.net\n\nEmail Subject Line Setup\n[HR][/HR]Prefix to Use – Honor\nSubject Line –  Frank Ralph Rivera \, Veteran\, USA  –  Denver\, Colorado  – 07 Aug 2017\n[HR][/HR] \n\n\nMod Instructions: \n\n\n++++++++ Copy the Information above this line++++++++++ \n\nHonor Mission\n*** DO NOT REPLY ***  \nFrank Ralph Rivera\, Veteran\nUSA\nDenver\, Colorado – 07 Aug 2017\n\n\n[HR][/HR]\nABOUT THE MISSION: \n\nThe Patriot Guard Riders have been invited to stand in honor for Frank Ralph Rivera on Thursday\, September 7\, 2017 at Fort Logan National Cemetery\, 3698 S. Sheridan Blvd\, Denver 12:00 Noon at Committal Shelter A. \nMr. Rivera was 78 years old and served in the US Army. He was homeless and has few family members.\n \n\nPRIMARY STAGING DETAILS:  07 Aug 2017\nPrimary Staging Time: 11:15 A.M. \n\nFort Logan National Cemetery Visitors Center\n3698 S. Sheridan Blvd\nDenver\, Colorado –\n\n\nRide Captain: \n\nKen “Nick” Nicholas\nnicktake5@comcast.net\n720-841-3402\n\n\nSpecial Instructions: \n\n11:15 AM – Stage at Fort Logan National Cemetery Visitors Center\n11:30 AM – Mission Briefing\n11:45 AM – Depart for Committal Shelter A to Form the Flag Line\n\n\nFlags & Water: \n\nFlags Will Be Provided\nLarge Bike Flags will NOT be needed.\nWater will be provided.\n\nSubmitted By: Lisa Menard\nPosition: State Captain\n[HR][/HR]Note:\nYou do not have to own/ride a motorcycle or be a Veteran to join and membership is Free. The only requirement is RESPECT! To join\, simply go to www.PatriotGuard.org and click on Register. Membership is Free. \nTo subscribe to receive mission notices\, log into the National Site and click on the Mission Tab at the top. Select the Subscribe to Missions option.
URL:https://www.patriotguard.org/mission/state-mission-request-for-07-aug-2017-from-colorado-frank-ralph-rivera/
LOCATION:Wreaths Across America
CATEGORIES:Archive
END:VEVENT
END:VCALENDAR