BEGIN:VCALENDAR
VERSION:2.0
PRODID:-//Patriot Guard Riders - ECPv5.3.2.1//NONSGML v1.0//EN
CALSCALE:GREGORIAN
METHOD:PUBLISH
X-WR-CALNAME:Patriot Guard Riders
X-ORIGINAL-URL:https://www.patriotguard.org
X-WR-CALDESC:Events for Patriot Guard Riders
BEGIN:VTIMEZONE
TZID:America/New_York
BEGIN:DAYLIGHT
TZOFFSETFROM:-0500
TZOFFSETTO:-0400
TZNAME:EDT
DTSTART:20170312T070000
END:DAYLIGHT
BEGIN:STANDARD
TZOFFSETFROM:-0400
TZOFFSETTO:-0500
TZNAME:EST
DTSTART:20171105T060000
END:STANDARD
END:VTIMEZONE
BEGIN:VEVENT
DTSTART;TZID=America/New_York:20171106T173000
DTEND;TZID=America/New_York:20171106T193000
DTSTAMP:20210403T100314
CREATED:20171106T223000Z
LAST-MODIFIED:20191201T040856Z
UID:355528-1509989400-1509996600@www.patriotguard.org
SUMMARY:State Mission Request for 06 Nov 2017 from Texas - TIMOTHY MICHAEL KEARNEY
DESCRIPTION:Submitted by: \n\nMember Name: Ted Waldron\nPosition: Ride Captain\nCity\, State: Glen Rose\, Texas\nUser Name: Ted43\nEmail: ted43@flash.net\n\nEmail Subject Line Setup\n[HR][/HR]Prefix to Use – Honor\nSubject Line – SHORT NOTICE –  TIMOTHY MICHAEL KEARNEY \, Retired\, USA \, ARNG – Korea\,  Dallas\, Texas  – 06 Nov 2017\n[HR][/HR] \n\nSHORT NOTICE!\n\nMod Instructions: \n\n\n++++++++ Copy the Information above this line++++++++++ \n\nHonor Mission\n*** DO NOT REPLY ***  \nTIMOTHY MICHAEL KEARNEY\, Retired\nUSA ARNG  – Korea\nDallas\, Texas – 06 Nov 2017\n\n\n[HR][/HR]\nABOUT THE MISSION: \n\n6 years Active Duty Army\, 14 years Army National Guard as recruiter\, Korea and Vietnam era veteran.\n\n\nPRIMARY STAGING DETAILS:  06 Nov 2017\nPrimary Staging Time: 1430 P.M. \n\nDallas-Fort Worth National Cemetery\n2000 Mountain Creek Parkway\nDallas\, Texas – 75211\nhttps://goo.gl/maps/66c2Ud4CGFR2\n\n\nRide Captain: \n\nBrian Liberty\nLabliberty@yahoo.com\n(979) 702-9097\n\n\nSpecial Instructions: \n\nStaging will be at the DFW National Public Information Center. A briefing will be held\, honor bikes will be selected\, and then riders will proceed to the appropriate shelter\, set the flags\, and await SFC Kearney\, his family\, and friends. After the service\, flags will be furled\, returned to the storage area\, riders briefed and dismissed.\n\n\nFlags & Water: \n\nFlags Will Be Provided\nIf you have large bike flags\, please bring them.\nWater WILL NOT be provided\, please bring your own.\n\nSubmitted By: Ted Waldron\nPosition: Ride Captain\n[HR][/HR]Note:\nYou do not have to own/ride a motorcycle or be a Veteran to join and membership is Free. The only requirement is RESPECT! To join\, simply go to www.PatriotGuard.org and click on Register. Membership is Free. \nTo subscribe to receive mission notices\, log into the National Site and click on the Mission Tab at the top. Select the Subscribe to Missions option.
URL:https://www.patriotguard.org/mission/state-mission-request-for-06-nov-2017-from-texas-timothy-michael-kearney/
LOCATION:Jerry Wayne Miller
CATEGORIES:Archive
END:VEVENT
END:VCALENDAR