BEGIN:VCALENDAR
VERSION:2.0
PRODID:-//Patriot Guard Riders - ECPv5.3.2.1//NONSGML v1.0//EN
CALSCALE:GREGORIAN
METHOD:PUBLISH
X-WR-CALNAME:Patriot Guard Riders
X-ORIGINAL-URL:https://www.patriotguard.org
X-WR-CALDESC:Events for Patriot Guard Riders
BEGIN:VTIMEZONE
TZID:America/New_York
BEGIN:DAYLIGHT
TZOFFSETFROM:-0500
TZOFFSETTO:-0400
TZNAME:EDT
DTSTART:20170312T070000
END:DAYLIGHT
BEGIN:STANDARD
TZOFFSETFROM:-0400
TZOFFSETTO:-0500
TZNAME:EST
DTSTART:20171105T060000
END:STANDARD
END:VTIMEZONE
BEGIN:VEVENT
DTSTART;TZID=America/New_York:20171106T210000
DTEND;TZID=America/New_York:20171106T230000
DTSTAMP:20210404T175834
CREATED:20171107T020000Z
LAST-MODIFIED:20191201T040907Z
UID:355618-1510002000-1510009200@www.patriotguard.org
SUMMARY:State Mission Request for 06 Nov 2017 from North Carolina - Captain Patrick R Wilson
DESCRIPTION:Submitted by: \n\nMember Name: Charles Bullock\nPosition: Assistant State Captain\nCity\, State: Knightdale\, North Carolina\nUser Name: Charles Bullock\nEmail: charlesbullock540@gmail.com\n\nEmail Subject Line Setup\n[HR][/HR]Prefix to Use – Honor\nSubject Line –  Captain Patrick R Wilson \, Active Duty\, USA – WoT\,  Morrisville\, North Carolina  – 06 Nov 2017\n[HR][/HR] \n\n\nMod Instructions: \n\n\n++++++++ Copy the Information above this line++++++++++ \n\nHonor Mission\n*** DO NOT REPLY ***  \nCaptain Patrick R Wilson\, Active Duty\nUSA  – WoT\nMorrisville\, North Carolina – 06 Nov 2017\n\n\n[HR][/HR]\nABOUT THE MISSION: \n\nWilson\, Patrick Captain Patrick Ronald “Shorty” Wilson\, 51\, of Whispering Pines\, was killed in a traffic accident Monday\, October 30\, 2017 while on assignment in Daegu\, Korea. He was born June 30\, 1966 in Detroit\, Michigan to Christine Jepsen and the late Gary Wilson. Wilson faithfully served his country with 21 years of active duty service in the United States Army\, first enlisting in 1984. His passion and love for his country compelled him to re-enlist in 2003\, following a 12-year break in service. In 2007\, he completed Officer Candidate School followed by Military Police Basic School in 2008. In 2010\, he earned a Bachelor of Arts degree in Intelligence Studies from America Military University. During Wilson’s 21 years of service\, his career took him from Fort Wainwright\, Alaska\, to Fort Bragg\, North Carolina and finally to Joint Base Pearl Harbor-Hickam\, Hawaii and many places in between. In addition to Johnston Atoll\, a one-square-mile island located 860 miles southwest of Hawaii\, Wilson was stationed in Germany for three years as well as deployed to Iraq for Operation Iraqi Freedom and Afghanistan for Operation Enduring Freedom. As a member of the Defense POW/MIA Accounting Agency’s (DPAA) Asia-Pacific Division\, Wilson’s latest mission had taken him to Korea where he was returning the remains of our fallen. His brave service earned him various medals and skill badges\, including a Bronze Star Medal\, a Meritorious Service Medal and 8 Army Commendation Medals. Wilson was a devoted husband\, father\, son\, brother\, and friend. He enjoyed flipping houses\, transforming them into homes. He also enjoyed playing poker\, drinking craft beer and Starbucks coffee. He was honored to be a member of the Masonic Lodge #484 of Southern Pines. He will be deeply missed by all who had the privilege of knowing him.\n\n\nPRIMARY STAGING DETAILS:  06 Nov 2017\nPrimary Staging Time: 9:00 P.M. \n\nSheetz                                                                                        Parking Lot                                                                                 1600 Aviation  Parkway\nMorrisville\, North Carolina – 27560\n\n\nRide Captain: \n\nCharles bullock                                          charlesbullock540@gmail.com                   (919) 906-3641\n\n\nSpecial Instructions: \n\nStage : 9:00 pm                                          Brief :   9:45  pm                                         KSU : Proceed  to RDU Airport Authority   Prepare for Flagline.\n\n\nFlags & Water: \n\nFlags Will Be Provided\nLarge Bike Flags will NOT be needed.\nWater will be provided.\n\nSubmitted By: Charles Bullock\nPosition: Assistant State Captain\n[HR][/HR]Note:\nYou do not have to own/ride a motorcycle or be a Veteran to join and membership is Free. The only requirement is RESPECT! To join\, simply go to www.PatriotGuard.org and click on Register. Membership is Free. \nTo subscribe to receive mission notices\, log into the National Site and click on the Mission Tab at the top. Select the Subscribe to Missions option.
URL:https://www.patriotguard.org/mission/state-mission-request-for-06-nov-2017-from-north-carolina-captain-patrick-r-wilson/
CATEGORIES:Archive
END:VEVENT
END:VCALENDAR