BEGIN:VCALENDAR
VERSION:2.0
PRODID:-//Patriot Guard Riders - ECPv5.3.2.1//NONSGML v1.0//EN
CALSCALE:GREGORIAN
METHOD:PUBLISH
X-WR-CALNAME:Patriot Guard Riders
X-ORIGINAL-URL:https://www.patriotguard.org
X-WR-CALDESC:Events for Patriot Guard Riders
BEGIN:VTIMEZONE
TZID:America/New_York
BEGIN:DAYLIGHT
TZOFFSETFROM:-0500
TZOFFSETTO:-0400
TZNAME:EDT
DTSTART:20170312T070000
END:DAYLIGHT
BEGIN:STANDARD
TZOFFSETFROM:-0400
TZOFFSETTO:-0500
TZNAME:EST
DTSTART:20171105T060000
END:STANDARD
END:VTIMEZONE
BEGIN:VEVENT
DTSTART;TZID=America/New_York:20171106T100000
DTEND;TZID=America/New_York:20171106T120000
DTSTAMP:20210402T020943
CREATED:20171106T150000Z
LAST-MODIFIED:20191201T040902Z
UID:355579-1509962400-1509969600@www.patriotguard.org
SUMMARY:State Mission Request for 06 Nov 2017 from New York - Thomas E. Wojtaszek
DESCRIPTION:Submitted by: \n\nMember Name: Ray Sestak\nPosition: Ride Captain\nCity\, State: Glenmont\, New York\nUser Name: PGRNYMods\nEmail: pgrnymod@gmail.com\n\nEmail Subject Line Setup\n[HR][/HR]Prefix to Use – Honor\nSubject Line – SHORT NOTICE –  Thomas E. Wojtaszek \, Veteran\, USA – WWII\,  North Tonawanda\, New York  – 06 Nov 2017\n[HR][/HR] \n\nSHORT NOTICE!\n\nMod Instructions: \n\n\n++++++++ Copy the Information above this line++++++++++ \n\nHonor Mission\n*** DO NOT REPLY ***  \nThomas E. Wojtaszek\, Veteran\nUSA  – WWII\nNorth Tonawanda\, New York – 06 Nov 2017\n\n\n[HR][/HR]\nABOUT THE MISSION: \n\nWe have been requested to stand in Honor if the US Army Service of Thomas E. Wojtaszek of North Tonawanda\, who passed away on November 2nd. Mr. Wojtaszek served in the Army Signal Corps\, and was stationed at the Western Chemical Center in Utah. His MOS was 648-Radio Repairman\, and he was Honorably Discharged on 16 April 1947 with the rank of Private. Mr. Wojtaszek was awarded the WWII Victory Medal and WWII Honorable Discharge Pin.\nObituary: http://www.wattengel.com/m/obituaries/Thomas-Wojtaszek/Memories\n\n\nPRIMARY STAGING DETAILS:  06 Nov 2017\nPrimary Staging Time: 10:00 A.M. \n\nOur Lady of Czestochowa RC Church\n64 Center Avenue (Oliver & Center)\nNorth Tonawanda\, New York – 14120\n\n\nRide Captain: \n\nBob Woodward\nBobwood2294@gmail.com\n\n\nSpecial Instructions: \n\nFlag Line for arrival of family and friends.\nMass of Christian Burial at 11:00 AM.\nFollowed by Dignified Escort to Mt. Olivet Cemetery\, 4000 Elmwood Avenue\, N. Tonawanda for Burial with Military Honors.\nPlease arrive on time with a clean 3×5 American Flag or US Army flag and dress for the weather.\nPlease ensure your large bike flags are properly placed and securely attached.\nThank you for your effort to help Honor the Military Service of Thomas E. Wojtaszek and to support his loving family.\n\n\nFlags & Water: \n\nFlags Will NOT Be Provided\, Please Bring Your Own.\nIf you have large bike flags\, please bring them.\nWater WILL NOT be provided\, please bring your own.\n\nSubmitted By: Ray Sestak\nPosition: Ride Captain\n[HR][/HR]Note:\nYou do not have to own/ride a motorcycle or be a Veteran to join and membership is Free. The only requirement is RESPECT! To join\, simply go to www.PatriotGuard.org and click on Register. Membership is Free. \nTo subscribe to receive mission notices\, log into the National Site and click on the Mission Tab at the top. Select the Subscribe to Missions option.
URL:https://www.patriotguard.org/mission/state-mission-request-for-06-nov-2017-from-new-york-thomas-e-wojtaszek/
CATEGORIES:Archive
END:VEVENT
END:VCALENDAR